From mboxrd@z Thu Jan 1 00:00:00 1970 Return-Path: Received: from mails.dpdk.org (mails.dpdk.org [217.70.189.124]) by inbox.dpdk.org (Postfix) with ESMTP id 4D0A246AF7 for ; Wed, 9 Jul 2025 08:09:56 +0200 (CEST) Received: from mails.dpdk.org (localhost [127.0.0.1]) by mails.dpdk.org (Postfix) with ESMTP id 467C24013F; Wed, 9 Jul 2025 08:09:56 +0200 (CEST) Received: from mail-yb1-f225.google.com (mail-yb1-f225.google.com [209.85.219.225]) by mails.dpdk.org (Postfix) with ESMTP id C53854013F for ; Wed, 9 Jul 2025 08:09:55 +0200 (CEST) Received: by mail-yb1-f225.google.com with SMTP id 3f1490d57ef6-e81cf6103a6so4810578276.3 for ; Tue, 08 Jul 2025 23:09:55 -0700 (PDT) DKIM-Signature: v=1; a=rsa-sha256; c=relaxed/relaxed; d=iol.unh.edu; s=unh-iol; t=1752041395; x=1752646195; darn=dpdk.org; h=references:in-reply-to:cc:to:from:subject:message-id:date:from:to :cc:subject:date:message-id:reply-to; bh=fHQ52/3DeWqRhSkecynvIf7aYZFJhALaiaN8tvUCY4g=; b=f8g7Ty/cX5i4RLdkV3ogKHB0T9bfI73b0FP759bqHr5vWJp6VNRjCfuoK1ZRnM25TG 0wEC1TYbIfIoL/KwN6K2vDXl33Zqrlol0YbGJu8mDaZ5NR/Q1kvXOVY4zwlaD/2Ohehi gBOsB8pC1tte8S4k8WBBOWHBQ14lXyitF7qoM= X-Google-DKIM-Signature: v=1; a=rsa-sha256; c=relaxed/relaxed; d=1e100.net; s=20230601; t=1752041395; x=1752646195; h=references:in-reply-to:cc:to:from:subject:message-id:date :x-gm-message-state:from:to:cc:subject:date:message-id:reply-to; bh=fHQ52/3DeWqRhSkecynvIf7aYZFJhALaiaN8tvUCY4g=; b=u8/sCRHUovB7U9G79OvffVjVO6nG5Z1iND9Nfj7S6kCeSWhzVokGfGaGGKx1ZVdnh9 YDSWnsdKvR9/KUIjHfuFkYEgYeufPxIFW7Q7Q43vapqkCcO76GXom9FVwE6NaFefFlYV 2dYYtMb4CU62cpTO38lT9gTG1/wXux61JPivNCFDI4K7AtH+uOkpoihxTTM+4TdWhCEQ 3p6H4abMMvWKAST9Okjx2RihUVngWRIxLys0o8zB179UevGxYqvQWyyvfhQcNETbgCa1 MMSECs8GfpjvrpwI7d/nDQgMi+YDCttpv3lfDSvBIo226ouaThOthu74JZEw1yYT1Vzx gjjQ== X-Gm-Message-State: AOJu0Yyl7Enx/SJ0ipRyU42I79FHNvwC8HUMLTlWqOK6Afwr1z/kmUtJ eRFmf4sha4M55ne3zOCxjYSgYqCXUxkv1F5+0D6tXHhg47QbixsxI011qTCiyf7jWSwau4v+L/z 9K7PD9pStO6pI+jR0DomzWsT/088imh3PqhMWaBMKdrGQ X-Gm-Gg: ASbGncvAs/JO23xP2BN9i2di76yAtgm/0vwi6qDNZTs+dR7ZEXRoj23bm7IUgW3ogpE ShIrP+Qorwlic+y6z8gHC+tH52Vgk1IP0CS8lU4OVsJOTntHtnZ1H5DOfh7oorsfG24au6MsxgA Q4HKX/WvZgzsv+BiEAX6FdcJQ8j1pLLBQ6GyYE6FeLft/Y9P2VQgzxNZ/pEK4PdP3HvT9rL2Hsi 1QnVdiZIrRyualxuour5G1vm4GeBpMKFhxkRT5Ev68biKvUk5KNCdb4Xqfz4s13BCixkhoZ+zGS S8N2MnBKKs/tvMij+B2CjkhzYIW2q0hzCvqVKSiQaSG3ARGT7F+xXY1PPa6hyx7efPgKWQ== X-Google-Smtp-Source: AGHT+IHwNHHNrZdoq+gLmFG69l3EEE7y0RQYGKDWQBxfgY4kUkua8a/vBcRlIp4NwgO10Ikq2TCZLbedAPtw X-Received: by 2002:a05:690c:4b03:b0:70e:1771:c165 with SMTP id 00721157ae682-717b1c7a32dmr22493567b3.29.1752041395160; Tue, 08 Jul 2025 23:09:55 -0700 (PDT) Received: from postal.iol.unh.edu (postal.iol.unh.edu. [132.177.123.84]) by smtp-relay.gmail.com with ESMTPS id 00721157ae682-71665b292fdsm3418457b3.35.2025.07.08.23.09.55 (version=TLS1_2 cipher=ECDHE-ECDSA-AES128-GCM-SHA256 bits=128/128); Tue, 08 Jul 2025 23:09:55 -0700 (PDT) X-Relaying-Domain: iol.unh.edu Date: Tue, 08 Jul 2025 23:09:55 -0700 (PDT) Message-ID: <686e07b3.050a0220.8720b.2178SMTPIN_ADDED_MISSING@mx.google.com> Received: from [172.21.0.5] (unknown [172.18.0.240]) by postal.iol.unh.edu (Postfix) with ESMTP id CE1996051830; Wed, 9 Jul 2025 02:09:54 -0400 (EDT) Subject: |SUCCESS| pw154925-154942 [PATCH] [V5,18/18] drivers/net: add hinic3 From: dpdklab@iol.unh.edu To: Test Report Cc: dpdk-test-reports@iol.unh.edu In-Reply-To: <20250702020953.599-19-wff_light@vip.163.com> References: <20250702020953.599-19-wff_light@vip.163.com> Content-Type: text/plain X-BeenThere: test-report@dpdk.org X-Mailman-Version: 2.1.29 Precedence: list List-Id: automatic DPDK test reports List-Unsubscribe: , List-Archive: List-Post: List-Help: List-Subscribe: , Errors-To: test-report-bounces@dpdk.org Test-Label: iol-compile-arm64-testing Test-Status: SUCCESS http://dpdk.org/patch/154942 _Testing PASS_ Submitter: Feifei Wang Date: Wednesday, July 02 2025 02:09:41 DPDK git baseline: Repo:dpdk Branch: master CommitID:ba982f9a1ca9b96ed0394b764f1523d482e963a2 154925-154942 --> testing pass Upstream job id: Generic-DPDK-Compile-Meson#406937 Test environment and result as below: +------------------------------+--------------------+ | Environment | dpdk_meson_compile | +==============================+====================+ | Red Hat Enterprise Linux 9.5 | PASS | +------------------------------+--------------------+ | Ubuntu 20.04 | PASS | +------------------------------+--------------------+ | Fedora Linux 40 | PASS | +------------------------------+--------------------+ | Fedora Linux 41 | PASS | +------------------------------+--------------------+ | Ubuntu 24.04 | PASS | +------------------------------+--------------------+ | Ubuntu 22.04 | PASS | +------------------------------+--------------------+ | CentOS Stream 10 | PASS | +------------------------------+--------------------+ | CentOS Stream 9 | PASS | +------------------------------+--------------------+ | Debian GNU/Linux 12 | PASS | +------------------------------+--------------------+ Red Hat Enterprise Linux 9.5 Kernel: 5.4 Compiler: gcc gcc (GCC) 11.5.0 20240719 (Red Hat 11.5.0-2) Ubuntu 20.04 Kernel: 5.15 Compiler: aarch64-linux-gnu-gcc gcc (Ubuntu 9.4.0-1ubuntu1~20.04.2) 9.4.0 Fedora Linux 40 Kernel: 5.4 Compiler: gcc gcc (GCC) 14.2.1 20240912 (Red Hat 14.2.1-3) Fedora Linux 41 Kernel: 5.4 Compiler: clang gcc (GCC) 14.3.1 20250523 (Red Hat 14.3.1-1) Ubuntu 24.04 Kernel: 5.4 Compiler: gcc gcc (Ubuntu 13.3.0-6ubuntu2~24.04) 13.3.0 Ubuntu 22.04 Kernel: 5.4 Compiler: gcc gcc (Ubuntu 11.4.0-1ubuntu1~22.04) 11.4.0 CentOS Stream 10 Kernel: 5.4 Compiler: gcc gcc (GCC) 14.2.1 20250110 (Red Hat 14.2.1-8) CentOS Stream 9 Kernel: 5.4 Compiler: gcc gcc (GCC) 11.5.0 20240719 (Red Hat 11.5.0-7) Debian GNU/Linux 12 Kernel: 5.4 Compiler: gcc gcc (Debian 12.2.0-14+deb12u1) 12.2.0 To view detailed results, visit: https://lab.dpdk.org/results/dashboard/patchsets/33560/ UNH-IOL DPDK Community Lab To manage your email subscriptions, visit: https://lab.dpdk.org/results/dashboard/preferences/subscriptions/