From: dpdklab@iol.unh.edu
To: Test Report <test-report@dpdk.org>
Cc: dpdk-test-reports@iol.unh.edu
Subject: |SUCCESS| pw155085 [PATCH] [v3] pcapng: allow any protocol link type
Date: Tue, 08 Jul 2025 23:11:26 -0700 (PDT) [thread overview]
Message-ID: <686e080e.050a0220.171dbf.9d9eSMTPIN_ADDED_MISSING@mx.google.com> (raw)
In-Reply-To: <20250708210245.3967578-1-schneide@qti.qualcomm.com>
Test-Label: iol-unit-arm64-testing
Test-Status: SUCCESS
http://dpdk.org/patch/155085
_Testing PASS_
Submitter: Schneide <schneide@qti.qualcomm.com>
Date: Tuesday, July 08 2025 21:02:45
DPDK git baseline: Repo:dpdk
Branch: master
CommitID:e90979eebbea093f6bab2d7c222fc5f5c9a85eff
155085 --> testing pass
Upstream job id: Generic-Unit-Test-DPDK#353937
Test environment and result as below:
+------------------------------+------------------------------+--------------+---------------------------+----------------+
| Environment | cryptodev_sw_snow3g_autotest | lpm_autotest | cryptodev_sw_zuc_autotest | dpdk_unit_test |
+==============================+==============================+==============+===========================+================+
| Debian 12 (arm) | PASS | SKIPPED | PASS | SKIPPED |
+------------------------------+------------------------------+--------------+---------------------------+----------------+
| Ubuntu 20.04 | SKIPPED | PASS | SKIPPED | PASS |
+------------------------------+------------------------------+--------------+---------------------------+----------------+
| CentOS Stream 9 | SKIPPED | SKIPPED | SKIPPED | PASS |
+------------------------------+------------------------------+--------------+---------------------------+----------------+
| CentOS Stream 10 | SKIPPED | SKIPPED | SKIPPED | PASS |
+------------------------------+------------------------------+--------------+---------------------------+----------------+
| Debian GNU/Linux 12 | SKIPPED | SKIPPED | SKIPPED | PASS |
+------------------------------+------------------------------+--------------+---------------------------+----------------+
| Fedora Linux 40 | SKIPPED | SKIPPED | SKIPPED | PASS |
+------------------------------+------------------------------+--------------+---------------------------+----------------+
| Fedora Linux 41 | SKIPPED | SKIPPED | SKIPPED | PASS |
+------------------------------+------------------------------+--------------+---------------------------+----------------+
| Red Hat Enterprise Linux 9.5 | SKIPPED | SKIPPED | SKIPPED | PASS |
+------------------------------+------------------------------+--------------+---------------------------+----------------+
| Ubuntu 24.04 | SKIPPED | SKIPPED | SKIPPED | PASS |
+------------------------------+------------------------------+--------------+---------------------------+----------------+
| Ubuntu 22.04 | SKIPPED | SKIPPED | SKIPPED | PASS |
+------------------------------+------------------------------+--------------+---------------------------+----------------+
Debian 12 (arm)
Kernel: Depends on container host
Compiler: gcc (Debian 12.2.0-14) 12.2.0
Ubuntu 20.04
Kernel: 5.4
Compiler: gcc gcc (Ubuntu 9.4.0-1ubuntu1~20.04.2) 9.4.0
CentOS Stream 9
Kernel: 5.4
Compiler: gcc gcc (GCC) 11.5.0 20240719 (Red Hat 11.5.0-7)
CentOS Stream 10
Kernel: 5.4
Compiler: gcc gcc (GCC) 14.2.1 20250110 (Red Hat 14.2.1-8)
Debian GNU/Linux 12
Kernel: 5.4
Compiler: gcc gcc (Debian 12.2.0-14+deb12u1) 12.2.0
Fedora Linux 40
Kernel: 5.4
Compiler: clang gcc (GCC) 14.2.1 20240912 (Red Hat 14.2.1-3)
Fedora Linux 41
Kernel: 5.4
Compiler: clang gcc (GCC) 14.3.1 20250523 (Red Hat 14.3.1-1)
Red Hat Enterprise Linux 9.5
Kernel: 5.4
Compiler: gcc gcc (GCC) 11.5.0 20240719 (Red Hat 11.5.0-2)
Ubuntu 24.04
Kernel: 5.4
Compiler: gcc gcc (Ubuntu 13.3.0-6ubuntu2~24.04) 13.3.0
Ubuntu 22.04
Kernel: 5.4
Compiler: gcc gcc (Ubuntu 11.4.0-1ubuntu1~22.04) 11.4.0
To view detailed results, visit:
https://lab.dpdk.org/results/dashboard/patchsets/33618/
UNH-IOL DPDK Community Lab
To manage your email subscriptions, visit:
https://lab.dpdk.org/results/dashboard/preferences/subscriptions/
next prev parent reply other threads:[~2025-07-09 6:11 UTC|newest]
Thread overview: 22+ messages / expand[flat|nested] mbox.gz Atom feed top
[not found] <20250708210245.3967578-1-schneide@qti.qualcomm.com>
2025-07-08 20:29 ` |SUCCESS| pw155085 [PATCH v3] pcapng: allow any protocol link type for the interface block qemudev
2025-07-08 20:34 ` qemudev
2025-07-08 21:03 ` checkpatch
2025-07-08 22:23 ` 0-day Robot
2025-07-09 2:08 ` |SUCCESS| pw155085 [PATCH] [v3] pcapng: allow any protocol link type dpdklab
2025-07-09 2:10 ` dpdklab
2025-07-09 2:46 ` dpdklab
2025-07-09 3:22 ` |PENDING| " dpdklab
2025-07-09 3:30 ` |SUCCESS| " dpdklab
2025-07-09 3:34 ` dpdklab
2025-07-09 3:57 ` |PENDING| " dpdklab
2025-07-09 4:12 ` dpdklab
2025-07-09 4:15 ` dpdklab
2025-07-09 4:42 ` dpdklab
2025-07-09 4:54 ` |SUCCESS| " dpdklab
2025-07-09 5:15 ` dpdklab
2025-07-09 6:11 ` dpdklab [this message]
2025-07-09 7:22 ` |WARNING| " dpdklab
2025-07-09 9:40 ` |SUCCESS| " dpdklab
2025-07-09 10:19 ` |WARNING| " dpdklab
2025-07-09 10:48 ` dpdklab
2025-07-09 15:10 ` dpdklab
Reply instructions:
You may reply publicly to this message via plain-text email
using any one of the following methods:
* Save the following mbox file, import it into your mail client,
and reply-to-all from there: mbox
Avoid top-posting and favor interleaved quoting:
https://en.wikipedia.org/wiki/Posting_style#Interleaved_style
* Reply using the --to, --cc, and --in-reply-to
switches of git-send-email(1):
git send-email \
--in-reply-to=686e080e.050a0220.171dbf.9d9eSMTPIN_ADDED_MISSING@mx.google.com \
--to=dpdklab@iol.unh.edu \
--cc=dpdk-test-reports@iol.unh.edu \
--cc=test-report@dpdk.org \
/path/to/YOUR_REPLY
https://kernel.org/pub/software/scm/git/docs/git-send-email.html
* If your mail client supports setting the In-Reply-To header
via mailto: links, try the mailto: link
Be sure your reply has a Subject: header at the top and a blank line
before the message body.
This is a public inbox, see mirroring instructions
for how to clone and mirror all data and code used for this inbox;
as well as URLs for NNTP newsgroup(s).