From mboxrd@z Thu Jan 1 00:00:00 1970 Return-Path: Received: from mails.dpdk.org (mails.dpdk.org [217.70.189.124]) by inbox.dpdk.org (Postfix) with ESMTP id 77C2446AF7 for ; Wed, 9 Jul 2025 08:11:32 +0200 (CEST) Received: from mails.dpdk.org (localhost [127.0.0.1]) by mails.dpdk.org (Postfix) with ESMTP id 7264D4013F; Wed, 9 Jul 2025 08:11:32 +0200 (CEST) Received: from mail-oa1-f100.google.com (mail-oa1-f100.google.com [209.85.160.100]) by mails.dpdk.org (Postfix) with ESMTP id 69E454013F for ; Wed, 9 Jul 2025 08:11:31 +0200 (CEST) Received: by mail-oa1-f100.google.com with SMTP id 586e51a60fabf-2ef60dbaefbso3653217fac.1 for ; Tue, 08 Jul 2025 23:11:31 -0700 (PDT) DKIM-Signature: v=1; a=rsa-sha256; c=relaxed/relaxed; d=iol.unh.edu; s=unh-iol; t=1752041490; x=1752646290; darn=dpdk.org; h=references:in-reply-to:cc:to:from:subject:message-id:date:from:to :cc:subject:date:message-id:reply-to; bh=EqAr7I2oKbqro9HWoZxjmgPowuB7w3NFcWaMAyBgcVI=; b=TjOAyqKplC+jrpLQSiI93a9L3WgO6NH6ggg7QYjhQRCFC8Cr5CDQ1vcu5at1XNijP9 VP7jz0nZVI8K6jrHvy9T4s5s+9CqXr9kI7Jwlp25t8GdbAOhXFNCj0c3twOcL65psIDI j1h6blu/TcBtv3cQTEqfB5IEXyMPNrqDw5M5Y= X-Google-DKIM-Signature: v=1; a=rsa-sha256; c=relaxed/relaxed; d=1e100.net; s=20230601; t=1752041490; x=1752646290; h=references:in-reply-to:cc:to:from:subject:message-id:date :x-gm-message-state:from:to:cc:subject:date:message-id:reply-to; bh=EqAr7I2oKbqro9HWoZxjmgPowuB7w3NFcWaMAyBgcVI=; b=YpoePiuWCkmLZWbmcFrWFXHVoNRywBDYM1BZIn2l7jrSRI4G3m3BY3TpmWYbjWd2Yp gsY29gPbKl7X6LAEfUhhDcncx4AlAyn5OFyr0/PISbviq1RUPxpCRPOsLqnTgfDNS17L xZqM590Ke/XrUr5CcX80Ue5daiNewdaQ57xt6zStiG2Xs/HP8PMLTWwAaeLO+3VuBkJQ AxeNaGMVgaT85v2Ybmt2FzSDaK6DddSNRDNURhm8kxtlm1g7/89yxD/NmDcxg/EDhLKt V/3KwgPviVs39Cqiy1IwFeElWDJlSavZF/n3m6SmIgItR5LlTUJale0ppYfKy4AVvJ0L UwbQ== X-Gm-Message-State: AOJu0YxBjwQq5ywnDslj/jNRvNHi47Je8zyJu6q1Q0fNZBDS4kC5cqWj E4BoD2+/qNDPywmrP8bUFmNBB+ZM0aRSV+vQapyQ/E9S0anEp2/QW6AXjcNZAiCViqnB77KAtlx iqAbA6mETncwmYtIRcDV5ohsj7bGMDWaKTgxp920HH2IGB+UeunoZDtOofFAS X-Gm-Gg: ASbGnct3fjnsx1Tpw/1AWPHDACi0ZGkMNr/TZegqO1N8LONAPs8Wtxh1eieQQG/EU/f c84+PrtaotZz1+NN6khD6NOCJkmJA+J9qRfAWvW6LPBLC81EPvs5gEaeBthf17H1KFDWfbcHTYC 2F6MtfoE7CFUEDGEZaUszfD8/SdF0Ejfzkair0s6OjE4yCIrj7G06gHR6ud8VtLJGktaaS0dT09 6OodW1k6Ged6JWOfmJOl7+9qiFs6oJ4OQl6wRA2LP4ZJtlsPipcXJGU0Tf277f2VhLWLaLj2pbb ohmDF4GsQlfcxXK4FPEL23dpMNzEKX6kOOxnSgPnsfT67Wo= X-Google-Smtp-Source: AGHT+IE2PnIDVW6UI4eZoYfKOUDLCDm9JneanXPPscMqcCrGPRVjqxQg/tGybt8ZQC+z3SS4eln9xxZB7AHZ X-Received: by 2002:a05:6871:2b02:b0:2f7:647b:c6f4 with SMTP id 586e51a60fabf-2fef8708977mr781175fac.22.1752041486294; Tue, 08 Jul 2025 23:11:26 -0700 (PDT) Received: from postal.iol.unh.edu (postal.iol.unh.edu. [2606:4100:3880:1234::84]) by smtp-relay.gmail.com with ESMTPS id 586e51a60fabf-2f78fe54ad0sm779732fac.12.2025.07.08.23.11.26 (version=TLS1_2 cipher=ECDHE-ECDSA-AES128-GCM-SHA256 bits=128/128); Tue, 08 Jul 2025 23:11:26 -0700 (PDT) X-Relaying-Domain: iol.unh.edu Date: Tue, 08 Jul 2025 23:11:26 -0700 (PDT) Message-ID: <686e080e.050a0220.171dbf.9d9eSMTPIN_ADDED_MISSING@mx.google.com> Received: from [172.21.0.5] (unknown [172.18.0.240]) by postal.iol.unh.edu (Postfix) with ESMTP id C0E7A6051830; Wed, 9 Jul 2025 02:11:25 -0400 (EDT) Subject: |SUCCESS| pw155085 [PATCH] [v3] pcapng: allow any protocol link type From: dpdklab@iol.unh.edu To: Test Report Cc: dpdk-test-reports@iol.unh.edu In-Reply-To: <20250708210245.3967578-1-schneide@qti.qualcomm.com> References: <20250708210245.3967578-1-schneide@qti.qualcomm.com> Content-Type: text/plain X-BeenThere: test-report@dpdk.org X-Mailman-Version: 2.1.29 Precedence: list List-Id: automatic DPDK test reports List-Unsubscribe: , List-Archive: List-Post: List-Help: List-Subscribe: , Errors-To: test-report-bounces@dpdk.org Test-Label: iol-unit-arm64-testing Test-Status: SUCCESS http://dpdk.org/patch/155085 _Testing PASS_ Submitter: Schneide Date: Tuesday, July 08 2025 21:02:45 DPDK git baseline: Repo:dpdk Branch: master CommitID:e90979eebbea093f6bab2d7c222fc5f5c9a85eff 155085 --> testing pass Upstream job id: Generic-Unit-Test-DPDK#353937 Test environment and result as below: +------------------------------+------------------------------+--------------+---------------------------+----------------+ | Environment | cryptodev_sw_snow3g_autotest | lpm_autotest | cryptodev_sw_zuc_autotest | dpdk_unit_test | +==============================+==============================+==============+===========================+================+ | Debian 12 (arm) | PASS | SKIPPED | PASS | SKIPPED | +------------------------------+------------------------------+--------------+---------------------------+----------------+ | Ubuntu 20.04 | SKIPPED | PASS | SKIPPED | PASS | +------------------------------+------------------------------+--------------+---------------------------+----------------+ | CentOS Stream 9 | SKIPPED | SKIPPED | SKIPPED | PASS | +------------------------------+------------------------------+--------------+---------------------------+----------------+ | CentOS Stream 10 | SKIPPED | SKIPPED | SKIPPED | PASS | +------------------------------+------------------------------+--------------+---------------------------+----------------+ | Debian GNU/Linux 12 | SKIPPED | SKIPPED | SKIPPED | PASS | +------------------------------+------------------------------+--------------+---------------------------+----------------+ | Fedora Linux 40 | SKIPPED | SKIPPED | SKIPPED | PASS | +------------------------------+------------------------------+--------------+---------------------------+----------------+ | Fedora Linux 41 | SKIPPED | SKIPPED | SKIPPED | PASS | +------------------------------+------------------------------+--------------+---------------------------+----------------+ | Red Hat Enterprise Linux 9.5 | SKIPPED | SKIPPED | SKIPPED | PASS | +------------------------------+------------------------------+--------------+---------------------------+----------------+ | Ubuntu 24.04 | SKIPPED | SKIPPED | SKIPPED | PASS | +------------------------------+------------------------------+--------------+---------------------------+----------------+ | Ubuntu 22.04 | SKIPPED | SKIPPED | SKIPPED | PASS | +------------------------------+------------------------------+--------------+---------------------------+----------------+ Debian 12 (arm) Kernel: Depends on container host Compiler: gcc (Debian 12.2.0-14) 12.2.0 Ubuntu 20.04 Kernel: 5.4 Compiler: gcc gcc (Ubuntu 9.4.0-1ubuntu1~20.04.2) 9.4.0 CentOS Stream 9 Kernel: 5.4 Compiler: gcc gcc (GCC) 11.5.0 20240719 (Red Hat 11.5.0-7) CentOS Stream 10 Kernel: 5.4 Compiler: gcc gcc (GCC) 14.2.1 20250110 (Red Hat 14.2.1-8) Debian GNU/Linux 12 Kernel: 5.4 Compiler: gcc gcc (Debian 12.2.0-14+deb12u1) 12.2.0 Fedora Linux 40 Kernel: 5.4 Compiler: clang gcc (GCC) 14.2.1 20240912 (Red Hat 14.2.1-3) Fedora Linux 41 Kernel: 5.4 Compiler: clang gcc (GCC) 14.3.1 20250523 (Red Hat 14.3.1-1) Red Hat Enterprise Linux 9.5 Kernel: 5.4 Compiler: gcc gcc (GCC) 11.5.0 20240719 (Red Hat 11.5.0-2) Ubuntu 24.04 Kernel: 5.4 Compiler: gcc gcc (Ubuntu 13.3.0-6ubuntu2~24.04) 13.3.0 Ubuntu 22.04 Kernel: 5.4 Compiler: gcc gcc (Ubuntu 11.4.0-1ubuntu1~22.04) 11.4.0 To view detailed results, visit: https://lab.dpdk.org/results/dashboard/patchsets/33618/ UNH-IOL DPDK Community Lab To manage your email subscriptions, visit: https://lab.dpdk.org/results/dashboard/preferences/subscriptions/