From mboxrd@z Thu Jan 1 00:00:00 1970 Return-Path: Received: from mails.dpdk.org (mails.dpdk.org [217.70.189.124]) by inbox.dpdk.org (Postfix) with ESMTP id 05DD646AF7 for ; Wed, 9 Jul 2025 08:24:50 +0200 (CEST) Received: from mails.dpdk.org (localhost [127.0.0.1]) by mails.dpdk.org (Postfix) with ESMTP id F39274013F; Wed, 9 Jul 2025 08:24:49 +0200 (CEST) Received: from mail-qv1-f98.google.com (mail-qv1-f98.google.com [209.85.219.98]) by mails.dpdk.org (Postfix) with ESMTP id 5098E4013F for ; Wed, 9 Jul 2025 08:24:48 +0200 (CEST) Received: by mail-qv1-f98.google.com with SMTP id 6a1803df08f44-6facba680a1so70471036d6.3 for ; Tue, 08 Jul 2025 23:24:48 -0700 (PDT) DKIM-Signature: v=1; a=rsa-sha256; c=relaxed/relaxed; d=iol.unh.edu; s=unh-iol; t=1752042287; x=1752647087; darn=dpdk.org; h=references:in-reply-to:cc:to:from:subject:message-id:date:from:to :cc:subject:date:message-id:reply-to; bh=/3i0dWP2v21ia6kvJXJM4prbhFVESqjtgJj/ZfaedOY=; b=CxPIKhn2XC6dRV8bewqpgm5wD1A4jhvfKNYynZml9V+/OzQ425AJ1yrCwo865RiIcB OseS97MbYICbop6fsc0zcqRYXcH8qkVUuEVJVoIjWMjzLlSJUnOg4vNL0lIgWfASCzpm ytvS7YvBWKATFSfXbmqUh8qMh5lXLjeKvKhcw= X-Google-DKIM-Signature: v=1; a=rsa-sha256; c=relaxed/relaxed; d=1e100.net; s=20230601; t=1752042287; x=1752647087; h=references:in-reply-to:cc:to:from:subject:message-id:date :x-gm-message-state:from:to:cc:subject:date:message-id:reply-to; bh=/3i0dWP2v21ia6kvJXJM4prbhFVESqjtgJj/ZfaedOY=; b=bvjinilimDQKnuBWeLr00ZGgI1B6weTKwMRWGLJ6DuV7BmTJ1wKBskXqnLkBiyMRiV dyuSnoayV7TxhSRMzpkDj9mjPuVlRmgVNpWL7Ya2NhTfQQaW62ZIq3i3++JQ2NatvU7l Coh3vLKryWW+QFBBPh9VWUmgKyTY4JPnqdHDPUYfxttsS8j+Zh67MK7P0/NvQZaXOfJU /E9HGiZHdjQYAWbtxllI6j7tUqkPWYOqQRuiD8JhLqXAG8QOJyKFeicyX3gt9In851k9 EPBpE74gQa2uAVz9wauW4L6+kW0R3lFKes7oqodHl5cOmHjCXfNLLwwp0lcPNVVf0KBL jXPQ== X-Gm-Message-State: AOJu0YwyQtEBp/7eh/j0nn4W30ZnOFc2FykvfgE/vDwEwMtrhNFyUKn7 1yv7WzvdCPiIJQ/0ESb/XU848xdEHLVQ6AuhwqsXO/fuqOWc+OF7ttMbTyMnfFhcDYygeXEeg9j T20QCoKGaaS/4Koi3u/+5kOTQnZfTMrdBbVEKYyKEShCH X-Gm-Gg: ASbGncszwFsmE3iTi8FPU/Yb7vf1UoQLtuLWEkt7HQ/8MoY2xERRWpNO/g1HY5g3XKc h8GXfeTJiWO0O+q5pQs05x6wNMptKhQu0xEccV7aWIjpxxqD3FjXFRmy2/nwW88bhMi3UWH5J9Q LXK7LuHMMN+ElfXU2Wl8mZaTakEzl/9lQp/1l0s6Kv8ozF4BD40mxrEeRmPIM+aNdDbAcBWT08a dmO752+GEOa2fPX1A+hgrGMbTk/vIY0hyOHhrO6vtXIpotf2Bb6Y+YL1QgbB36sDyoADPXPrOk/ w2sKJjoN/Rauj5fuckwrpJ0QIk9hnFGL4JrlIB/QJrDGcTK4Kvj+qBm1z00ajzxoRwBbBQ== X-Google-Smtp-Source: AGHT+IFE5cWprDZi/t3GCFsm0exs9EhMVbBeGbVEXJ7ai1SV8VEINimAn440Xnic0Z86O2ZlLvp8aTCzWaa3 X-Received: by 2002:ad4:5be2:0:b0:6fa:d8bb:294c with SMTP id 6a1803df08f44-7048b969cdfmr20041826d6.14.1752042287552; Tue, 08 Jul 2025 23:24:47 -0700 (PDT) Received: from postal.iol.unh.edu (postal.iol.unh.edu. [132.177.123.84]) by smtp-relay.gmail.com with ESMTPS id 6a1803df08f44-702c4d5b4c3sm6453126d6.64.2025.07.08.23.24.47 (version=TLS1_2 cipher=ECDHE-ECDSA-AES128-GCM-SHA256 bits=128/128); Tue, 08 Jul 2025 23:24:47 -0700 (PDT) X-Relaying-Domain: iol.unh.edu Date: Tue, 08 Jul 2025 23:24:47 -0700 (PDT) Message-ID: <686e0b2f.050a0220.3a9761.1d02SMTPIN_ADDED_MISSING@mx.google.com> Received: from [172.21.0.11] (unknown [172.18.0.240]) by postal.iol.unh.edu (Postfix) with ESMTP id 441AB6051830; Wed, 9 Jul 2025 02:24:47 -0400 (EDT) Subject: |SUCCESS| pw155084 [PATCH] [RFC] add hints to CLAUDE From: dpdklab@iol.unh.edu To: Test Report Cc: dpdk-test-reports@iol.unh.edu In-Reply-To: <20250708190957.10108-1-stephen@networkplumber.org> References: <20250708190957.10108-1-stephen@networkplumber.org> Content-Type: text/plain X-BeenThere: test-report@dpdk.org X-Mailman-Version: 2.1.29 Precedence: list List-Id: automatic DPDK test reports List-Unsubscribe: , List-Archive: List-Post: List-Help: List-Subscribe: , Errors-To: test-report-bounces@dpdk.org Test-Label: iol-abi-testing Test-Status: SUCCESS http://dpdk.org/patch/155084 _Testing PASS_ Submitter: Stephen Hemminger Date: Tuesday, July 08 2025 19:09:41 DPDK git baseline: Repo:dpdk Branch: master CommitID:e90979eebbea093f6bab2d7c222fc5f5c9a85eff 155084 --> testing pass Upstream job id: Generic-DPDK-Compile-ABI#133683 Test environment and result as below: +-------------------------------+----------+ | Environment | abi_test | +===============================+==========+ | Red Hat Enterprise Linux 8.10 | PASS | +-------------------------------+----------+ | CentOS Stream 9 | PASS | +-------------------------------+----------+ | CentOS Stream 10 | PASS | +-------------------------------+----------+ | Debian GNU/Linux 12 | PASS | +-------------------------------+----------+ | Fedora Linux 40 | PASS | +-------------------------------+----------+ | Fedora Linux 41 | PASS | +-------------------------------+----------+ | Red Hat Enterprise Linux 9.5 | PASS | +-------------------------------+----------+ | Ubuntu 24.04 | PASS | +-------------------------------+----------+ | openSUSE Leap 15.6 | PASS | +-------------------------------+----------+ | Ubuntu 22.04 | PASS | +-------------------------------+----------+ Red Hat Enterprise Linux 8.10 Kernel: 5.15 Compiler: gcc gcc (GCC) 8.5.0 20210514 (Red Hat 8.5.0-22) CentOS Stream 9 Kernel: 5.15 Compiler: gcc gcc (GCC) 11.5.0 20240719 (Red Hat 11.5.0-7) CentOS Stream 10 Kernel: 5.15 Compiler: gcc gcc (GCC) 14.2.1 20250110 (Red Hat 14.2.1-8) Debian GNU/Linux 12 Kernel: 5.15 Compiler: gcc gcc (Debian 12.2.0-14+deb12u1) 12.2.0 Fedora Linux 40 Kernel: 5.15 Compiler: clang gcc (GCC) 14.2.1 20240912 (Red Hat 14.2.1-3) Fedora Linux 41 Kernel: 5.15 Compiler: clang gcc (GCC) 14.3.1 20250523 (Red Hat 14.3.1-1) Red Hat Enterprise Linux 9.5 Kernel: 5.15 Compiler: gcc gcc (GCC) 11.5.0 20240719 (Red Hat 11.5.0-2) Ubuntu 24.04 Kernel: 5.15 Compiler: gcc gcc (Ubuntu 13.3.0-6ubuntu2~24.04) 13.3.0 openSUSE Leap 15.6 Kernel: 5.15 Compiler: gcc gcc (SUSE Linux) 7.5.0 Ubuntu 22.04 Kernel: 5.15 Compiler: gcc gcc (Ubuntu 11.4.0-1ubuntu1~22.04) 11.4.0 To view detailed results, visit: https://lab.dpdk.org/results/dashboard/patchsets/33617/ UNH-IOL DPDK Community Lab To manage your email subscriptions, visit: https://lab.dpdk.org/results/dashboard/preferences/subscriptions/