From mboxrd@z Thu Jan 1 00:00:00 1970 Return-Path: Received: from mails.dpdk.org (mails.dpdk.org [217.70.189.124]) by inbox.dpdk.org (Postfix) with ESMTP id 2CC9146AF7 for ; Wed, 9 Jul 2025 08:26:06 +0200 (CEST) Received: from mails.dpdk.org (localhost [127.0.0.1]) by mails.dpdk.org (Postfix) with ESMTP id 2560E4013F; Wed, 9 Jul 2025 08:26:06 +0200 (CEST) Received: from mail-pl1-f227.google.com (mail-pl1-f227.google.com [209.85.214.227]) by mails.dpdk.org (Postfix) with ESMTP id 44E324013F for ; Wed, 9 Jul 2025 08:26:05 +0200 (CEST) Received: by mail-pl1-f227.google.com with SMTP id d9443c01a7336-236192f8770so4529095ad.0 for ; Tue, 08 Jul 2025 23:26:05 -0700 (PDT) DKIM-Signature: v=1; a=rsa-sha256; c=relaxed/relaxed; d=iol.unh.edu; s=unh-iol; t=1752042364; x=1752647164; darn=dpdk.org; h=references:in-reply-to:cc:to:from:subject:message-id:date:from:to :cc:subject:date:message-id:reply-to; bh=togFLq1Ss2NM6WimiTxiHcHj5+3hYgKk3dGcgbnG9yg=; b=VtZ02J5e+pLlrCIF1tWzjcDRRAsMKZGoRSW4Q3B9TMEmrMIIfUTutyKC5jeuglbYpf uC9tQDr37+dbyDkFuvTLRxD+l1/svyI08eC9ok2vkwPlmJRGPHcAN0IjyRVjZEsNez0q cu1QOkQ+Tsn3camLofPbpVTN9NOPMwVIp/OTQ= X-Google-DKIM-Signature: v=1; a=rsa-sha256; c=relaxed/relaxed; d=1e100.net; s=20230601; t=1752042364; x=1752647164; h=references:in-reply-to:cc:to:from:subject:message-id:date :x-gm-message-state:from:to:cc:subject:date:message-id:reply-to; bh=togFLq1Ss2NM6WimiTxiHcHj5+3hYgKk3dGcgbnG9yg=; b=nKKgFCcfbX/fsfEfaWGf5Z2pOnkRNw9QXdqB4h99MxX9KcwgqsFjfh24AhLQlKKGU5 PPyqY1mLx8csjUaCZiLtXSK24hPA4UEoLmsiiGfOLtxOuPMlVSAMseAg6Vn/pPcw+KFM TXoAaSZau0TG74bWCtGaocp52eyk1hJoqDCeCVYA2BTUh3Sv43REB0bRc1ra3OO/STgY 65tYWceWDQA5eXxyxtoHXQCx2yFuIn5ANO2bQKZD8smFHZH2zqdgmS0B/RJ0puN4lEoZ RW02xVXFyZQKPLTRqysjLXccawslmVp89Wv84vp3mI/NObggNvSlEB5dDeMVzYWZVQE4 Mw/g== X-Gm-Message-State: AOJu0YwBvwDULK/O+4IaCSCfM/okhRC0d5pWR/LdEc3WibR2bHrVqFE7 Tl40p7FXhBUtTkFBRrJQfYaDoyj4xP3LQ215CCh01ft+4+pEtXjaRcRCrW/6Q5D5Cv4ns8ugZ38 G0lHbGy+ZNld0af99qa28HkrvA1RmO9RX7MOYdl9iSD6P X-Gm-Gg: ASbGnctjOKJ/3MTHw86WcV8nXYY0rlrcqPT9wotHLoetcUIcDyrKPF1rqn16+7Bn9Qe IwwgrayyJeE5t1Uqt/skYdjZOr9Ub4/Y7H8HGQiXGUN041u05iDIIqQUtkqIezX5gTiroSucmmH +vphBxRuMGznYpICD7zjEszYct+FMuP1Vw+aNQ7Or6iivUZ9PFWGHREktUYDoC2gfpcojDUKSYm 2oh5PGItR3gm0jTFUdho3Pm4KBXpO62YhqdKe87YfA3qpXiGHxJEwvQkPxt8PBbe2MdK/QBKd8P mgzZ7wGsCbrrvhE7AP+rILwqVwYVtHszXlT28POMSefL+1KhBtsu+JFCNWNly24REj+O7g== X-Google-Smtp-Source: AGHT+IG1OtQeuIrpBFcb0w+rhSQ58Na36SWQKEretxk4tYXX4o72ghOSdjr9dSxdi8bpKbF7cST4KrvwHAMw X-Received: by 2002:a17:903:2c5:b0:235:e94b:62dd with SMTP id d9443c01a7336-23dd1b2834bmr84829105ad.12.1752042364392; Tue, 08 Jul 2025 23:26:04 -0700 (PDT) Received: from postal.iol.unh.edu (postal.iol.unh.edu. [132.177.123.84]) by smtp-relay.gmail.com with ESMTPS id d9443c01a7336-23c842b59b9sm5859545ad.7.2025.07.08.23.26.04 (version=TLS1_2 cipher=ECDHE-ECDSA-AES128-GCM-SHA256 bits=128/128); Tue, 08 Jul 2025 23:26:04 -0700 (PDT) X-Relaying-Domain: iol.unh.edu Date: Tue, 08 Jul 2025 23:26:04 -0700 (PDT) Message-ID: <686e0b7c.170a0220.28c4e6.ef84SMTPIN_ADDED_MISSING@mx.google.com> Received: from [172.21.0.5] (unknown [172.18.0.240]) by postal.iol.unh.edu (Postfix) with ESMTP id 61B136051830; Wed, 9 Jul 2025 02:26:03 -0400 (EDT) Subject: |SUCCESS| pw154979-154986 [PATCH] [v7,8/8] bus/dpaa: optimize qman e From: dpdklab@iol.unh.edu To: Test Report Cc: dpdk-test-reports@iol.unh.edu In-Reply-To: <20250703052558.3700573-9-vanshika.shukla@nxp.com> References: <20250703052558.3700573-9-vanshika.shukla@nxp.com> Content-Type: text/plain X-BeenThere: test-report@dpdk.org X-Mailman-Version: 2.1.29 Precedence: list List-Id: automatic DPDK test reports List-Unsubscribe: , List-Archive: List-Post: List-Help: List-Subscribe: , Errors-To: test-report-bounces@dpdk.org Test-Label: iol-unit-amd64-testing Test-Status: SUCCESS http://dpdk.org/patch/154986 _Testing PASS_ Submitter: Vanshika Shukla Date: Thursday, July 03 2025 05:25:58 DPDK git baseline: Repo:dpdk Branch: master CommitID:ba982f9a1ca9b96ed0394b764f1523d482e963a2 154979-154986 --> testing pass Upstream job id: Generic-VM-Unit-Test-DPDK#29816 Test environment and result as below: +-------------------------------+----------------+ | Environment | dpdk_unit_test | +===============================+================+ | Fedora Linux 40 | PASS | +-------------------------------+----------------+ | Red Hat Enterprise Linux 8.10 | PASS | +-------------------------------+----------------+ | Red Hat Enterprise Linux 9.5 | PASS | +-------------------------------+----------------+ | CentOS Stream 10 | PASS | +-------------------------------+----------------+ | Ubuntu 24.04 | PASS | +-------------------------------+----------------+ | Fedora Linux 41 | PASS | +-------------------------------+----------------+ | CentOS Stream 9 | PASS | +-------------------------------+----------------+ | Debian GNU/Linux 12 | PASS | +-------------------------------+----------------+ | Ubuntu 22.04 | PASS | +-------------------------------+----------------+ | Ubuntu 20.04 | PASS | +-------------------------------+----------------+ | Windows Server 2022 | PASS | +-------------------------------+----------------+ Fedora Linux 40 Kernel: 5.15 Compiler: clang gcc (GCC) 14.2.1 20240912 (Red Hat 14.2.1-3) Red Hat Enterprise Linux 8.10 Kernel: 5.15 Compiler: gcc gcc (GCC) 8.5.0 20210514 (Red Hat 8.5.0-22) Red Hat Enterprise Linux 9.5 Kernel: 5.15 Compiler: gcc gcc (GCC) 11.5.0 20240719 (Red Hat 11.5.0-2) CentOS Stream 10 Kernel: 5.15 Compiler: gcc gcc (GCC) 14.2.1 20250110 (Red Hat 14.2.1-8) Ubuntu 24.04 Kernel: 5.15 Compiler: gcc gcc (Ubuntu 13.3.0-6ubuntu2~24.04) 13.3.0 Fedora Linux 41 Kernel: 5.15 Compiler: gcc gcc (GCC) 14.3.1 20250523 (Red Hat 14.3.1-1) CentOS Stream 9 Kernel: 5.15 Compiler: gcc gcc (GCC) 11.5.0 20240719 (Red Hat 11.5.0-7) Debian GNU/Linux 12 Kernel: 5.15 Compiler: gcc gcc (Debian 12.2.0-14+deb12u1) 12.2.0 Ubuntu 22.04 Kernel: 5.15 Compiler: gcc gcc (Ubuntu 11.4.0-1ubuntu1~22.04) 11.4.0 Ubuntu 20.04 Kernel: 5.15 Compiler: gcc gcc (Ubuntu 9.4.0-1ubuntu1~20.04.2) 9.4.0 Windows Server 2022 Kernel: 10.0.20348.2031 Compiler: clang 15.0.7, gcc 14.1.0 (MinGW), and MSVC VS 19.39.33521 To view detailed results, visit: https://lab.dpdk.org/results/dashboard/patchsets/33576/ UNH-IOL DPDK Community Lab To manage your email subscriptions, visit: https://lab.dpdk.org/results/dashboard/preferences/subscriptions/