From mboxrd@z Thu Jan 1 00:00:00 1970 Return-Path: Received: from mails.dpdk.org (mails.dpdk.org [217.70.189.124]) by inbox.dpdk.org (Postfix) with ESMTP id B58BE46AF7 for ; Wed, 9 Jul 2025 08:29:37 +0200 (CEST) Received: from mails.dpdk.org (localhost [127.0.0.1]) by mails.dpdk.org (Postfix) with ESMTP id B165E4013F; Wed, 9 Jul 2025 08:29:37 +0200 (CEST) Received: from mail-pf1-f228.google.com (mail-pf1-f228.google.com [209.85.210.228]) by mails.dpdk.org (Postfix) with ESMTP id 7BA3D4013F for ; Wed, 9 Jul 2025 08:29:36 +0200 (CEST) Received: by mail-pf1-f228.google.com with SMTP id d2e1a72fcca58-74931666cbcso4236973b3a.0 for ; Tue, 08 Jul 2025 23:29:36 -0700 (PDT) DKIM-Signature: v=1; a=rsa-sha256; c=relaxed/relaxed; d=iol.unh.edu; s=unh-iol; t=1752042575; x=1752647375; darn=dpdk.org; h=references:in-reply-to:cc:to:from:subject:message-id:date:from:to :cc:subject:date:message-id:reply-to; bh=693j7imQhP4DTJnAhn0JkNXKnfFZyBFsC+PYlmLD+0I=; b=B9WC9Ih89QkJgJIXvnqVpPffpaI1nV9uqVVc8uJXOoh87wr36CWaW74m0Mlc1aqW13 pKVTLI/5p72jKxtqKGB9QWEa5zhcz88w05sxRVMGsA6BLFiJ0lJeOgfZrka8EJRii+WN NFSc5JuQKjuReSu70QHnfBpItwQNdzzwTDLik= X-Google-DKIM-Signature: v=1; a=rsa-sha256; c=relaxed/relaxed; d=1e100.net; s=20230601; t=1752042575; x=1752647375; h=references:in-reply-to:cc:to:from:subject:message-id:date :x-gm-message-state:from:to:cc:subject:date:message-id:reply-to; bh=693j7imQhP4DTJnAhn0JkNXKnfFZyBFsC+PYlmLD+0I=; b=CFmz5rZFtQJj5lgBWD8cWDfO6XlwpQzDtyTBLcalt/N9KNPxJ1oAu0U9JVjcEaQRLE 1k/IVhztwbZF/H7bgoZgwk9mzVlusmdHfCML3aL6NX3T3PxfyaWnq+XS92Ym+WRkADVL IUDOEbR+h4sKOG1Pk9dfFx/oIy+dwb+Qp48MGapjMwt1ZSocNa2UnL3uMLEM1khVDeVu Xzs+115qJuihpu/YFdC3Lv1DyeUeYKXBJniXxO80OYRYjeZWRJL1MvOlIhc7MJ1nJrQE liZk2PCOHXYV7X04ikdGG/mJi8f0GZQovT5u/Pooz6VmZmR+nrYl2ISZvbuevA9sx828 MzHw== X-Gm-Message-State: AOJu0YyvF+9tou9qbPD+Niw/G1TLFOiSDHWLO3EO3UqNrZm7iTc0/+nL 5DuRpQuCUXOR57wx1aipokunEnejUTKUDNvS4qVxqFXwxJcythyMArkvotHL5N6gwgUl3r+zc3c Npv5FSL/G87NQyRQZFPthTVXJ9YFU756dLatFpTX2QuqjtPsNXuqQHlxCK+BC X-Gm-Gg: ASbGncuQC9SeHE52c2DWkTo9JkkI+SgWNwy+eSaZfKnjOBW9CIsBB8R0jykXFl7o0St zUmCo4tRR3ICoV04MBX59jIO4DbTurKzDCbImsREvh/eHfAGei4tI8C9xlg/1we7yiL6dO9Eob3 m7wLHeJUx39dr5jtqqQKza5gAALQaHt97i11DPJGhUSRkaA7kc+0KfdbJPWnWsmPGUUx2EARSuC nYxtAGgTRMgNImt+4mgMMDWgooer7/sIQSr7QW4/JvSfpxKqB0p4tciacendCOJbdUmvOxa4A8C cbRlKyh89n3vGhniUYSbdJpNrBeazIlizj+AR46j1lgrWtU= X-Google-Smtp-Source: AGHT+IGZerBEa2qltinu52TbcPiKhiSZwhFTaZmpX4OU2W188ATEFQXrtkwC3dsZdJeT8tbN2EH4495+qGkY X-Received: by 2002:a05:6a00:a94:b0:736:5822:74b4 with SMTP id d2e1a72fcca58-74ea6720c14mr2467064b3a.21.1752042575635; Tue, 08 Jul 2025 23:29:35 -0700 (PDT) Received: from postal.iol.unh.edu (postal.iol.unh.edu. [2606:4100:3880:1234::84]) by smtp-relay.gmail.com with ESMTPS id d2e1a72fcca58-74ce3cfd47asm639213b3a.19.2025.07.08.23.29.35 (version=TLS1_2 cipher=ECDHE-ECDSA-AES128-GCM-SHA256 bits=128/128); Tue, 08 Jul 2025 23:29:35 -0700 (PDT) X-Relaying-Domain: iol.unh.edu Date: Tue, 08 Jul 2025 23:29:35 -0700 (PDT) Message-ID: <686e0c4f.a70a0220.1ec16d.24c3SMTPIN_ADDED_MISSING@mx.google.com> Received: from [172.21.0.5] (unknown [172.18.0.240]) by postal.iol.unh.edu (Postfix) with ESMTP id CE7B76051830; Wed, 9 Jul 2025 02:29:34 -0400 (EDT) Subject: |SUCCESS| pw155084 [PATCH] [RFC] add hints to CLAUDE From: dpdklab@iol.unh.edu To: Test Report Cc: dpdk-test-reports@iol.unh.edu In-Reply-To: <20250708190957.10108-1-stephen@networkplumber.org> References: <20250708190957.10108-1-stephen@networkplumber.org> Content-Type: text/plain X-BeenThere: test-report@dpdk.org X-Mailman-Version: 2.1.29 Precedence: list List-Id: automatic DPDK test reports List-Unsubscribe: , List-Archive: List-Post: List-Help: List-Subscribe: , Errors-To: test-report-bounces@dpdk.org Test-Label: iol-abi-testing Test-Status: SUCCESS http://dpdk.org/patch/155084 _Testing PASS_ Submitter: Stephen Hemminger Date: Tuesday, July 08 2025 19:09:41 DPDK git baseline: Repo:dpdk Branch: master CommitID:e90979eebbea093f6bab2d7c222fc5f5c9a85eff 155084 --> testing pass Upstream job id: Generic-DPDK-Compile-ABI#133679 Test environment and result as below: +-------------------------------+----------+ | Environment | abi_test | +===============================+==========+ | Red Hat Enterprise Linux 8.10 | PASS | +-------------------------------+----------+ | CentOS Stream 9 | PASS | +-------------------------------+----------+ | CentOS Stream 10 | PASS | +-------------------------------+----------+ | Debian GNU/Linux 12 | PASS | +-------------------------------+----------+ | Fedora Linux 40 | PASS | +-------------------------------+----------+ | Fedora Linux 41 | PASS | +-------------------------------+----------+ | Red Hat Enterprise Linux 9.5 | PASS | +-------------------------------+----------+ | Ubuntu 24.04 | PASS | +-------------------------------+----------+ | openSUSE Leap 15.6 | PASS | +-------------------------------+----------+ | Ubuntu 22.04 | PASS | +-------------------------------+----------+ Red Hat Enterprise Linux 8.10 Kernel: 5.15 Compiler: gcc gcc (GCC) 8.5.0 20210514 (Red Hat 8.5.0-22) CentOS Stream 9 Kernel: 5.15 Compiler: gcc gcc (GCC) 11.5.0 20240719 (Red Hat 11.5.0-7) CentOS Stream 10 Kernel: 5.15 Compiler: gcc gcc (GCC) 14.2.1 20250110 (Red Hat 14.2.1-8) Debian GNU/Linux 12 Kernel: 5.15 Compiler: gcc gcc (Debian 12.2.0-14+deb12u1) 12.2.0 Fedora Linux 40 Kernel: 5.15 Compiler: clang gcc (GCC) 14.2.1 20240912 (Red Hat 14.2.1-3) Fedora Linux 41 Kernel: 5.15 Compiler: clang gcc (GCC) 14.3.1 20250523 (Red Hat 14.3.1-1) Red Hat Enterprise Linux 9.5 Kernel: 5.15 Compiler: gcc gcc (GCC) 11.5.0 20240719 (Red Hat 11.5.0-2) Ubuntu 24.04 Kernel: 5.15 Compiler: gcc gcc (Ubuntu 13.3.0-6ubuntu2~24.04) 13.3.0 openSUSE Leap 15.6 Kernel: 5.15 Compiler: gcc gcc (SUSE Linux) 7.5.0 Ubuntu 22.04 Kernel: 5.15 Compiler: gcc gcc (Ubuntu 11.4.0-1ubuntu1~22.04) 11.4.0 To view detailed results, visit: https://lab.dpdk.org/results/dashboard/patchsets/33617/ UNH-IOL DPDK Community Lab To manage your email subscriptions, visit: https://lab.dpdk.org/results/dashboard/preferences/subscriptions/