From mboxrd@z Thu Jan 1 00:00:00 1970 Return-Path: Received: from mails.dpdk.org (mails.dpdk.org [217.70.189.124]) by inbox.dpdk.org (Postfix) with ESMTP id E0B4546AF7 for ; Wed, 9 Jul 2025 08:30:26 +0200 (CEST) Received: from mails.dpdk.org (localhost [127.0.0.1]) by mails.dpdk.org (Postfix) with ESMTP id DA8D04013F; Wed, 9 Jul 2025 08:30:26 +0200 (CEST) Received: from mail-il1-f225.google.com (mail-il1-f225.google.com [209.85.166.225]) by mails.dpdk.org (Postfix) with ESMTP id E9BED4013F for ; Wed, 9 Jul 2025 08:30:24 +0200 (CEST) Received: by mail-il1-f225.google.com with SMTP id e9e14a558f8ab-3df2ccbb895so47798045ab.3 for ; Tue, 08 Jul 2025 23:30:24 -0700 (PDT) DKIM-Signature: v=1; a=rsa-sha256; c=relaxed/relaxed; d=iol.unh.edu; s=unh-iol; t=1752042624; x=1752647424; darn=dpdk.org; h=references:in-reply-to:cc:to:from:subject:message-id:date:from:to :cc:subject:date:message-id:reply-to; bh=grXMv8D38s2nvG76M6L41GGvCSTvx2KEbSRBuvfO/LA=; b=goZhyw3KqvdbVjT1sxebD44VkJAyOkbeBPOymHiKv6a55uTluw4GRGpOqh2Ae1hO0p h7LuDminQfqDSp7DHpftcD6VCWZB824ihaIOqfyjjyI/j7Kev/7v/rbu4p16Ktd/PN46 qYir/1U4wTbcudDxv/cEzHX3e7a1gXd77h6Sg= X-Google-DKIM-Signature: v=1; a=rsa-sha256; c=relaxed/relaxed; d=1e100.net; s=20230601; t=1752042624; x=1752647424; h=references:in-reply-to:cc:to:from:subject:message-id:date :x-gm-message-state:from:to:cc:subject:date:message-id:reply-to; bh=grXMv8D38s2nvG76M6L41GGvCSTvx2KEbSRBuvfO/LA=; b=iI1Qb7jvWf9hv9pIX5P5fV/NuMilMLZwlX89+76le65IhrtY8Z0P3HFmjI6X3gB+D7 5Q78HKyG9wHIpmGul5zAv8W6C0iD+d5QXL3pVX0637qxcAVaJ13lm7mPrZrogmxMqRNP I1lfnuY+acifteg2CLvNyicJLHycHGN+MFSI+316md8Ux2W0E5xUP2S5xewl2eG9kYnI d2Rj37fI44XdN9OYSF92X6W2y6O1GHHrTeX07celdCrrdngoP/VfItcGWBnTHlhBZMq8 UKTAbRenCpiJBLGwDOXYVECReTlTyGmkFvNmNFdrbSww7ssiW2lYkjzRsMrR2vIxw5cp LmFg== X-Gm-Message-State: AOJu0YwORV84sApwWyKKEs6IgUG/DEppkvpL0cuMtUgHR8JHkjXOLoNy 9ThKhyzMmj+Rk/EpNGKcRLGa7g1bt2IseJ+HWhJ5zuK8AUE0GgqpHOU6COHYOhCMWLnyvUy6nwZ sPTV99OSjpftkAvAx3jQgJzjiwfu/8JX8lQUSCtV29cfvoi2lUpG9j0bR8yWG X-Gm-Gg: ASbGncsYqzpw5Zn5xATTTsBjOAZosGoOWWypyzVie0WD/fEi3WrQHeWug6yrpm/cQga DiCcjNHCIPwJBqVYDca+qwPZozV9pK091UT0P/0YVWK4znkjm75qpt7FmCcp/uDUs7vsfljWGMv cPpVD3mHzn+i0CupGNVC0VdjRDfGwsIevY/LtVmqoFYvH0OLsG4H0YtrHT8jYv6th3yP8fBq1Dd dGJ+k/YcKAl1IuIONQPpTqLS3jiu8axiEOAiGu+AzZSSfOMqv0SgeW2gEL7YnnX8lkxChGJPuQT PR97XPX7eT1SGTpXBa0kwTc9eo22voSrvjhIZ0K67mZqSjw= X-Google-Smtp-Source: AGHT+IEEB+5M1OsNAsFyLkhoJzQwOblWQ+OPfMqf/tMtjifmcNI1YM2v482fZ4UplvW4wnyoio6hhR51KuZ5 X-Received: by 2002:a05:6e02:154c:b0:3dd:b523:7abe with SMTP id e9e14a558f8ab-3e1670eaf0amr15666705ab.18.1752042624194; Tue, 08 Jul 2025 23:30:24 -0700 (PDT) Received: from postal.iol.unh.edu (postal.iol.unh.edu. [2606:4100:3880:1234::84]) by smtp-relay.gmail.com with ESMTPS id e9e14a558f8ab-3e0fe2211eesm7320825ab.55.2025.07.08.23.30.24 (version=TLS1_2 cipher=ECDHE-ECDSA-AES128-GCM-SHA256 bits=128/128); Tue, 08 Jul 2025 23:30:24 -0700 (PDT) X-Relaying-Domain: iol.unh.edu Date: Tue, 08 Jul 2025 23:30:24 -0700 (PDT) Message-ID: <686e0c80.050a0220.22cf62.65f0SMTPIN_ADDED_MISSING@mx.google.com> Received: from [172.21.0.7] (unknown [172.18.0.240]) by postal.iol.unh.edu (Postfix) with ESMTP id C9F6E6051830; Wed, 9 Jul 2025 02:30:23 -0400 (EDT) Subject: |WARNING| pw154945-154949 [PATCH] [v3,5/5] dts: add performance test From: dpdklab@iol.unh.edu To: Test Report Cc: dpdk-test-reports@iol.unh.edu In-Reply-To: <20250702052154.381690-5-probb@iol.unh.edu> References: <20250702052154.381690-5-probb@iol.unh.edu> Content-Type: text/plain X-BeenThere: test-report@dpdk.org X-Mailman-Version: 2.1.29 Precedence: list List-Id: automatic DPDK test reports List-Unsubscribe: , List-Archive: List-Post: List-Help: List-Subscribe: , Errors-To: test-report-bounces@dpdk.org Test-Label: iol-compile-amd64-testing Test-Status: WARNING http://dpdk.org/patch/154949 _Testing issues_ Submitter: Patrick Robb Date: Wednesday, July 02 2025 05:21:54 DPDK git baseline: Repo:dpdk Branch: master CommitID:e90979eebbea093f6bab2d7c222fc5f5c9a85eff 154945-154949 --> testing issues Upstream job id: Windows-Compile-DPDK-Native#29666 Test environment and result as below: +-------------------------------+--------------------+-------------------+------------------+-------------------+-------------------------+ | Environment | dpdk_meson_compile | dpdk_compile_spdk | dpdk_compile_ovs | dpdk_msvc_compile | dpdk_llvm_clang_compile | +===============================+====================+===================+==================+===================+=========================+ | CentOS Stream 9 | PASS | PASS | SKIPPED | SKIPPED | SKIPPED | +-------------------------------+--------------------+-------------------+------------------+-------------------+-------------------------+ | CentOS Stream 10 | PASS | SKIPPED | SKIPPED | SKIPPED | SKIPPED | +-------------------------------+--------------------+-------------------+------------------+-------------------+-------------------------+ | Debian GNU/Linux 12 | PASS | PASS | SKIPPED | SKIPPED | SKIPPED | +-------------------------------+--------------------+-------------------+------------------+-------------------+-------------------------+ | Fedora Linux 40 | PASS | PASS | SKIPPED | SKIPPED | SKIPPED | +-------------------------------+--------------------+-------------------+------------------+-------------------+-------------------------+ | Fedora Linux 41 | PASS | WARN | PASS | SKIPPED | SKIPPED | +-------------------------------+--------------------+-------------------+------------------+-------------------+-------------------------+ | openSUSE Leap 15.6 | PASS | SKIPPED | SKIPPED | SKIPPED | SKIPPED | +-------------------------------+--------------------+-------------------+------------------+-------------------+-------------------------+ | Red Hat Enterprise Linux 8.10 | PASS | SKIPPED | SKIPPED | SKIPPED | SKIPPED | +-------------------------------+--------------------+-------------------+------------------+-------------------+-------------------------+ | Red Hat Enterprise Linux 9.5 | PASS | SKIPPED | SKIPPED | SKIPPED | SKIPPED | +-------------------------------+--------------------+-------------------+------------------+-------------------+-------------------------+ | Ubuntu 20.04 | PASS | SKIPPED | SKIPPED | SKIPPED | SKIPPED | +-------------------------------+--------------------+-------------------+------------------+-------------------+-------------------------+ | FreeBSD 14.2 | PASS | SKIPPED | SKIPPED | SKIPPED | SKIPPED | +-------------------------------+--------------------+-------------------+------------------+-------------------+-------------------------+ | Ubuntu 22.04 | PASS | PASS | SKIPPED | SKIPPED | SKIPPED | +-------------------------------+--------------------+-------------------+------------------+-------------------+-------------------------+ | Ubuntu 24.04 | PASS | PASS | PASS | SKIPPED | SKIPPED | +-------------------------------+--------------------+-------------------+------------------+-------------------+-------------------------+ | Alpine Linux 3.22.0 | PASS | SKIPPED | SKIPPED | SKIPPED | SKIPPED | +-------------------------------+--------------------+-------------------+------------------+-------------------+-------------------------+ | Windows Server 2022 | SKIPPED | SKIPPED | SKIPPED | PASS | PASS | +-------------------------------+--------------------+-------------------+------------------+-------------------+-------------------------+ ==== 20 line log output for Fedora Linux 41 (dpdk_compile_spdk): ==== --- Failed to get log output --- ==== End log output ==== CentOS Stream 9 Kernel: 5.15 Compiler: gcc gcc (GCC) 11.5.0 20240719 (Red Hat 11.5.0-7) CentOS Stream 10 Kernel: 5.15 Compiler: gcc gcc (GCC) 14.2.1 20250110 (Red Hat 14.2.1-8) Debian GNU/Linux 12 Kernel: 5.15 Compiler: gcc gcc (Debian 12.2.0-14+deb12u1) 12.2.0 Fedora Linux 40 Kernel: 5.15 Compiler: clang gcc (GCC) 14.2.1 20240912 (Red Hat 14.2.1-3) Fedora Linux 41 Kernel: 5.15 Compiler: gcc gcc (GCC) 14.3.1 20250523 (Red Hat 14.3.1-1) openSUSE Leap 15.6 Kernel: 5.15 Compiler: gcc gcc (SUSE Linux) 7.5.0 Red Hat Enterprise Linux 8.10 Kernel: 5.15 Compiler: gcc gcc (GCC) 8.5.0 20210514 (Red Hat 8.5.0-22) Red Hat Enterprise Linux 9.5 Kernel: 5.15 Compiler: gcc gcc (GCC) 11.5.0 20240719 (Red Hat 11.5.0-2) Ubuntu 20.04 Kernel: 5.15 Compiler: gcc gcc (Ubuntu 9.4.0-1ubuntu1~20.04.2) 9.4.0 FreeBSD 14.2 Kernel: 14.2-RELEASE Compiler: clang 18.1.6 Ubuntu 22.04 Kernel: 5.15 Compiler: gcc gcc (Ubuntu 11.4.0-1ubuntu1~22.04) 11.4.0 Ubuntu 24.04 Kernel: 5.15 Compiler: gcc gcc (Ubuntu 13.3.0-6ubuntu2~24.04) 13.3.0 Alpine Linux 3.22.0 Kernel: 5.15 Compiler: gcc gcc (Alpine 14.2.0) 14.2.0 Windows Server 2022 Kernel: 10.0.20348.2031 Compiler: clang 15.0.7, gcc 14.1.0 (MinGW), and MSVC VS 19.39.33521 To view detailed results, visit: https://lab.dpdk.org/results/dashboard/patchsets/33562/ UNH-IOL DPDK Community Lab To manage your email subscriptions, visit: https://lab.dpdk.org/results/dashboard/preferences/subscriptions/