From mboxrd@z Thu Jan 1 00:00:00 1970 Return-Path: Received: from mails.dpdk.org (mails.dpdk.org [217.70.189.124]) by inbox.dpdk.org (Postfix) with ESMTP id EB97946AF7 for ; Wed, 9 Jul 2025 08:41:16 +0200 (CEST) Received: from mails.dpdk.org (localhost [127.0.0.1]) by mails.dpdk.org (Postfix) with ESMTP id C93734013F; Wed, 9 Jul 2025 08:41:16 +0200 (CEST) Received: from mail-pg1-f227.google.com (mail-pg1-f227.google.com [209.85.215.227]) by mails.dpdk.org (Postfix) with ESMTP id 3845C4013F for ; Wed, 9 Jul 2025 08:41:16 +0200 (CEST) Received: by mail-pg1-f227.google.com with SMTP id 41be03b00d2f7-b390d09e957so3565300a12.1 for ; Tue, 08 Jul 2025 23:41:16 -0700 (PDT) DKIM-Signature: v=1; a=rsa-sha256; c=relaxed/relaxed; d=iol.unh.edu; s=unh-iol; t=1752043275; x=1752648075; darn=dpdk.org; h=references:in-reply-to:cc:to:from:subject:message-id:date:from:to :cc:subject:date:message-id:reply-to; bh=LbB8MtKlHUSThX4xD3PGCNCaQ08+pzK7t8R0j8dOhXg=; b=cTkGksyv3oPUmiUazcqyvewBOd/nRwl1y8XyBKxVr8P5wXUhNI5bHXGUQs+a51PmRt q9TzHkpw/d//F/rAbo24JWLWAwTGHHYlO4mgwOVwmekwoW+ks2qcw4R54pIh25K3mC2M WhiZ0GHeju01pHPhPxOmXjwqROZEQIDz8pZpE= X-Google-DKIM-Signature: v=1; a=rsa-sha256; c=relaxed/relaxed; d=1e100.net; s=20230601; t=1752043275; x=1752648075; h=references:in-reply-to:cc:to:from:subject:message-id:date :x-gm-message-state:from:to:cc:subject:date:message-id:reply-to; bh=LbB8MtKlHUSThX4xD3PGCNCaQ08+pzK7t8R0j8dOhXg=; b=p0Qs41FXqGXTQvkIV6fLa4eGVh3nlTYPNOXEu9AQuVBy7x5ZUFGSyWBSsifgyG+iCT avu5Qhukv2gZQa/EMKnYfp23X1wKfmr+xsQRhMf0rCl3WxBekfcp8NE1trKwrnDjQHvw 5mVdXNr6pFQcdD/HqxZ2Ar+1X0nN3KdPFJ3Q/SucZql+aJp+5mjbVSXKmZG7CqGWoc1i J/+OQe/pD6nc9nFGAQ9NkdtFuJVDJvZjLsuRMMAQooravhzkVRUXplGURjaeAPrVOa+e ssxK7RCFfx7v9Zb6w7fe9pxt+kVAM7EHwmYIeiHkXxzwwF2gmIFqQ+KLJjU4Eh4wSkQ7 Jghw== X-Gm-Message-State: AOJu0YydfWox8KOuXn7k6MN8CpbIYptcv2ScyFurp0xNF+iKBgY4KCxV q8Gv6iB6NGvJaVmWWNoN/fn7kcvNtJT1rHiWsDJRnoEC5bPSyqGVPBUO9CzaRXYVuiHf7N5f2up 5D6//pjuZsshttYbvhItZ0dKl7OBYEqDXDN2ga37JGZZy X-Gm-Gg: ASbGncuIKjt+olWOxmufYBLhMY0CFR+NzRO2w65AmLKkr5SWQyKXnotvvE5uHQkLS+w lv4Vgc9FvwZ5lZQihvA6Bl8CokwyHYtSgT2NCSBVgSLww5FrmMP6pmUmPP9VHgucYN4YptLwfR7 Ub2UwaCpX9zDq2pe0JbzCVYevvomOAAZi0AbI4KFyWEp0KgWwECv6FYzqko7EJI1TrsBmb4JfR3 iiE04SBU581Z7eL/aadpKSamMWAWtPXqnvcU18ZSXn2pzfumLnrgVBFCpenGXepaJKMqqtdmgub pbD5reM9lZT/Rp1TQJAMm6+fIvckh7b2xAVxhe29s4hTrxbCuSFsG98HE8uZXKpWJt2zqQ== X-Google-Smtp-Source: AGHT+IFk1SZA2eaItuo08TZUzHG7kWXUOWeKAXqg0dXQJlNxiPwze6NG6KNRwAtq9fA3SxtRtx9vnopV6LvZ X-Received: by 2002:a17:903:198c:b0:234:9094:3fb1 with SMTP id d9443c01a7336-23ddb3681c6mr21607925ad.35.1752043275256; Tue, 08 Jul 2025 23:41:15 -0700 (PDT) Received: from postal.iol.unh.edu (postal.iol.unh.edu. [132.177.123.84]) by smtp-relay.gmail.com with ESMTPS id d9443c01a7336-23c844e09f5sm6001715ad.70.2025.07.08.23.41.15 (version=TLS1_2 cipher=ECDHE-ECDSA-AES128-GCM-SHA256 bits=128/128); Tue, 08 Jul 2025 23:41:15 -0700 (PDT) X-Relaying-Domain: iol.unh.edu Date: Tue, 08 Jul 2025 23:41:15 -0700 (PDT) Message-ID: <686e0f0b.170a0220.4ff6a.f9e4SMTPIN_ADDED_MISSING@mx.google.com> Received: from [172.21.0.7] (unknown [172.18.0.240]) by postal.iol.unh.edu (Postfix) with ESMTP id 61E4A6051830; Wed, 9 Jul 2025 02:41:14 -0400 (EDT) Subject: |SUCCESS| pw155079-155083 [PATCH] [RFC,v2,5/5] eal: simplify handlin From: dpdklab@iol.unh.edu To: Test Report Cc: dpdk-test-reports@iol.unh.edu In-Reply-To: <20250708172039.183989-6-bruce.richardson@intel.com> References: <20250708172039.183989-6-bruce.richardson@intel.com> Content-Type: text/plain X-BeenThere: test-report@dpdk.org X-Mailman-Version: 2.1.29 Precedence: list List-Id: automatic DPDK test reports List-Unsubscribe: , List-Archive: List-Post: List-Help: List-Subscribe: , Errors-To: test-report-bounces@dpdk.org Test-Label: iol-unit-amd64-testing Test-Status: SUCCESS http://dpdk.org/patch/155083 _Testing PASS_ Submitter: Bruce Richardson Date: Tuesday, July 08 2025 17:20:39 DPDK git baseline: Repo:dpdk Branch: master CommitID:e90979eebbea093f6bab2d7c222fc5f5c9a85eff 155079-155083 --> testing pass Upstream job id: Generic-Unit-Test-DPDK#354018 Test environment and result as below: +-------------------------------+----------------+ | Environment | dpdk_unit_test | +===============================+================+ | Fedora Linux 41 | PASS | +-------------------------------+----------------+ | Fedora Linux 40 | PASS | +-------------------------------+----------------+ | Ubuntu 24.04 | PASS | +-------------------------------+----------------+ | CentOS Stream 10 | PASS | +-------------------------------+----------------+ | CentOS Stream 9 | PASS | +-------------------------------+----------------+ | Red Hat Enterprise Linux 8.10 | PASS | +-------------------------------+----------------+ | Debian GNU/Linux 12 | PASS | +-------------------------------+----------------+ | Ubuntu 20.04 | PASS | +-------------------------------+----------------+ | Ubuntu 22.04 | PASS | +-------------------------------+----------------+ | Red Hat Enterprise Linux 9.5 | PASS | +-------------------------------+----------------+ Fedora Linux 41 Kernel: 5.15 Compiler: gcc gcc (GCC) 14.3.1 20250523 (Red Hat 14.3.1-1) Fedora Linux 40 Kernel: 5.15 Compiler: gcc gcc (GCC) 14.2.1 20240912 (Red Hat 14.2.1-3) Ubuntu 24.04 Kernel: 5.15 Compiler: gcc gcc (Ubuntu 13.3.0-6ubuntu2~24.04) 13.3.0 CentOS Stream 10 Kernel: 5.15 Compiler: gcc gcc (GCC) 14.2.1 20250110 (Red Hat 14.2.1-8) CentOS Stream 9 Kernel: 5.15 Compiler: gcc gcc (GCC) 11.5.0 20240719 (Red Hat 11.5.0-7) Red Hat Enterprise Linux 8.10 Kernel: 5.15 Compiler: gcc gcc (GCC) 8.5.0 20210514 (Red Hat 8.5.0-22) Debian GNU/Linux 12 Kernel: 5.15 Compiler: gcc gcc (Debian 12.2.0-14+deb12u1) 12.2.0 Ubuntu 20.04 Kernel: 5.15 Compiler: gcc gcc (Ubuntu 9.4.0-1ubuntu1~20.04.2) 9.4.0 Ubuntu 22.04 Kernel: 5.15 Compiler: gcc gcc (Ubuntu 11.4.0-1ubuntu1~22.04) 11.4.0 Red Hat Enterprise Linux 9.5 Kernel: 5.15 Compiler: gcc gcc (GCC) 11.5.0 20240719 (Red Hat 11.5.0-2) To view detailed results, visit: https://lab.dpdk.org/results/dashboard/patchsets/33616/ UNH-IOL DPDK Community Lab To manage your email subscriptions, visit: https://lab.dpdk.org/results/dashboard/preferences/subscriptions/