From mboxrd@z Thu Jan 1 00:00:00 1970 Return-Path: Received: from mails.dpdk.org (mails.dpdk.org [217.70.189.124]) by inbox.dpdk.org (Postfix) with ESMTP id E6FAC46AF7 for ; Wed, 9 Jul 2025 08:41:40 +0200 (CEST) Received: from mails.dpdk.org (localhost [127.0.0.1]) by mails.dpdk.org (Postfix) with ESMTP id E2A324013F; Wed, 9 Jul 2025 08:41:40 +0200 (CEST) Received: from mail-pf1-f228.google.com (mail-pf1-f228.google.com [209.85.210.228]) by mails.dpdk.org (Postfix) with ESMTP id 1D3CF4013F for ; Wed, 9 Jul 2025 08:41:40 +0200 (CEST) Received: by mail-pf1-f228.google.com with SMTP id d2e1a72fcca58-73972a54919so4668538b3a.3 for ; Tue, 08 Jul 2025 23:41:40 -0700 (PDT) DKIM-Signature: v=1; a=rsa-sha256; c=relaxed/relaxed; d=iol.unh.edu; s=unh-iol; t=1752043299; x=1752648099; darn=dpdk.org; h=references:in-reply-to:cc:to:from:subject:message-id:date:from:to :cc:subject:date:message-id:reply-to; bh=z0KGXJ3NvjcZSYGaw+HZF3jwr88qIiZmEl/6xTfS7M0=; b=ST2kxkZEzv6+sBh8pSbN3Z1sHJjG/HkZGDxWmzh95IGwE+QFknarXF4NNT4QUIGGIF 2oHXdSrhp7DsM+SRfrgo+9bp1cFY1xv48d9UGKWINZQpOr06vFgXfE6nex3dWsv+GFu3 Yti3rCzp8Iys/acPaIvdKVM5cLaupo1pWRH08= X-Google-DKIM-Signature: v=1; a=rsa-sha256; c=relaxed/relaxed; d=1e100.net; s=20230601; t=1752043299; x=1752648099; h=references:in-reply-to:cc:to:from:subject:message-id:date :x-gm-message-state:from:to:cc:subject:date:message-id:reply-to; bh=z0KGXJ3NvjcZSYGaw+HZF3jwr88qIiZmEl/6xTfS7M0=; b=K+/jNRG5pRPqfGIfmK+tgftuwXND8P9GpEvEzu7hnkobeIFcNBMrJqnOhzq2pjqTXs LgNP9RKLpLz3YBp2WxyPOrp+wfTzcy1CEvXwJFqxssE35xgMvk8menoR1p+ouQvugDuh WwtwqJcE2mHRQQwE0ZXYDYOj+O1RUv5drwqOIbmiuT28LYPGX+xZsL30a14YcP6smSJj y8XOPZKMI59+Nws1S6h5KWbb3Ei/uh4itk3ukcfwoqwTXACQ29ETunRuRM/eUdoHhobA OLHVxqmAc0VSGV2aHd2A6bHVuy/TIC1FccTrjYr7vVCZceCFw8FSCd82gkI4iVkpstxj rk5Q== X-Gm-Message-State: AOJu0YyBef9cLppUaG9/0FRrhQw21CmGhPKMseDM26wloObF6AjA/+rz yvYhzdweuLrJO/if+7tSqYUomFU9UZ0/IuN/igUuV173J42xW4S+rPm4twroOyC4tymYEJSua8b ulAMHKWzgE6Dh1oqRqQjOHeuex+3o5/gXuvVfBhMMUoZSRcUcOqv4J7Y/AVXs X-Gm-Gg: ASbGncuRf9A/Ie5whxUAvF1m9dTAs9Dtz/JGpJbFgRWHL4wj8/XhdnNZlnCuqDro7TK wmYEdRXd6vGCCiIEyb4T9OlQv3Aa1h1JVBnjMBTZj2Mq45wcb8PeQWVB1TRGxuHof5qlbn+D8+c /0VEKg3M/nj2e5ZYNYCWQkmv6kgyKj1B1UtgPnD0QBv+BhOFephk5kpfyidzorpDiSPfUF98zoA ZqdCHyPJZiRuQmBf5surTuigCX5oXhEae63EFyBdCKZTznjJbh3dfvcWr7h/j0+57xifSBwq403 Px17zyBTZBJYcgI2L6nLMoWsOjritKew927PeFsjGzPtlEQ= X-Google-Smtp-Source: AGHT+IEpYLJZB3rtWqS1p8ul4J+Wtgdx1Fr5ncY+A1fjxQ+QJ7HW/qbDTk+/mgRPJ193eHQ3ZbanVz4aGGmh X-Received: by 2002:a05:6a00:39aa:b0:742:a91d:b2f6 with SMTP id d2e1a72fcca58-74ea66a092emr2250102b3a.13.1752043299208; Tue, 08 Jul 2025 23:41:39 -0700 (PDT) Received: from postal.iol.unh.edu (postal.iol.unh.edu. [2606:4100:3880:1234::84]) by smtp-relay.gmail.com with ESMTPS id 41be03b00d2f7-b38ee51f664sm668766a12.29.2025.07.08.23.41.39 (version=TLS1_2 cipher=ECDHE-ECDSA-AES128-GCM-SHA256 bits=128/128); Tue, 08 Jul 2025 23:41:39 -0700 (PDT) X-Relaying-Domain: iol.unh.edu Date: Tue, 08 Jul 2025 23:41:39 -0700 (PDT) Message-ID: <686e0f23.630a0220.c0db7.41b8SMTPIN_ADDED_MISSING@mx.google.com> Received: from [172.21.0.5] (unknown [172.18.0.240]) by postal.iol.unh.edu (Postfix) with ESMTP id 7386B6051830; Wed, 9 Jul 2025 02:41:38 -0400 (EDT) Subject: |SUCCESS| pw155079-155083 [PATCH] [RFC,v2,5/5] eal: simplify handlin From: dpdklab@iol.unh.edu To: Test Report Cc: dpdk-test-reports@iol.unh.edu In-Reply-To: <20250708172039.183989-6-bruce.richardson@intel.com> References: <20250708172039.183989-6-bruce.richardson@intel.com> Content-Type: text/plain X-BeenThere: test-report@dpdk.org X-Mailman-Version: 2.1.29 Precedence: list List-Id: automatic DPDK test reports List-Unsubscribe: , List-Archive: List-Post: List-Help: List-Subscribe: , Errors-To: test-report-bounces@dpdk.org Test-Label: iol-unit-amd64-testing Test-Status: SUCCESS http://dpdk.org/patch/155083 _Testing PASS_ Submitter: Bruce Richardson Date: Tuesday, July 08 2025 17:20:39 DPDK git baseline: Repo:dpdk Branch: master CommitID:e90979eebbea093f6bab2d7c222fc5f5c9a85eff 155079-155083 --> testing pass Upstream job id: Generic-Unit-Test-DPDK#354007 Test environment and result as below: +-------------------------------+----------------+ | Environment | dpdk_unit_test | +===============================+================+ | Fedora Linux 41 | PASS | +-------------------------------+----------------+ | Fedora Linux 40 | PASS | +-------------------------------+----------------+ | Ubuntu 24.04 | PASS | +-------------------------------+----------------+ | CentOS Stream 10 | PASS | +-------------------------------+----------------+ | CentOS Stream 9 | PASS | +-------------------------------+----------------+ | Red Hat Enterprise Linux 8.10 | PASS | +-------------------------------+----------------+ | Debian GNU/Linux 12 | PASS | +-------------------------------+----------------+ | Ubuntu 20.04 | PASS | +-------------------------------+----------------+ | Ubuntu 22.04 | PASS | +-------------------------------+----------------+ | Red Hat Enterprise Linux 9.5 | PASS | +-------------------------------+----------------+ Fedora Linux 41 Kernel: 5.15 Compiler: gcc gcc (GCC) 14.3.1 20250523 (Red Hat 14.3.1-1) Fedora Linux 40 Kernel: 5.15 Compiler: gcc gcc (GCC) 14.2.1 20240912 (Red Hat 14.2.1-3) Ubuntu 24.04 Kernel: 5.15 Compiler: gcc gcc (Ubuntu 13.3.0-6ubuntu2~24.04) 13.3.0 CentOS Stream 10 Kernel: 5.15 Compiler: gcc gcc (GCC) 14.2.1 20250110 (Red Hat 14.2.1-8) CentOS Stream 9 Kernel: 5.15 Compiler: gcc gcc (GCC) 11.5.0 20240719 (Red Hat 11.5.0-7) Red Hat Enterprise Linux 8.10 Kernel: 5.15 Compiler: gcc gcc (GCC) 8.5.0 20210514 (Red Hat 8.5.0-22) Debian GNU/Linux 12 Kernel: 5.15 Compiler: gcc gcc (Debian 12.2.0-14+deb12u1) 12.2.0 Ubuntu 20.04 Kernel: 5.15 Compiler: gcc gcc (Ubuntu 9.4.0-1ubuntu1~20.04.2) 9.4.0 Ubuntu 22.04 Kernel: 5.15 Compiler: gcc gcc (Ubuntu 11.4.0-1ubuntu1~22.04) 11.4.0 Red Hat Enterprise Linux 9.5 Kernel: 5.15 Compiler: gcc gcc (GCC) 11.5.0 20240719 (Red Hat 11.5.0-2) To view detailed results, visit: https://lab.dpdk.org/results/dashboard/patchsets/33616/ UNH-IOL DPDK Community Lab To manage your email subscriptions, visit: https://lab.dpdk.org/results/dashboard/preferences/subscriptions/