From mboxrd@z Thu Jan 1 00:00:00 1970 Return-Path: Received: from mails.dpdk.org (mails.dpdk.org [217.70.189.124]) by inbox.dpdk.org (Postfix) with ESMTP id 67E7B46AF7 for ; Wed, 9 Jul 2025 08:56:52 +0200 (CEST) Received: from mails.dpdk.org (localhost [127.0.0.1]) by mails.dpdk.org (Postfix) with ESMTP id 62BA9402EB; Wed, 9 Jul 2025 08:56:52 +0200 (CEST) Received: from mail-oa1-f98.google.com (mail-oa1-f98.google.com [209.85.160.98]) by mails.dpdk.org (Postfix) with ESMTP id 3A452402EB for ; Wed, 9 Jul 2025 08:56:51 +0200 (CEST) Received: by mail-oa1-f98.google.com with SMTP id 586e51a60fabf-2eff5d1c7efso3907677fac.2 for ; Tue, 08 Jul 2025 23:56:51 -0700 (PDT) DKIM-Signature: v=1; a=rsa-sha256; c=relaxed/relaxed; d=iol.unh.edu; s=unh-iol; t=1752044210; x=1752649010; darn=dpdk.org; h=references:in-reply-to:cc:to:from:subject:message-id:date:from:to :cc:subject:date:message-id:reply-to; bh=W92QRiSDCLKAcDdBSmW7f7pn5n+SlGN96f9aQ+wS2ZM=; b=NqIEKXtBqambdPQS+XdHCOdDJ6O/XZqH3n8/O3cqWzcRcTJNV/mFKhQhCd5cph+vf2 T6F+VI3QXeKzzXMFdi/1ws1RbX98agdWtTPGFStWIdjlNj+/O8B2T3hGkhOD8YL1yeqB HHaJHXyhDhOjZZUheRvKycAyjEHvkfGa7Lkgg= X-Google-DKIM-Signature: v=1; a=rsa-sha256; c=relaxed/relaxed; d=1e100.net; s=20230601; t=1752044210; x=1752649010; h=references:in-reply-to:cc:to:from:subject:message-id:date :x-gm-message-state:from:to:cc:subject:date:message-id:reply-to; bh=W92QRiSDCLKAcDdBSmW7f7pn5n+SlGN96f9aQ+wS2ZM=; b=r5Eeq1ut8TDPH2viL/uOXNkNHoNVzkzYdTvO24z91qWxX//ZZhxR2ZmKWMwd+US2G0 xneqqFBtt1tSWkVQGU+sPDmO+kn3fy782HkQWRKxB0Ds3RnaYMPgSA3VR3FPjNHYlZ4G EBUXT94Jc+DWboioLgKjjAT0QfNgN1HjkhT5cRFSho+aAYG49GntnozYMwHqEGDQovtA 0TgQ3HnCj6hwTQMQyB6PO3rZ9jjr6uwhsXmPW1DvEmcIhG/JhoOz6ayHA26wPOmZipHU YCsYmWMPDuU7xq45BWDjSEVQwWVUmWQpeaK4z9zynkDXm8aBx2WjMA6N67wVFqMTTSj0 61oQ== X-Gm-Message-State: AOJu0YxEYUJRDE7EdMkJ/8tkntIg4rev/MSRcKuM/l4BRp85kP7IrT2c jc+1qyGKhY9ilzpZABDBPS6auheXCm4nKGMDdQHVYM2avR8phvsNPiVG36I08+bu5FeIDU2NGhB KyvW2lSo/KGWekHDQV+3eHwgBniz7zWsTvIzc1sOV7DOS X-Gm-Gg: ASbGncupRB81NhPh0/4zFa1Q+DQWFD62WTKmThKgw0ItZQF/UiXnHAhUPxsCYD0FspE bN84CYC/j/CKCe4XThzuhn25Idn1i+CMkcJYu8mbfOldF/fVWwqjcvMPYNRdEcL2pCincQL0OQG RecfpPGGjaV97RsYf7f90CauyZYSmA4EUCalJRXK4kpIB2Lf/EhBG7RVGNzJ5eCMrAhuoB0Iafa vC+uRHMeGqjaFCmdWVnn6wtmtxps0z3iaKptEwC3nvJLiY3oUeSFTTxWezXVdhBmu1AHDvZ7f9s XKZ+RqjbQ8LbLlgnl5OGjvg+fB71ZIyEUWze46oUvR29H/yDP0NuYf6X1pGSRGYd4V0sZg== X-Google-Smtp-Source: AGHT+IF/LTefiY7+s3jeZyvj4ZNkP3zYwn3djzVuMux74AQBJsv/Y9OVRfcIEDNh9psAJK4gja2kYKuv86+o X-Received: by 2002:a05:6870:315:b0:2e9:11d9:f8ad with SMTP id 586e51a60fabf-2fef871a1b8mr788523fac.24.1752044210423; Tue, 08 Jul 2025 23:56:50 -0700 (PDT) Received: from postal.iol.unh.edu (postal.iol.unh.edu. [132.177.123.84]) by smtp-relay.gmail.com with ESMTPS id 586e51a60fabf-2f79012674fsm762685fac.36.2025.07.08.23.56.50 (version=TLS1_2 cipher=ECDHE-ECDSA-AES128-GCM-SHA256 bits=128/128); Tue, 08 Jul 2025 23:56:50 -0700 (PDT) X-Relaying-Domain: iol.unh.edu Date: Tue, 08 Jul 2025 23:56:50 -0700 (PDT) Message-ID: <686e12b2.050a0220.118070.9299SMTPIN_ADDED_MISSING@mx.google.com> Received: from [172.21.0.6] (unknown [172.18.0.240]) by postal.iol.unh.edu (Postfix) with ESMTP id 0D1DA6051830; Wed, 9 Jul 2025 02:56:50 -0400 (EDT) Subject: |SUCCESS| pw155079-155083 [PATCH] [RFC,v2,5/5] eal: simplify handlin From: dpdklab@iol.unh.edu To: Test Report Cc: dpdk-test-reports@iol.unh.edu In-Reply-To: <20250708172039.183989-6-bruce.richardson@intel.com> References: <20250708172039.183989-6-bruce.richardson@intel.com> Content-Type: text/plain X-BeenThere: test-report@dpdk.org X-Mailman-Version: 2.1.29 Precedence: list List-Id: automatic DPDK test reports List-Unsubscribe: , List-Archive: List-Post: List-Help: List-Subscribe: , Errors-To: test-report-bounces@dpdk.org Test-Label: iol-abi-testing Test-Status: SUCCESS http://dpdk.org/patch/155083 _Testing PASS_ Submitter: Bruce Richardson Date: Tuesday, July 08 2025 17:20:39 DPDK git baseline: Repo:dpdk Branch: master CommitID:e90979eebbea093f6bab2d7c222fc5f5c9a85eff 155079-155083 --> testing pass Upstream job id: Generic-DPDK-Compile-ABI#133689 Test environment and result as below: +-------------------------------+----------+ | Environment | abi_test | +===============================+==========+ | CentOS Stream 10 | PASS | +-------------------------------+----------+ | CentOS Stream 9 | PASS | +-------------------------------+----------+ | Fedora Linux 41 | PASS | +-------------------------------+----------+ | Ubuntu 22.04 | PASS | +-------------------------------+----------+ | openSUSE Leap 15.6 | PASS | +-------------------------------+----------+ | Fedora Linux 40 | PASS | +-------------------------------+----------+ | Debian GNU/Linux 12 | PASS | +-------------------------------+----------+ | Red Hat Enterprise Linux 9.5 | PASS | +-------------------------------+----------+ | Red Hat Enterprise Linux 8.10 | PASS | +-------------------------------+----------+ | Ubuntu 24.04 | PASS | +-------------------------------+----------+ CentOS Stream 10 Kernel: 5.15 Compiler: gcc gcc (GCC) 14.2.1 20250110 (Red Hat 14.2.1-8) CentOS Stream 9 Kernel: 5.15 Compiler: gcc gcc (GCC) 11.5.0 20240719 (Red Hat 11.5.0-7) Fedora Linux 41 Kernel: 5.15 Compiler: gcc gcc (GCC) 14.3.1 20250523 (Red Hat 14.3.1-1) Ubuntu 22.04 Kernel: 5.15 Compiler: gcc gcc (Ubuntu 11.4.0-1ubuntu1~22.04) 11.4.0 openSUSE Leap 15.6 Kernel: 5.15 Compiler: gcc gcc (SUSE Linux) 7.5.0 Fedora Linux 40 Kernel: 5.15 Compiler: gcc gcc (GCC) 14.2.1 20240912 (Red Hat 14.2.1-3) Debian GNU/Linux 12 Kernel: 5.15 Compiler: gcc gcc (Debian 12.2.0-14+deb12u1) 12.2.0 Red Hat Enterprise Linux 9.5 Kernel: 5.15 Compiler: gcc gcc (GCC) 11.5.0 20240719 (Red Hat 11.5.0-2) Red Hat Enterprise Linux 8.10 Kernel: 5.15 Compiler: gcc gcc (GCC) 8.5.0 20210514 (Red Hat 8.5.0-22) Ubuntu 24.04 Kernel: 5.15 Compiler: gcc gcc (Ubuntu 13.3.0-6ubuntu2~24.04) 13.3.0 To view detailed results, visit: https://lab.dpdk.org/results/dashboard/patchsets/33616/ UNH-IOL DPDK Community Lab To manage your email subscriptions, visit: https://lab.dpdk.org/results/dashboard/preferences/subscriptions/