From mboxrd@z Thu Jan 1 00:00:00 1970 Return-Path: Received: from mails.dpdk.org (mails.dpdk.org [217.70.189.124]) by inbox.dpdk.org (Postfix) with ESMTP id EE95346AF7 for ; Wed, 9 Jul 2025 09:11:30 +0200 (CEST) Received: from mails.dpdk.org (localhost [127.0.0.1]) by mails.dpdk.org (Postfix) with ESMTP id B7A3D4021E; Wed, 9 Jul 2025 09:11:30 +0200 (CEST) Received: from mail-il1-f228.google.com (mail-il1-f228.google.com [209.85.166.228]) by mails.dpdk.org (Postfix) with ESMTP id E44DB4021E for ; Wed, 9 Jul 2025 09:11:29 +0200 (CEST) Received: by mail-il1-f228.google.com with SMTP id e9e14a558f8ab-3de18fde9cfso32114225ab.3 for ; Wed, 09 Jul 2025 00:11:29 -0700 (PDT) DKIM-Signature: v=1; a=rsa-sha256; c=relaxed/relaxed; d=iol.unh.edu; s=unh-iol; t=1752045089; x=1752649889; darn=dpdk.org; h=references:in-reply-to:cc:to:from:subject:message-id:date:from:to :cc:subject:date:message-id:reply-to; bh=laCP90YKDx8b14F0wEkWulf7P7ky4gfqrSyZrrRuBZw=; b=d4Las8O3Ckt1cIsGdjzv4/vzQvAkKjQVIwg/Rd7/4VJ/1K8W1YPgef9dvopDmi0F3j 7MpWywocnKSalUjayyFClOqp+htLv2BnMQRF1Xa5rm2n7rQAhGB6BwsrBgXc6Y/uJXGw 9v1uJfkrNHHUqUlD5CNwTyN7DtiN35LqeM8HU= X-Google-DKIM-Signature: v=1; a=rsa-sha256; c=relaxed/relaxed; d=1e100.net; s=20230601; t=1752045089; x=1752649889; h=references:in-reply-to:cc:to:from:subject:message-id:date :x-gm-message-state:from:to:cc:subject:date:message-id:reply-to; bh=laCP90YKDx8b14F0wEkWulf7P7ky4gfqrSyZrrRuBZw=; b=p+Ek6ZHmwSp2Zf2byDRUSxrAOpDhPwZId6TJFbztyQvAmmcg3WncP0HNMHZBPjmiKP Fi8iJ0OZeUKaiLWyttzGTMx/6Rq/tAUgEZkpMyyV2mA1ZftIVbiXufApaVWIzgAa5VnM nj0h6M4akypbknGKvtsSYfUA1EC9AovzrfgAXsxFadvtpg8S1JKKZKc2mhVEuAaV4mj9 XFTOkf1mpkXRQiQRk83R6Lksb5XuUENf7NKuu4CAFZJXP8QmQHwOaFN1QYJQEgqJIwed Ne2sZuKfGXee6KA2TuBUEkc8UsrAzovmYzPAGI55Hb/OVQaSN7yHUVo1EuFC9GRGfzaO L2tw== X-Gm-Message-State: AOJu0Yxp7hV8lzJff9Olufl/8KKGBebTj+EmubSIIGkrgsWIOOOZw69s gstBv+Qd4FYu6VEi1RTW8tnT8uGC+Ymod4GawsJipADBmvspZuxTex1ODN3a0UCFjxhdtTUQnTL xvcGxT2Cw5CQVq8JbEWzbF49gD5PtWgzK7aj/sIVzAyodY6LgTy+0DQ1wjSNW X-Gm-Gg: ASbGncvXUBcJVmUvv5uXYrzZDHOthh910hkT5atSr3SmjFfJlwhSFB2y0XUTQiz+bJl Ktgi6XAs5oGKWCUSSazBjxTaOnJ/kT5x04CMs0TrON4TV6ofXvhJHjIBv6HAGely7Uc9JUM4aB1 IPn8aPmUgsYncRUgVWD2s0+W4wRKVu8c6tn5CDJQXpeK1XGu3NoJdiOpZDFgnlmFKh9kjdKDsgv X3vylEe7fH5eNuyZemNQnDVe22rLk+dALIc8fk5zkUhgZqDilEOObLwxFA522Efi1HuhZIZy/FI za9wNC3xfSIvhoYIed9Gh4IjUmwi4BmS7RHjbYiMxT62fDE= X-Google-Smtp-Source: AGHT+IGXykqqvW8u3XpSN4UuzsNRMquPO91FNSIbqbRNz8S+z63Z3Y6hV3eSa4BRc8Ymovz4de/S4eePyjU0 X-Received: by 2002:a92:c264:0:b0:3df:4783:e37 with SMTP id e9e14a558f8ab-3e1670d256amr15354025ab.17.1752045089182; Wed, 09 Jul 2025 00:11:29 -0700 (PDT) Received: from postal.iol.unh.edu (postal.iol.unh.edu. [2606:4100:3880:1234::84]) by smtp-relay.gmail.com with ESMTPS id e9e14a558f8ab-3e1004a59easm7224245ab.58.2025.07.09.00.11.29 (version=TLS1_2 cipher=ECDHE-ECDSA-AES128-GCM-SHA256 bits=128/128); Wed, 09 Jul 2025 00:11:29 -0700 (PDT) X-Relaying-Domain: iol.unh.edu Date: Wed, 09 Jul 2025 00:11:29 -0700 (PDT) Message-ID: <686e1621.050a0220.1af31f.6275SMTPIN_ADDED_MISSING@mx.google.com> Received: from [172.21.0.5] (unknown [172.18.0.240]) by postal.iol.unh.edu (Postfix) with ESMTP id B0E636051830; Wed, 9 Jul 2025 03:11:28 -0400 (EDT) Subject: |WARNING| pw154945-154949 [PATCH] [v3,5/5] dts: add performance test From: dpdklab@iol.unh.edu To: Test Report Cc: dpdk-test-reports@iol.unh.edu In-Reply-To: <20250702052154.381690-5-probb@iol.unh.edu> References: <20250702052154.381690-5-probb@iol.unh.edu> Content-Type: text/plain X-BeenThere: test-report@dpdk.org X-Mailman-Version: 2.1.29 Precedence: list List-Id: automatic DPDK test reports List-Unsubscribe: , List-Archive: List-Post: List-Help: List-Subscribe: , Errors-To: test-report-bounces@dpdk.org Test-Label: iol-compile-amd64-testing Test-Status: WARNING http://dpdk.org/patch/154949 _Testing issues_ Submitter: Patrick Robb Date: Wednesday, July 02 2025 05:21:54 DPDK git baseline: Repo:dpdk Branch: master CommitID:e90979eebbea093f6bab2d7c222fc5f5c9a85eff 154945-154949 --> testing issues Upstream job id: Windows-Compile-DPDK-Native#29667 Test environment and result as below: +-------------------------------+--------------------+-------------------+------------------+-------------------+-------------------------+----------------------+ | Environment | dpdk_meson_compile | dpdk_compile_spdk | dpdk_compile_ovs | dpdk_msvc_compile | dpdk_llvm_clang_compile | dpdk_mingw64_compile | +===============================+====================+===================+==================+===================+=========================+======================+ | CentOS Stream 9 | PASS | PASS | SKIPPED | SKIPPED | SKIPPED | SKIPPED | +-------------------------------+--------------------+-------------------+------------------+-------------------+-------------------------+----------------------+ | CentOS Stream 10 | PASS | SKIPPED | SKIPPED | SKIPPED | SKIPPED | SKIPPED | +-------------------------------+--------------------+-------------------+------------------+-------------------+-------------------------+----------------------+ | Debian GNU/Linux 12 | PASS | PASS | SKIPPED | SKIPPED | SKIPPED | SKIPPED | +-------------------------------+--------------------+-------------------+------------------+-------------------+-------------------------+----------------------+ | Fedora Linux 40 | PASS | PASS | SKIPPED | SKIPPED | SKIPPED | SKIPPED | +-------------------------------+--------------------+-------------------+------------------+-------------------+-------------------------+----------------------+ | Fedora Linux 41 | PASS | WARN | PASS | SKIPPED | SKIPPED | SKIPPED | +-------------------------------+--------------------+-------------------+------------------+-------------------+-------------------------+----------------------+ | openSUSE Leap 15.6 | PASS | SKIPPED | SKIPPED | SKIPPED | SKIPPED | SKIPPED | +-------------------------------+--------------------+-------------------+------------------+-------------------+-------------------------+----------------------+ | Red Hat Enterprise Linux 8.10 | PASS | SKIPPED | SKIPPED | SKIPPED | SKIPPED | SKIPPED | +-------------------------------+--------------------+-------------------+------------------+-------------------+-------------------------+----------------------+ | Red Hat Enterprise Linux 9.5 | PASS | SKIPPED | SKIPPED | SKIPPED | SKIPPED | SKIPPED | +-------------------------------+--------------------+-------------------+------------------+-------------------+-------------------------+----------------------+ | Ubuntu 20.04 | PASS | SKIPPED | SKIPPED | SKIPPED | SKIPPED | SKIPPED | +-------------------------------+--------------------+-------------------+------------------+-------------------+-------------------------+----------------------+ | FreeBSD 14.2 | PASS | SKIPPED | SKIPPED | SKIPPED | SKIPPED | SKIPPED | +-------------------------------+--------------------+-------------------+------------------+-------------------+-------------------------+----------------------+ | Ubuntu 22.04 | PASS | PASS | SKIPPED | SKIPPED | SKIPPED | SKIPPED | +-------------------------------+--------------------+-------------------+------------------+-------------------+-------------------------+----------------------+ | Ubuntu 24.04 | PASS | PASS | PASS | SKIPPED | SKIPPED | SKIPPED | +-------------------------------+--------------------+-------------------+------------------+-------------------+-------------------------+----------------------+ | Alpine Linux 3.22.0 | PASS | SKIPPED | SKIPPED | SKIPPED | SKIPPED | SKIPPED | +-------------------------------+--------------------+-------------------+------------------+-------------------+-------------------------+----------------------+ | Windows Server 2022 | SKIPPED | SKIPPED | SKIPPED | PASS | PASS | PASS | +-------------------------------+--------------------+-------------------+------------------+-------------------+-------------------------+----------------------+ ==== 20 line log output for Fedora Linux 41 (dpdk_compile_spdk): ==== --- Failed to get log output --- ==== End log output ==== CentOS Stream 9 Kernel: 5.15 Compiler: gcc gcc (GCC) 11.5.0 20240719 (Red Hat 11.5.0-7) CentOS Stream 10 Kernel: 5.15 Compiler: gcc gcc (GCC) 14.2.1 20250110 (Red Hat 14.2.1-8) Debian GNU/Linux 12 Kernel: 5.15 Compiler: gcc gcc (Debian 12.2.0-14+deb12u1) 12.2.0 Fedora Linux 40 Kernel: 5.15 Compiler: clang gcc (GCC) 14.2.1 20240912 (Red Hat 14.2.1-3) Fedora Linux 41 Kernel: 5.15 Compiler: gcc gcc (GCC) 14.3.1 20250523 (Red Hat 14.3.1-1) openSUSE Leap 15.6 Kernel: 5.15 Compiler: gcc gcc (SUSE Linux) 7.5.0 Red Hat Enterprise Linux 8.10 Kernel: 5.15 Compiler: gcc gcc (GCC) 8.5.0 20210514 (Red Hat 8.5.0-22) Red Hat Enterprise Linux 9.5 Kernel: 5.15 Compiler: gcc gcc (GCC) 11.5.0 20240719 (Red Hat 11.5.0-2) Ubuntu 20.04 Kernel: 5.15 Compiler: gcc gcc (Ubuntu 9.4.0-1ubuntu1~20.04.2) 9.4.0 FreeBSD 14.2 Kernel: 14.2-RELEASE Compiler: clang 18.1.6 Ubuntu 22.04 Kernel: 5.15 Compiler: gcc gcc (Ubuntu 11.4.0-1ubuntu1~22.04) 11.4.0 Ubuntu 24.04 Kernel: 5.15 Compiler: gcc gcc (Ubuntu 13.3.0-6ubuntu2~24.04) 13.3.0 Alpine Linux 3.22.0 Kernel: 5.15 Compiler: gcc gcc (Alpine 14.2.0) 14.2.0 Windows Server 2022 Kernel: 10.0.20348.2031 Compiler: clang 15.0.7, gcc 14.1.0 (MinGW), and MSVC VS 19.39.33521 To view detailed results, visit: https://lab.dpdk.org/results/dashboard/patchsets/33562/ UNH-IOL DPDK Community Lab To manage your email subscriptions, visit: https://lab.dpdk.org/results/dashboard/preferences/subscriptions/