From mboxrd@z Thu Jan 1 00:00:00 1970 Return-Path: Received: from mails.dpdk.org (mails.dpdk.org [217.70.189.124]) by inbox.dpdk.org (Postfix) with ESMTP id 414EF46A87 for ; Wed, 9 Jul 2025 09:21:43 +0200 (CEST) Received: from mails.dpdk.org (localhost [127.0.0.1]) by mails.dpdk.org (Postfix) with ESMTP id 0EB304021E; Wed, 9 Jul 2025 09:21:43 +0200 (CEST) Received: from mail-io1-f100.google.com (mail-io1-f100.google.com [209.85.166.100]) by mails.dpdk.org (Postfix) with ESMTP id 2C8B24021E for ; Wed, 9 Jul 2025 09:21:42 +0200 (CEST) Received: by mail-io1-f100.google.com with SMTP id ca18e2360f4ac-8723a232750so503109839f.1 for ; Wed, 09 Jul 2025 00:21:42 -0700 (PDT) DKIM-Signature: v=1; a=rsa-sha256; c=relaxed/relaxed; d=iol.unh.edu; s=unh-iol; t=1752045701; x=1752650501; darn=dpdk.org; h=references:in-reply-to:cc:to:from:subject:message-id:date:from:to :cc:subject:date:message-id:reply-to; bh=XXHr4e0Vm4RHOhmh9O7uoSo0gj9lDpjBXlhzmi8Y8EM=; b=dXfiZ19q2efh+Dmr7h/uJtSGWclqoNpxJ7b5XxBDjo2xLieVjyR8HnL+2qviDTocoW BgGwbo6OqgryXd48z896V+d+7COQ8nbH4HsEN+DzRLefSDsKFWbnLxSoBXkXSoz3uGKt n/tU+k6yHnwvUqoDLQurdg8iie+u3Ys7lbujs= X-Google-DKIM-Signature: v=1; a=rsa-sha256; c=relaxed/relaxed; d=1e100.net; s=20230601; t=1752045701; x=1752650501; h=references:in-reply-to:cc:to:from:subject:message-id:date :x-gm-message-state:from:to:cc:subject:date:message-id:reply-to; bh=XXHr4e0Vm4RHOhmh9O7uoSo0gj9lDpjBXlhzmi8Y8EM=; b=aP9lpf8brnxv8jYa0a0m6tKihFFlIHZfbBKAT8ChBGwwIVC5wYqR1O+nwpwlEDLk89 S5mm3oNAR9xBI1lNS/szjIZvNrJb3Y16M4SfH6UR8C1wVJdteWu6LKgAMmXoW/+bt+WH 6nUwzZmKy1hmGioYKAqaP9sjHol+ioqlVS2iAruzZLJesmDVeoqrVvzMkAisHfZuSN2C F/6DMCH5Qp5MyhSFzqAeK438Tzcu5QSVrPOwt9z5SYEt2xuaEjP6lhTj/7f5tTax7cCA PCkCU8W7+Ew9IzBi8Q3V/YN/liEObiVMScbDUzKR/tTFZV+4wTCumkETSbw17TkjWGAs nTTQ== X-Gm-Message-State: AOJu0Yx+HgsH287KNWsL1bM+wf9V2iIi7mdBZTRvl7dy2F3zochLtURc NkFmZc60whlULJRsdP46aSUanEP/OMFVgXLkYPQefThPcuPZCGCFfQ+lQcJIXfltBGHivc7ioHJ 4zbnWlT+/QqcMLr0LqrV9sWE7Wx2blw/r6nbUF+quzqG1 X-Gm-Gg: ASbGncswOlo+3QRmVTqsJr/cMbjjtyVy0lKoVN8MFceM4k4/NMDI6RSJw9qKC+7M/g+ YLzuvclKNMR4WsunDuuWVootrmh/jFOMIn9Fh/vJj3GG9GqG171xXcJvQ/n2jDW3qT71xtYkuyC cUuMcaAagI/5MDeWrJXDdI5m18wUI/s/z+ID8lsRGgNwNgrakB4UnS4QweVrSm0Gncv47ZqCfmz PM6fPrTAgtgnnI6o78GmVV+I2LkaOnoy7hkpO7+t7GLI9ZOxwlItFVoBFBg7aK8A8QZ1K4HZxcu Ar7+vszpg7/7/lWJXMAj/h3xNYzK3BHkx8qUlE3qJKC5D5wmwSHw9IRbnn/D2PWUZqV/Xg== X-Google-Smtp-Source: AGHT+IEsjiEzBIy2T5tFOXYeCP/WWxHNuIRz/1g8RAIe0V1kXQIOQgKwFKSawDnqzwhHWEoZ5MQTCVvjXwRR X-Received: by 2002:a05:6602:14c2:b0:875:b8b7:7864 with SMTP id ca18e2360f4ac-8795b100e65mr184891339f.6.1752045701437; Wed, 09 Jul 2025 00:21:41 -0700 (PDT) Received: from postal.iol.unh.edu (postal.iol.unh.edu. [132.177.123.84]) by smtp-relay.gmail.com with ESMTPS id 8926c6da1cb9f-503b5be4ea8sm440635173.71.2025.07.09.00.21.41 (version=TLS1_2 cipher=ECDHE-ECDSA-AES128-GCM-SHA256 bits=128/128); Wed, 09 Jul 2025 00:21:41 -0700 (PDT) X-Relaying-Domain: iol.unh.edu Date: Wed, 09 Jul 2025 00:21:41 -0700 (PDT) Message-ID: <686e1885.050a0220.7453d.74a7SMTPIN_ADDED_MISSING@mx.google.com> Received: from [172.21.0.5] (unknown [172.18.0.240]) by postal.iol.unh.edu (Postfix) with ESMTP id EE95D6051830; Wed, 9 Jul 2025 03:21:40 -0400 (EDT) Subject: |SUCCESS| pw155084 [PATCH] [RFC] add hints to CLAUDE From: dpdklab@iol.unh.edu To: Test Report Cc: dpdk-test-reports@iol.unh.edu In-Reply-To: <20250708190957.10108-1-stephen@networkplumber.org> References: <20250708190957.10108-1-stephen@networkplumber.org> Content-Type: text/plain X-BeenThere: test-report@dpdk.org X-Mailman-Version: 2.1.29 Precedence: list List-Id: automatic DPDK test reports List-Unsubscribe: , List-Archive: List-Post: List-Help: List-Subscribe: , Errors-To: test-report-bounces@dpdk.org Test-Label: iol-unit-arm64-testing Test-Status: SUCCESS http://dpdk.org/patch/155084 _Testing PASS_ Submitter: Stephen Hemminger Date: Tuesday, July 08 2025 19:09:41 DPDK git baseline: Repo:dpdk Branch: master CommitID:e90979eebbea093f6bab2d7c222fc5f5c9a85eff 155084 --> testing pass Upstream job id: Generic-Unit-Test-DPDK#353963 Test environment and result as below: +------------------------------+--------------+----------------+---------------------------+------------------------------+ | Environment | lpm_autotest | dpdk_unit_test | cryptodev_sw_zuc_autotest | cryptodev_sw_snow3g_autotest | +==============================+==============+================+===========================+==============================+ | Ubuntu 20.04 | PASS | PASS | SKIPPED | SKIPPED | +------------------------------+--------------+----------------+---------------------------+------------------------------+ | Fedora Linux 40 | SKIPPED | PASS | SKIPPED | SKIPPED | +------------------------------+--------------+----------------+---------------------------+------------------------------+ | Debian GNU/Linux 12 | SKIPPED | PASS | SKIPPED | SKIPPED | +------------------------------+--------------+----------------+---------------------------+------------------------------+ | CentOS Stream 10 | SKIPPED | PASS | SKIPPED | SKIPPED | +------------------------------+--------------+----------------+---------------------------+------------------------------+ | Fedora Linux 41 | SKIPPED | PASS | SKIPPED | SKIPPED | +------------------------------+--------------+----------------+---------------------------+------------------------------+ | CentOS Stream 9 | SKIPPED | PASS | SKIPPED | SKIPPED | +------------------------------+--------------+----------------+---------------------------+------------------------------+ | Ubuntu 22.04 | SKIPPED | PASS | SKIPPED | SKIPPED | +------------------------------+--------------+----------------+---------------------------+------------------------------+ | Red Hat Enterprise Linux 9.5 | SKIPPED | PASS | SKIPPED | SKIPPED | +------------------------------+--------------+----------------+---------------------------+------------------------------+ | Ubuntu 24.04 | SKIPPED | PASS | SKIPPED | SKIPPED | +------------------------------+--------------+----------------+---------------------------+------------------------------+ | Debian 12 (arm) | SKIPPED | SKIPPED | PASS | PASS | +------------------------------+--------------+----------------+---------------------------+------------------------------+ Ubuntu 20.04 Kernel: 5.4 Compiler: gcc gcc (Ubuntu 9.4.0-1ubuntu1~20.04.2) 9.4.0 Fedora Linux 40 Kernel: 5.4 Compiler: clang gcc (GCC) 14.2.1 20240912 (Red Hat 14.2.1-3) Debian GNU/Linux 12 Kernel: 5.4 Compiler: gcc gcc (Debian 12.2.0-14+deb12u1) 12.2.0 CentOS Stream 10 Kernel: 5.4 Compiler: gcc gcc (GCC) 14.2.1 20250110 (Red Hat 14.2.1-8) Fedora Linux 41 Kernel: 5.4 Compiler: gcc gcc (GCC) 14.3.1 20250523 (Red Hat 14.3.1-1) CentOS Stream 9 Kernel: 5.4 Compiler: gcc gcc (GCC) 11.5.0 20240719 (Red Hat 11.5.0-7) Ubuntu 22.04 Kernel: 5.4 Compiler: gcc gcc (Ubuntu 11.4.0-1ubuntu1~22.04) 11.4.0 Red Hat Enterprise Linux 9.5 Kernel: 5.4 Compiler: gcc gcc (GCC) 11.5.0 20240719 (Red Hat 11.5.0-2) Ubuntu 24.04 Kernel: 5.4 Compiler: gcc gcc (Ubuntu 13.3.0-6ubuntu2~24.04) 13.3.0 Debian 12 (arm) Kernel: Depends on container host Compiler: gcc (Debian 12.2.0-14) 12.2.0 To view detailed results, visit: https://lab.dpdk.org/results/dashboard/patchsets/33617/ UNH-IOL DPDK Community Lab To manage your email subscriptions, visit: https://lab.dpdk.org/results/dashboard/preferences/subscriptions/