From mboxrd@z Thu Jan 1 00:00:00 1970 Return-Path: Received: from mails.dpdk.org (mails.dpdk.org [217.70.189.124]) by inbox.dpdk.org (Postfix) with ESMTP id 40DA446A87 for ; Wed, 9 Jul 2025 09:23:00 +0200 (CEST) Received: from mails.dpdk.org (localhost [127.0.0.1]) by mails.dpdk.org (Postfix) with ESMTP id 3A62A4021E; Wed, 9 Jul 2025 09:23:00 +0200 (CEST) Received: from mail-pl1-f225.google.com (mail-pl1-f225.google.com [209.85.214.225]) by mails.dpdk.org (Postfix) with ESMTP id B78664021E for ; Wed, 9 Jul 2025 09:22:58 +0200 (CEST) Received: by mail-pl1-f225.google.com with SMTP id d9443c01a7336-23aeac7d77aso47478725ad.3 for ; Wed, 09 Jul 2025 00:22:58 -0700 (PDT) DKIM-Signature: v=1; a=rsa-sha256; c=relaxed/relaxed; d=iol.unh.edu; s=unh-iol; t=1752045778; x=1752650578; darn=dpdk.org; h=references:in-reply-to:cc:to:from:subject:message-id:date:from:to :cc:subject:date:message-id:reply-to; bh=K8/ufhXoNAF7jj4JK3kdkliVAmI7Opt4If4XT6sr2DQ=; b=f0WtGfzIHSlLogopxNsSoc1gFz8sXPuLaOQfqhDTw0j9lUbt3GMPnqdtRX3L23IVf3 VXWtPLAKpJlZ9GjSKIDovYpvjRChG9HibghvuA3TtWaQxsd0aTJcU1XYJRS5tTnAb4so JEYuLr9XTglVeCqnGXBWgVUgddZA/aBcZe4rc= X-Google-DKIM-Signature: v=1; a=rsa-sha256; c=relaxed/relaxed; d=1e100.net; s=20230601; t=1752045778; x=1752650578; h=references:in-reply-to:cc:to:from:subject:message-id:date :x-gm-message-state:from:to:cc:subject:date:message-id:reply-to; bh=K8/ufhXoNAF7jj4JK3kdkliVAmI7Opt4If4XT6sr2DQ=; b=PGIrH47U/n3+ABAPw3eafmLG7EUPU79qeb+ef3TsBgqvzGQhOqUc7Zc87+9+BW3N8n XwVOGGpvMynSvz2bI1RiAlFu2hUh9NZE4mR2qsX4iNQz8CQYX3QAko+oXbBwZrFPB1Kp rhsb4KO7Y05Xa5HEScNQbQLu7KGUcprVtzwMLLhXi43AcUh1lBrHigPgeHLe1ffqXE16 qNsLIEYtNjBK9tI1vqkdq9Ff5iyfcY9lSdvja1e06z+UG/PCz9kBUnnKKCLoXXXReTyM F7c31sfKy2PPUofw+QztcaaSmXmtmaU7ZgX0D/KurZ2AfVhkuhb7uPcgseO36KPhdLdo WqFw== X-Gm-Message-State: AOJu0Yy6aS2QJZ7yJ0TVtoLrBv0Tf142JAzgQXcY0BB+dMGJ5WlNzypG m+eo31Qlbzrx49YkKQdUBAVLM3G1XQRvUQZYgA2TceBw7daCjR3EZX+6uwuomiYM+Uts2OSia5c /8BjQh7umkUhFHH1xxTUGK+Yh0+oXxxg5guoNxtdqfHbV X-Gm-Gg: ASbGnct25/ZwYIwm5k78yDXlL2T8g2mEf5bOU0CBpzeFZFEYFSs6i70n2YykcUzp7ot CDzeV+JYyFl/5RY5YPU+6B2wTp13tV4wRTmRvz6UPlNrLCLI5E1C+LagHmWaPB4z0oMJoH4t/CD bicH9SUXNKT4DHOY5bcsu1kgXYJ/fPCLNEisLyqtYI/H5AAg4mjSHZ9Ji2K+cdbPlAkbAJ46g5l AipdGJYURUncTaghy679D1T947bnb5lMo7UkMWJxkA0tpWKlUgQMgBbElCdVMGaGE6VfQu+MlBS QFaIXKql+H//iturY5qnYkZdPZ5QdKBLgP3Qkw8d3eUv6DpMnRY6nch//bUqjn9fA23pLg== X-Google-Smtp-Source: AGHT+IH1bE8GRe87Ab171d1hNWpNnff1aseLuXuotr2iDR130BgRfhuyxbA+MOlTcNZUU1cmc0j8f8tCwwo+ X-Received: by 2002:a17:903:1103:b0:235:f45f:ed53 with SMTP id d9443c01a7336-23ddb2e6349mr23165255ad.33.1752045777838; Wed, 09 Jul 2025 00:22:57 -0700 (PDT) Received: from postal.iol.unh.edu (postal.iol.unh.edu. [132.177.123.84]) by smtp-relay.gmail.com with ESMTPS id d9443c01a7336-23c844e1410sm6044985ad.73.2025.07.09.00.22.57 (version=TLS1_2 cipher=ECDHE-ECDSA-AES128-GCM-SHA256 bits=128/128); Wed, 09 Jul 2025 00:22:57 -0700 (PDT) X-Relaying-Domain: iol.unh.edu Date: Wed, 09 Jul 2025 00:22:57 -0700 (PDT) Message-ID: <686e18d1.170a0220.4ff8b.fbd0SMTPIN_ADDED_MISSING@mx.google.com> Received: from [172.21.0.5] (unknown [172.18.0.240]) by postal.iol.unh.edu (Postfix) with ESMTP id 02DCD6051830; Wed, 9 Jul 2025 03:22:57 -0400 (EDT) Subject: |WARNING| pw155085 [PATCH] [v3] pcapng: allow any protocol link type From: dpdklab@iol.unh.edu To: Test Report Cc: dpdk-test-reports@iol.unh.edu In-Reply-To: <20250708210245.3967578-1-schneide@qti.qualcomm.com> References: <20250708210245.3967578-1-schneide@qti.qualcomm.com> Content-Type: text/plain X-BeenThere: test-report@dpdk.org X-Mailman-Version: 2.1.29 Precedence: list List-Id: automatic DPDK test reports List-Unsubscribe: , List-Archive: List-Post: List-Help: List-Subscribe: , Errors-To: test-report-bounces@dpdk.org Test-Label: iol-compile-amd64-testing Test-Status: WARNING http://dpdk.org/patch/155085 _Testing issues_ Submitter: Schneide Date: Tuesday, July 08 2025 21:02:45 DPDK git baseline: Repo:dpdk Branch: master CommitID:e90979eebbea093f6bab2d7c222fc5f5c9a85eff 155085 --> testing issues Upstream job id: Generic-DPDK-Compile-Meson#406966 Test environment and result as below: +-------------------------------+--------------------+-------------------+-------------------+------------------+ | Environment | dpdk_meson_compile | dpdk_msvc_compile | dpdk_compile_spdk | dpdk_compile_ovs | +===============================+====================+===================+===================+==================+ | Ubuntu 20.04 | PASS | SKIPPED | SKIPPED | SKIPPED | +-------------------------------+--------------------+-------------------+-------------------+------------------+ | FreeBSD 14.2 | PASS | SKIPPED | SKIPPED | SKIPPED | +-------------------------------+--------------------+-------------------+-------------------+------------------+ | CentOS Stream 9 | PASS | SKIPPED | PASS | SKIPPED | +-------------------------------+--------------------+-------------------+-------------------+------------------+ | CentOS Stream 10 | PASS | SKIPPED | SKIPPED | SKIPPED | +-------------------------------+--------------------+-------------------+-------------------+------------------+ | Debian GNU/Linux 12 | PASS | SKIPPED | PASS | SKIPPED | +-------------------------------+--------------------+-------------------+-------------------+------------------+ | Fedora Linux 40 | PASS | SKIPPED | PASS | SKIPPED | +-------------------------------+--------------------+-------------------+-------------------+------------------+ | Fedora Linux 41 | PASS | SKIPPED | PASS | PASS | +-------------------------------+--------------------+-------------------+-------------------+------------------+ | openSUSE Leap 15.6 | PASS | SKIPPED | SKIPPED | SKIPPED | +-------------------------------+--------------------+-------------------+-------------------+------------------+ | Red Hat Enterprise Linux 8.10 | PASS | SKIPPED | SKIPPED | SKIPPED | +-------------------------------+--------------------+-------------------+-------------------+------------------+ | Red Hat Enterprise Linux 9.5 | PASS | SKIPPED | SKIPPED | SKIPPED | +-------------------------------+--------------------+-------------------+-------------------+------------------+ | Ubuntu 22.04 | PASS | SKIPPED | PASS | SKIPPED | +-------------------------------+--------------------+-------------------+-------------------+------------------+ | Ubuntu 24.04 | PASS | SKIPPED | PASS | PASS | +-------------------------------+--------------------+-------------------+-------------------+------------------+ | Alpine Linux 3.22.0 | PASS | SKIPPED | SKIPPED | SKIPPED | +-------------------------------+--------------------+-------------------+-------------------+------------------+ | Windows Server 2022 | SKIPPED | PASS | SKIPPED | SKIPPED | +-------------------------------+--------------------+-------------------+-------------------+------------------+ Ubuntu 20.04 Kernel: 4.19 Compiler: gcc gcc (Ubuntu 9.4.0-1ubuntu1~20.04.2) 9.4.0 FreeBSD 14.2 Kernel: 14.2-RELEASE Compiler: clang 18.1.6 CentOS Stream 9 Kernel: 5.15 Compiler: gcc gcc (GCC) 11.5.0 20240719 (Red Hat 11.5.0-7) CentOS Stream 10 Kernel: 5.15 Compiler: gcc gcc (GCC) 14.2.1 20250110 (Red Hat 14.2.1-8) Debian GNU/Linux 12 Kernel: 5.15 Compiler: gcc gcc (Debian 12.2.0-14+deb12u1) 12.2.0 Fedora Linux 40 Kernel: 5.15 Compiler: clang gcc (GCC) 14.2.1 20240912 (Red Hat 14.2.1-3) Fedora Linux 41 Kernel: 5.15 Compiler: clang gcc (GCC) 14.3.1 20250523 (Red Hat 14.3.1-1) openSUSE Leap 15.6 Kernel: 5.15 Compiler: gcc gcc (SUSE Linux) 7.5.0 Red Hat Enterprise Linux 8.10 Kernel: 5.15 Compiler: gcc gcc (GCC) 8.5.0 20210514 (Red Hat 8.5.0-22) Red Hat Enterprise Linux 9.5 Kernel: 5.15 Compiler: gcc gcc (GCC) 11.5.0 20240719 (Red Hat 11.5.0-2) Ubuntu 22.04 Kernel: 5.15 Compiler: gcc gcc (Ubuntu 11.4.0-1ubuntu1~22.04) 11.4.0 Ubuntu 24.04 Kernel: 5.15 Compiler: gcc gcc (Ubuntu 13.3.0-6ubuntu2~24.04) 13.3.0 Alpine Linux 3.22.0 Kernel: 5.15 Compiler: gcc gcc (Alpine 14.2.0) 14.2.0 Windows Server 2022 Kernel: 10.0.20348.2031 Compiler: clang 15.0.7, gcc 14.1.0 (MinGW), and MSVC VS 19.39.33521 To view detailed results, visit: https://lab.dpdk.org/results/dashboard/patchsets/33618/ UNH-IOL DPDK Community Lab To manage your email subscriptions, visit: https://lab.dpdk.org/results/dashboard/preferences/subscriptions/