From mboxrd@z Thu Jan 1 00:00:00 1970 Return-Path: Received: from mails.dpdk.org (mails.dpdk.org [217.70.189.124]) by inbox.dpdk.org (Postfix) with ESMTP id BE16A46AF7 for ; Wed, 9 Jul 2025 09:30:16 +0200 (CEST) Received: from mails.dpdk.org (localhost [127.0.0.1]) by mails.dpdk.org (Postfix) with ESMTP id 9B7634013F; Wed, 9 Jul 2025 09:30:16 +0200 (CEST) Received: from mail-io1-f97.google.com (mail-io1-f97.google.com [209.85.166.97]) by mails.dpdk.org (Postfix) with ESMTP id 3C8544013F for ; Wed, 9 Jul 2025 09:30:15 +0200 (CEST) Received: by mail-io1-f97.google.com with SMTP id ca18e2360f4ac-86d1131551eso168063439f.3 for ; Wed, 09 Jul 2025 00:30:15 -0700 (PDT) DKIM-Signature: v=1; a=rsa-sha256; c=relaxed/relaxed; d=iol.unh.edu; s=unh-iol; t=1752046214; x=1752651014; darn=dpdk.org; h=references:in-reply-to:cc:to:from:subject:message-id:date:from:to :cc:subject:date:message-id:reply-to; bh=Esn9xo8pqjBdhz4eJcnJO1uEFxczoz53/3lEG2cW/rw=; b=aaM1EP0zqPYQRwxAslSpGi/gNq/BUulhvye/U4gQyuCvOUzxLbGyYpD+MpLa7uSLMi 1OkA4W6sOjVuCOGuSGNqeioKCb4BywDB+7e13HobULm75TbH4bIOWs1dnsb6cqy9eiCl oMkuCVUY6dsRU8XjHgFGye8pE6uNuJhJaoILw= X-Google-DKIM-Signature: v=1; a=rsa-sha256; c=relaxed/relaxed; d=1e100.net; s=20230601; t=1752046214; x=1752651014; h=references:in-reply-to:cc:to:from:subject:message-id:date :x-gm-message-state:from:to:cc:subject:date:message-id:reply-to; bh=Esn9xo8pqjBdhz4eJcnJO1uEFxczoz53/3lEG2cW/rw=; b=oF9OGawgGox4mrK7adQvLvJ1zqyUE5Iq3okIz7EFDfpGK62QbxZM2srW6ZEMO3byXW yH618AWwpg7RSgTRzsJpcP4X89hdg1L+NPu6jbAPA555Ki/g7qn1RQwq92YeeebSBBJC 0rZE8rZliTUqeIAgWVT+pogDW9ih1KnblhfTJKg0PJDbDEMVJQye0zMlByJ/OdLMNadI JrH/oa4MQZo9KiESgfVLa5R4eoGm8XccnSfq5sd9dvR5rMpaYM0dEd78hhefBy1Hr1jw 5/jgW9KX9kNH91LbAA55kAGTy7C4+TuDo79JfkOV0cqKwsUM6yJDAVn1hFFUdjwfr/VO F0/w== X-Gm-Message-State: AOJu0YwNmb+SIsKiWSgsTpkHS/8euEJqh8OxtsaVA4eVDYHqte8z7iZu gq2kkI8iPneN4qxeiGwqH0bxAlPGT436qLomcmuOGwnxg/mGEJX2U9PEaXbn+92MUls+pp0QbFB 8FR/an0584L6FBVk6H9j1lbFJmvcjzDNZToOXi9uhPdaXqCMXXSxyRMctLGmL X-Gm-Gg: ASbGncsdUOH4qcH58ylS7M7/F+EHmPKLgyzlS5wILLZ/nFvMIKf+LmS6bqlNMmW2JeP LwLyGHzLMU6dmB/fE+AKaT6eXrkXQY0p5UqbVzdppuOPkp52F05d7aVozY5TNlzvEZ1nYYGi6RT 2NDPHLHVTJrX/wiOKvlOzIyrhniCY+bZDtFpqU9snnyM+pd01zuwo8CzuWB3VW+UnGfU4Ml2Zwy 26RSFNzD7X8QsjSW1phy2ngJiUMEPE8YeRP5+7Iiyl3EmIIgXPwCxASNGOZZ4rZ5Gr5BNMI5tOD gcUhyApNr7Maa7s1i4aggIFeSgeAn0Ku3KyHKnz/REz3yR8= X-Google-Smtp-Source: AGHT+IHlTXZ1SSVhL0j9D9FU5xS/jKWPIqaSXyFXFiKeuv/rXtuhkOV0I/KsUfajvV4HGj5pejdT/u3dtWdI X-Received: by 2002:a05:6602:4890:b0:876:19b9:1aaa with SMTP id ca18e2360f4ac-8795b592699mr139491939f.9.1752046214523; Wed, 09 Jul 2025 00:30:14 -0700 (PDT) Received: from postal.iol.unh.edu (postal.iol.unh.edu. [2606:4100:3880:1234::84]) by smtp-relay.gmail.com with ESMTPS id 8926c6da1cb9f-503b5bb041fsm445345173.53.2025.07.09.00.30.14 (version=TLS1_2 cipher=ECDHE-ECDSA-AES128-GCM-SHA256 bits=128/128); Wed, 09 Jul 2025 00:30:14 -0700 (PDT) X-Relaying-Domain: iol.unh.edu Date: Wed, 09 Jul 2025 00:30:14 -0700 (PDT) Message-ID: <686e1a86.050a0220.21558.7bc1SMTPIN_ADDED_MISSING@mx.google.com> Received: from [172.21.0.6] (unknown [172.18.0.240]) by postal.iol.unh.edu (Postfix) with ESMTP id 0C1D16051830; Wed, 9 Jul 2025 03:30:14 -0400 (EDT) Subject: |WARNING| pw155084 [PATCH] [RFC] add hints to CLAUDE From: dpdklab@iol.unh.edu To: Test Report Cc: dpdk-test-reports@iol.unh.edu In-Reply-To: <20250708190957.10108-1-stephen@networkplumber.org> References: <20250708190957.10108-1-stephen@networkplumber.org> Content-Type: text/plain X-BeenThere: test-report@dpdk.org X-Mailman-Version: 2.1.29 Precedence: list List-Id: automatic DPDK test reports List-Unsubscribe: , List-Archive: List-Post: List-Help: List-Subscribe: , Errors-To: test-report-bounces@dpdk.org Test-Label: iol-compile-amd64-testing Test-Status: WARNING http://dpdk.org/patch/155084 _Testing issues_ Submitter: Stephen Hemminger Date: Tuesday, July 08 2025 19:09:41 DPDK git baseline: Repo:dpdk Branch: master CommitID:e90979eebbea093f6bab2d7c222fc5f5c9a85eff 155084 --> testing issues Upstream job id: Generic-DPDK-Compile-Meson#407003 Test environment and result as below: +-------------------------------+--------------------+-------------------+------------------+-------------------+ | Environment | dpdk_meson_compile | dpdk_compile_spdk | dpdk_compile_ovs | dpdk_msvc_compile | +===============================+====================+===================+==================+===================+ | Ubuntu 20.04 | PASS | SKIPPED | SKIPPED | SKIPPED | +-------------------------------+--------------------+-------------------+------------------+-------------------+ | FreeBSD 14.2 | PASS | SKIPPED | SKIPPED | SKIPPED | +-------------------------------+--------------------+-------------------+------------------+-------------------+ | CentOS Stream 9 | PASS | PASS | SKIPPED | SKIPPED | +-------------------------------+--------------------+-------------------+------------------+-------------------+ | CentOS Stream 10 | PASS | SKIPPED | SKIPPED | SKIPPED | +-------------------------------+--------------------+-------------------+------------------+-------------------+ | Debian GNU/Linux 12 | PASS | PASS | SKIPPED | SKIPPED | +-------------------------------+--------------------+-------------------+------------------+-------------------+ | Fedora Linux 40 | PASS | PASS | SKIPPED | SKIPPED | +-------------------------------+--------------------+-------------------+------------------+-------------------+ | Fedora Linux 41 | PASS | PASS | PASS | SKIPPED | +-------------------------------+--------------------+-------------------+------------------+-------------------+ | Red Hat Enterprise Linux 8.10 | PASS | SKIPPED | SKIPPED | SKIPPED | +-------------------------------+--------------------+-------------------+------------------+-------------------+ | Red Hat Enterprise Linux 9.5 | PASS | SKIPPED | SKIPPED | SKIPPED | +-------------------------------+--------------------+-------------------+------------------+-------------------+ | Ubuntu 24.04 | PASS | PASS | PASS | SKIPPED | +-------------------------------+--------------------+-------------------+------------------+-------------------+ | Alpine Linux 3.22.0 | PASS | SKIPPED | SKIPPED | SKIPPED | +-------------------------------+--------------------+-------------------+------------------+-------------------+ | Ubuntu 22.04 | PASS | PASS | SKIPPED | SKIPPED | +-------------------------------+--------------------+-------------------+------------------+-------------------+ | openSUSE Leap 15.6 | PASS | SKIPPED | SKIPPED | SKIPPED | +-------------------------------+--------------------+-------------------+------------------+-------------------+ | Windows Server 2022 | SKIPPED | SKIPPED | SKIPPED | PASS | +-------------------------------+--------------------+-------------------+------------------+-------------------+ Ubuntu 20.04 Kernel: 4.19 Compiler: gcc gcc (Ubuntu 9.4.0-1ubuntu1~20.04.2) 9.4.0 FreeBSD 14.2 Kernel: 14.2-RELEASE Compiler: clang 18.1.6 CentOS Stream 9 Kernel: 5.15 Compiler: gcc gcc (GCC) 11.5.0 20240719 (Red Hat 11.5.0-7) CentOS Stream 10 Kernel: 5.15 Compiler: gcc gcc (GCC) 14.2.1 20250110 (Red Hat 14.2.1-8) Debian GNU/Linux 12 Kernel: 5.15 Compiler: gcc gcc (Debian 12.2.0-14+deb12u1) 12.2.0 Fedora Linux 40 Kernel: 5.15 Compiler: clang gcc (GCC) 14.2.1 20240912 (Red Hat 14.2.1-3) Fedora Linux 41 Kernel: 5.15 Compiler: clang gcc (GCC) 14.3.1 20250523 (Red Hat 14.3.1-1) Red Hat Enterprise Linux 8.10 Kernel: 5.15 Compiler: gcc gcc (GCC) 8.5.0 20210514 (Red Hat 8.5.0-22) Red Hat Enterprise Linux 9.5 Kernel: 5.15 Compiler: gcc gcc (GCC) 11.5.0 20240719 (Red Hat 11.5.0-2) Ubuntu 24.04 Kernel: 5.15 Compiler: gcc gcc (Ubuntu 13.3.0-6ubuntu2~24.04) 13.3.0 Alpine Linux 3.22.0 Kernel: 5.15 Compiler: gcc gcc (Alpine 14.2.0) 14.2.0 Ubuntu 22.04 Kernel: 5.15 Compiler: gcc gcc (Ubuntu 11.4.0-1ubuntu1~22.04) 11.4.0 openSUSE Leap 15.6 Kernel: 5.15 Compiler: gcc gcc (SUSE Linux) 7.5.0 Windows Server 2022 Kernel: 10.0.20348.2031 Compiler: clang 15.0.7, gcc 14.1.0 (MinGW), and MSVC VS 19.39.33521 To view detailed results, visit: https://lab.dpdk.org/results/dashboard/patchsets/33617/ UNH-IOL DPDK Community Lab To manage your email subscriptions, visit: https://lab.dpdk.org/results/dashboard/preferences/subscriptions/