From mboxrd@z Thu Jan 1 00:00:00 1970 Return-Path: Received: from mails.dpdk.org (mails.dpdk.org [217.70.189.124]) by inbox.dpdk.org (Postfix) with ESMTP id 5571046B27 for ; Wed, 9 Jul 2025 10:06:59 +0200 (CEST) Received: from mails.dpdk.org (localhost [127.0.0.1]) by mails.dpdk.org (Postfix) with ESMTP id 286D54013F; Wed, 9 Jul 2025 10:06:59 +0200 (CEST) Received: from mail-il1-f228.google.com (mail-il1-f228.google.com [209.85.166.228]) by mails.dpdk.org (Postfix) with ESMTP id 355614013F for ; Wed, 9 Jul 2025 10:06:57 +0200 (CEST) Received: by mail-il1-f228.google.com with SMTP id e9e14a558f8ab-3df3854e622so1694655ab.1 for ; Wed, 09 Jul 2025 01:06:57 -0700 (PDT) DKIM-Signature: v=1; a=rsa-sha256; c=relaxed/relaxed; d=iol.unh.edu; s=unh-iol; t=1752048416; x=1752653216; darn=dpdk.org; h=references:in-reply-to:cc:to:from:subject:message-id:date:from:to :cc:subject:date:message-id:reply-to; bh=N0mlKAwGxbepZrVc3tm9EYL89pmMZ1lLZxl9pU13y/w=; b=fBVHO8JhrkNZp94MRmqpL/pER/fM+RlKCbbps5t0rNIHpmpKV7+Rxq18kJYOBmQXAe pEq2+lciakHDOjQbpujrb5NTxYWkXA+lzjO7gDOjjRQKJ9Fz0tdFLBUecnW1JgVCKzaA eTUey9JGCAX8MTXkUja8jKpmes19zrkNqzgWc= X-Google-DKIM-Signature: v=1; a=rsa-sha256; c=relaxed/relaxed; d=1e100.net; s=20230601; t=1752048416; x=1752653216; h=references:in-reply-to:cc:to:from:subject:message-id:date :x-gm-message-state:from:to:cc:subject:date:message-id:reply-to; bh=N0mlKAwGxbepZrVc3tm9EYL89pmMZ1lLZxl9pU13y/w=; b=N1ecYzy4Lg6ZcHJ8HO3zNLHM0gRxW7CL0Vl0yMTiVWet+6HxQMnZifwS2cyEqObgVb txxMRPOLENaL98VJUuKxOKkhf5MF12Jhw0PzG30ACRvBaGTFo3wXt4cQnAf7IjM+ImKg iGCxiv1pfD1O07vT4JZnW6yjBMHJfly/00XiDi+QWIdTNd8+Py5BwC0AeeiQwq+9SyCA 1xwEC7ZMnBqjrAzGH+qE73K3xGEO7AWdQGZyJYWoB8yA3KkX1i+o5l+bAwpVCg7cQbTZ hVWGBgPAnxL+rB4gj91JAcp4YAiBxf7z7WQ5PKg0hHpoGRd/vNqQwOFLSwNZnwthThgi fEVQ== X-Gm-Message-State: AOJu0YysQJysF7XEpIhe0cCZUvR+yuA/6x9DK5V8MRIQejeXgOHzGCpk BtwynSgszpNUyyI9GzfBYJMYrhnFuYrc2TNNswgzSS2rm/I2T9wQuEZn+OwfkS6aoZJC79r20r4 dRDnbXSrVN6fdM555Ajn0/pKFEqQsMcIx4vF9oYUC5Y8icBqTqjtMWT05ptJL X-Gm-Gg: ASbGncs7GrzoYRHtLz6UBPsE2oin9q0GtgNZh9Px5chAovbpuT4m/7V6qD2qTyvBnFa bYRHOEUt6eWFrXGliL8PomBvh0xT7yjanSy9GCZxzZZXCwDR5tnibs7SV6SKaufI4J10cD1ojcP ShG7v5WShjO/utkOEJd+o9ypgROpD7UCUFwgK+H68r71s0kzSoX7qcrije+6tY0YGvMnndj7e3y WPxnUn4s6kOnhnwHp32RB1R62WxJzDQ8QIIsCKQVhOcuQlctFi6xBGahTOS2wxsBKt9RY1KARe9 UH15UgpCZ+uDdPLFWchdmPZ5c56/eMkzx2kB1N3qK9zNGbs= X-Google-Smtp-Source: AGHT+IFW+HuDtaonf29xTLMbqvg6MeMlaRjiIPri+oll9TAW87oTz1m33cR8Dfqohw9BYRAydB7oT9jTB8wp X-Received: by 2002:a05:6e02:2701:b0:3e1:640c:bd1d with SMTP id e9e14a558f8ab-3e16802f297mr10808445ab.5.1752048416383; Wed, 09 Jul 2025 01:06:56 -0700 (PDT) Received: from postal.iol.unh.edu (postal.iol.unh.edu. [2606:4100:3880:1234::84]) by smtp-relay.gmail.com with ESMTPS id e9e14a558f8ab-3e0f3434982sm7690775ab.14.2025.07.09.01.06.56 (version=TLS1_2 cipher=ECDHE-ECDSA-AES128-GCM-SHA256 bits=128/128); Wed, 09 Jul 2025 01:06:56 -0700 (PDT) X-Relaying-Domain: iol.unh.edu Date: Wed, 09 Jul 2025 01:06:56 -0700 (PDT) Message-ID: <686e2320.050a0220.2a1c77.a3abSMTPIN_ADDED_MISSING@mx.google.com> Received: from [172.21.0.6] (unknown [172.18.0.240]) by postal.iol.unh.edu (Postfix) with ESMTP id DB5876051830; Wed, 9 Jul 2025 04:06:55 -0400 (EDT) Subject: |SUCCESS| pw155084 [PATCH] [RFC] add hints to CLAUDE From: dpdklab@iol.unh.edu To: Test Report Cc: dpdk-test-reports@iol.unh.edu In-Reply-To: <20250708190957.10108-1-stephen@networkplumber.org> References: <20250708190957.10108-1-stephen@networkplumber.org> Content-Type: text/plain X-BeenThere: test-report@dpdk.org X-Mailman-Version: 2.1.29 Precedence: list List-Id: automatic DPDK test reports List-Unsubscribe: , List-Archive: List-Post: List-Help: List-Subscribe: , Errors-To: test-report-bounces@dpdk.org Test-Label: iol-unit-arm64-testing Test-Status: SUCCESS http://dpdk.org/patch/155084 _Testing PASS_ Submitter: Stephen Hemminger Date: Tuesday, July 08 2025 19:09:41 DPDK git baseline: Repo:dpdk Branch: master CommitID:e90979eebbea093f6bab2d7c222fc5f5c9a85eff 155084 --> testing pass Upstream job id: Generic-Unit-Test-DPDK#353989 Test environment and result as below: +------------------------------+--------------+---------------------------+------------------------------+----------------+ | Environment | lpm_autotest | cryptodev_sw_zuc_autotest | cryptodev_sw_snow3g_autotest | dpdk_unit_test | +==============================+==============+===========================+==============================+================+ | Ubuntu 20.04 | PASS | SKIPPED | SKIPPED | PASS | +------------------------------+--------------+---------------------------+------------------------------+----------------+ | Debian 12 (arm) | SKIPPED | PASS | PASS | SKIPPED | +------------------------------+--------------+---------------------------+------------------------------+----------------+ | CentOS Stream 9 | SKIPPED | SKIPPED | SKIPPED | PASS | +------------------------------+--------------+---------------------------+------------------------------+----------------+ | CentOS Stream 10 | SKIPPED | SKIPPED | SKIPPED | PASS | +------------------------------+--------------+---------------------------+------------------------------+----------------+ | Fedora Linux 40 | SKIPPED | SKIPPED | SKIPPED | PASS | +------------------------------+--------------+---------------------------+------------------------------+----------------+ | Debian GNU/Linux 12 | SKIPPED | SKIPPED | SKIPPED | PASS | +------------------------------+--------------+---------------------------+------------------------------+----------------+ | Fedora Linux 41 | SKIPPED | SKIPPED | SKIPPED | PASS | +------------------------------+--------------+---------------------------+------------------------------+----------------+ | Red Hat Enterprise Linux 9.5 | SKIPPED | SKIPPED | SKIPPED | PASS | +------------------------------+--------------+---------------------------+------------------------------+----------------+ | Ubuntu 22.04 | SKIPPED | SKIPPED | SKIPPED | PASS | +------------------------------+--------------+---------------------------+------------------------------+----------------+ | Ubuntu 24.04 | SKIPPED | SKIPPED | SKIPPED | PASS | +------------------------------+--------------+---------------------------+------------------------------+----------------+ Ubuntu 20.04 Kernel: 5.4 Compiler: gcc gcc (Ubuntu 9.4.0-1ubuntu1~20.04.2) 9.4.0 Debian 12 (arm) Kernel: Depends on container host Compiler: gcc (Debian 12.2.0-14) 12.2.0 CentOS Stream 9 Kernel: 5.4 Compiler: gcc gcc (GCC) 11.5.0 20240719 (Red Hat 11.5.0-7) CentOS Stream 10 Kernel: 5.4 Compiler: gcc gcc (GCC) 14.2.1 20250110 (Red Hat 14.2.1-8) Fedora Linux 40 Kernel: 5.4 Compiler: clang gcc (GCC) 14.2.1 20240912 (Red Hat 14.2.1-3) Debian GNU/Linux 12 Kernel: 5.4 Compiler: gcc gcc (Debian 12.2.0-14+deb12u1) 12.2.0 Fedora Linux 41 Kernel: 5.4 Compiler: gcc gcc (GCC) 14.3.1 20250523 (Red Hat 14.3.1-1) Red Hat Enterprise Linux 9.5 Kernel: 5.4 Compiler: gcc gcc (GCC) 11.5.0 20240719 (Red Hat 11.5.0-2) Ubuntu 22.04 Kernel: 5.4 Compiler: gcc gcc (Ubuntu 11.4.0-1ubuntu1~22.04) 11.4.0 Ubuntu 24.04 Kernel: 5.4 Compiler: gcc gcc (Ubuntu 13.3.0-6ubuntu2~24.04) 13.3.0 To view detailed results, visit: https://lab.dpdk.org/results/dashboard/patchsets/33617/ UNH-IOL DPDK Community Lab To manage your email subscriptions, visit: https://lab.dpdk.org/results/dashboard/preferences/subscriptions/