From mboxrd@z Thu Jan 1 00:00:00 1970 Return-Path: Received: from mails.dpdk.org (mails.dpdk.org [217.70.189.124]) by inbox.dpdk.org (Postfix) with ESMTP id 8050E46B27 for ; Wed, 9 Jul 2025 10:26:31 +0200 (CEST) Received: from mails.dpdk.org (localhost [127.0.0.1]) by mails.dpdk.org (Postfix) with ESMTP id 4D1F74021E; Wed, 9 Jul 2025 10:26:31 +0200 (CEST) Received: from mail-qv1-f98.google.com (mail-qv1-f98.google.com [209.85.219.98]) by mails.dpdk.org (Postfix) with ESMTP id 067C54021E for ; Wed, 9 Jul 2025 10:26:30 +0200 (CEST) Received: by mail-qv1-f98.google.com with SMTP id 6a1803df08f44-7048d8fec46so3049236d6.0 for ; Wed, 09 Jul 2025 01:26:29 -0700 (PDT) DKIM-Signature: v=1; a=rsa-sha256; c=relaxed/relaxed; d=iol.unh.edu; s=unh-iol; t=1752049589; x=1752654389; darn=dpdk.org; h=references:in-reply-to:cc:to:from:subject:message-id:date:from:to :cc:subject:date:message-id:reply-to; bh=Zl8nOLfAY+z5pzxu6Gsgb9V6guy6/JGXgqKfNG1VJho=; b=XzQ+w4DLjPblecdDhbPYO1Ax4SN3pQWIh/dV5Ah/BPRTDNMEpmYlvcNJgbbi6+fJmM mbensNn8piqcphvXLDPTjiDxMfZFTDI3+Ixv0de7jTLwFRrh9jtIO1XbF5oHLGehp/Ji G9x5iD2vBp1WGke/AUXLdkGpnkD4yY7hEyPeo= X-Google-DKIM-Signature: v=1; a=rsa-sha256; c=relaxed/relaxed; d=1e100.net; s=20230601; t=1752049589; x=1752654389; h=references:in-reply-to:cc:to:from:subject:message-id:date :x-gm-message-state:from:to:cc:subject:date:message-id:reply-to; bh=Zl8nOLfAY+z5pzxu6Gsgb9V6guy6/JGXgqKfNG1VJho=; b=uwlHGeTgOToniiRCNgA1R+5LzLp5kRqg7UikBmw1/B16KMpHDvqa+EAx65e2xzdmFY cSk6iPYIbnqYzvnEp4GF6/KYSpsIKKe+zXWkK7FAFw6K7DeACVy2LcnRo8GKLvuiS5ET LN6BruzJgB6zz3XWk7wUc576jjC7dlnZdDBoza72dxiPtP8mFHW9S038tsN4yvuUatAn mPV0FOPLvnfAdKuPSpRKNqvsHLS3eWr82tf4MuykLzctO+j6eMQKLhtSk7MiVtcEZzmg 5/JzKTUzmIRUgTwnTd8oRyBemDYfqh2UrOAflJveH5+ts0DE2Fp33mufYkj11IE3G/K/ drzQ== X-Gm-Message-State: AOJu0YzhjFiYuZKv0jVcz0JXeWJJtOr5mBFmepXHvXdD+wuKSbm/dadx 0rm24PSaKi8Bku7r5bLOdSGWq3V/bRMdppOB0CPYetV1V1wyag3XwxxG/mS0JaUZ1iLnjzpUBck GzzIzaC+5G3+PYviYUkZflkufa53PXwQN/hdnbPnD65R+IxE6WES77HK1WYhJ X-Gm-Gg: ASbGncu4kvKkk1HVQAL7oQE8mzXWD/CdDrImJzLpK8dx+rjbWCzdI1sZnz4ORzw/mNd F9TvCVACuBw4RYrU3KF6OIpqeh/rpncTcd/40LrZqw4G8iAELrsAxfRqMWEYqu53JcJxwP4dcjP oyfTT0dyh6jUesjqel/vCWDk/NJtKrZ9rVL3VxKB9lyZBkfjIJiDptY0cdAObKCln4QAiGm1Qpw lQ1MhnuAs/aLYnPv+3TM9RwQ7hCPQTUFf3XroRKH6mrd4rM+cy1zqfpvtkD+UC76fkXZCHYF6wa eUihRAE1CtEEAB58rDPZoxvszoOpppjuML5qOXtYBB9JIKk= X-Google-Smtp-Source: AGHT+IG9TPCMW7adzzjBe6zcUZunhDw1JgiqwJUFY1ju+/yxbfTlcep4vjz5EtIzR24ZI3BfJ9QegK3ipKeS X-Received: by 2002:ad4:5f8c:0:b0:701:d74:7d69 with SMTP id 6a1803df08f44-7048c82dcfamr19642106d6.21.1752049589312; Wed, 09 Jul 2025 01:26:29 -0700 (PDT) Received: from postal.iol.unh.edu (postal.iol.unh.edu. [2606:4100:3880:1234::84]) by smtp-relay.gmail.com with ESMTPS id 6a1803df08f44-702c4cc4f22sm6279996d6.6.2025.07.09.01.26.29 (version=TLS1_2 cipher=ECDHE-ECDSA-AES128-GCM-SHA256 bits=128/128); Wed, 09 Jul 2025 01:26:29 -0700 (PDT) X-Relaying-Domain: iol.unh.edu Date: Wed, 09 Jul 2025 01:26:29 -0700 (PDT) Message-ID: <686e27b5.d40a0220.182110.19c0SMTPIN_ADDED_MISSING@mx.google.com> Received: from [172.21.0.7] (unknown [172.18.0.240]) by postal.iol.unh.edu (Postfix) with ESMTP id 0C68A6051830; Wed, 9 Jul 2025 04:26:29 -0400 (EDT) Subject: |SUCCESS| pw154979-154986 [PATCH] [v7,8/8] bus/dpaa: optimize qman e From: dpdklab@iol.unh.edu To: Test Report Cc: dpdk-test-reports@iol.unh.edu In-Reply-To: <20250703052558.3700573-9-vanshika.shukla@nxp.com> References: <20250703052558.3700573-9-vanshika.shukla@nxp.com> Content-Type: text/plain X-BeenThere: test-report@dpdk.org X-Mailman-Version: 2.1.29 Precedence: list List-Id: automatic DPDK test reports List-Unsubscribe: , List-Archive: List-Post: List-Help: List-Subscribe: , Errors-To: test-report-bounces@dpdk.org Test-Label: iol-unit-amd64-testing Test-Status: SUCCESS http://dpdk.org/patch/154986 _Testing PASS_ Submitter: Vanshika Shukla Date: Thursday, July 03 2025 05:25:58 DPDK git baseline: Repo:dpdk Branch: master CommitID:ba982f9a1ca9b96ed0394b764f1523d482e963a2 154979-154986 --> testing pass Upstream job id: Generic-VM-Unit-Test-DPDK#29817 Test environment and result as below: +-------------------------------+----------------+ | Environment | dpdk_unit_test | +===============================+================+ | Fedora Linux 40 | PASS | +-------------------------------+----------------+ | Red Hat Enterprise Linux 8.10 | PASS | +-------------------------------+----------------+ | Red Hat Enterprise Linux 9.5 | PASS | +-------------------------------+----------------+ | CentOS Stream 10 | PASS | +-------------------------------+----------------+ | Ubuntu 24.04 | PASS | +-------------------------------+----------------+ | Fedora Linux 41 | PASS | +-------------------------------+----------------+ | CentOS Stream 9 | PASS | +-------------------------------+----------------+ | Debian GNU/Linux 12 | PASS | +-------------------------------+----------------+ | Ubuntu 22.04 | PASS | +-------------------------------+----------------+ | Ubuntu 20.04 | PASS | +-------------------------------+----------------+ | Windows Server 2022 | PASS | +-------------------------------+----------------+ Fedora Linux 40 Kernel: 5.15 Compiler: clang gcc (GCC) 14.2.1 20240912 (Red Hat 14.2.1-3) Red Hat Enterprise Linux 8.10 Kernel: 5.15 Compiler: gcc gcc (GCC) 8.5.0 20210514 (Red Hat 8.5.0-22) Red Hat Enterprise Linux 9.5 Kernel: 5.15 Compiler: gcc gcc (GCC) 11.5.0 20240719 (Red Hat 11.5.0-2) CentOS Stream 10 Kernel: 5.15 Compiler: gcc gcc (GCC) 14.2.1 20250110 (Red Hat 14.2.1-8) Ubuntu 24.04 Kernel: 5.15 Compiler: gcc gcc (Ubuntu 13.3.0-6ubuntu2~24.04) 13.3.0 Fedora Linux 41 Kernel: 5.15 Compiler: gcc gcc (GCC) 14.3.1 20250523 (Red Hat 14.3.1-1) CentOS Stream 9 Kernel: 5.15 Compiler: gcc gcc (GCC) 11.5.0 20240719 (Red Hat 11.5.0-7) Debian GNU/Linux 12 Kernel: 5.15 Compiler: gcc gcc (Debian 12.2.0-14+deb12u1) 12.2.0 Ubuntu 22.04 Kernel: 5.15 Compiler: gcc gcc (Ubuntu 11.4.0-1ubuntu1~22.04) 11.4.0 Ubuntu 20.04 Kernel: 5.15 Compiler: gcc gcc (Ubuntu 9.4.0-1ubuntu1~20.04.2) 9.4.0 Windows Server 2022 Kernel: 10.0.20348.2031 Compiler: clang 15.0.7, gcc 14.1.0 (MinGW), and MSVC VS 19.39.33521 To view detailed results, visit: https://lab.dpdk.org/results/dashboard/patchsets/33576/ UNH-IOL DPDK Community Lab To manage your email subscriptions, visit: https://lab.dpdk.org/results/dashboard/preferences/subscriptions/