From mboxrd@z Thu Jan 1 00:00:00 1970 Return-Path: Received: from mails.dpdk.org (mails.dpdk.org [217.70.189.124]) by inbox.dpdk.org (Postfix) with ESMTP id B39D646B27 for ; Wed, 9 Jul 2025 11:05:30 +0200 (CEST) Received: from mails.dpdk.org (localhost [127.0.0.1]) by mails.dpdk.org (Postfix) with ESMTP id 856D74021E; Wed, 9 Jul 2025 11:05:30 +0200 (CEST) Received: from mail-pl1-f226.google.com (mail-pl1-f226.google.com [209.85.214.226]) by mails.dpdk.org (Postfix) with ESMTP id 5DE8B4021E for ; Wed, 9 Jul 2025 11:05:29 +0200 (CEST) Received: by mail-pl1-f226.google.com with SMTP id d9443c01a7336-2349f096605so75333405ad.3 for ; Wed, 09 Jul 2025 02:05:29 -0700 (PDT) DKIM-Signature: v=1; a=rsa-sha256; c=relaxed/relaxed; d=iol.unh.edu; s=unh-iol; t=1752051928; x=1752656728; darn=dpdk.org; h=references:in-reply-to:cc:to:from:subject:message-id:date:from:to :cc:subject:date:message-id:reply-to; bh=g9h++6HTv6SLhuub8KWXVB5m/SGhDjmPuxCYHZHpuWI=; b=XUxn4M0tPat5KKp2K8uJTUO5r7xKNoIjPqEjUGnyUKbEx0Oxvq70hfOVkEgUxZ6f9z RT75t0QzlZGs3bdruADEB4cZyQXXfkAthB2QoHDUSIpeUMvgLKWzlodArfo6kJGYVPh6 FeK/cWHj6028oq0gp9lnsbzSHuGgkYpE2s49A= X-Google-DKIM-Signature: v=1; a=rsa-sha256; c=relaxed/relaxed; d=1e100.net; s=20230601; t=1752051928; x=1752656728; h=references:in-reply-to:cc:to:from:subject:message-id:date :x-gm-message-state:from:to:cc:subject:date:message-id:reply-to; bh=g9h++6HTv6SLhuub8KWXVB5m/SGhDjmPuxCYHZHpuWI=; b=UW9S+cSQtH8nQUO80GFzqyQo5v8Zk7+9zL5ZzXqWgxuSQt2agc4G4cVK9vF+zLrNzh ZHAMtXX/FalNbB0shDB7kw09X2S1NtUiOOkM4UY39pi95PE8TYmuUjaUWf7U8jfre6ar lszKHrNfRYX80odC5GrgTIqRciNqLvddqX3/jJy/Ax4jE9/G1UtLsplcExxTcDbWzml2 P3ilI2MMlXqkYYekwgXM3s56Tt6pEs2ik+dmfAAUho02NFbSbjfY3UAanxVVpanyRA53 b0tvMmqg/bVudS+KphRogvedQojyAu/kpz7cJm1opH7METfKtwbpSytxdF5i+YxMB+jU fHWA== X-Gm-Message-State: AOJu0YyYtdanamGZgTpWavNtIGci28iycPNhWkFMO/ZlayBOij0CBezC lYKVNIW+eIxz4/aqrGehjMG5rXXcK2SCDSda60ohO91K/Obp1AtLbg1E3ipVMG/LLzo1ywZvWuR DH+0acd26W0pfo37nuEuEjVr4Tin/vENCQRdeY30qvAQR/29cs58mF7FfOw7p X-Gm-Gg: ASbGnctl/w7WABojLC5ryypU+iM/3YniCdWpV+PnJRCgOLHbVgwDtCPGQGMeDjj+NLq rhBMZmjgF1IiCiZD4mKmpWs4qzP7oZOxcsO+YJhw9qiOsYFQdwGiuGhrpFQfBjoI6GJNKmVTHl8 Xze3dcoxADycHBpS4756nJsTmkPN25b6gabY1+gjUnCOl4v7AatNp/fEvCPEmE1LxjNhyv+UJJ6 jUrHKO1IJebQtvkznzoNzFtq+LOFfJKRgfxqq6aL+DDgq1o4F2+R7t8fNTykYi0btJ8XN4lHCLl tdFXPOSPGqoaoxu8lmd8HTMh9g90ryBpyWUTulsrvU2+0Vg= X-Google-Smtp-Source: AGHT+IFFGbFwK9F8Tz3/OtJAgBBc05xCZvD3xhpdU0426JOvs+t8rz3LRW+laFzpn1fDua2Xaxg5NpEi1uX3 X-Received: by 2002:a17:903:2a85:b0:23d:d2d2:b511 with SMTP id d9443c01a7336-23ddb2e20e1mr22191115ad.19.1752051928419; Wed, 09 Jul 2025 02:05:28 -0700 (PDT) Received: from postal.iol.unh.edu (postal.iol.unh.edu. [2606:4100:3880:1234::84]) by smtp-relay.gmail.com with ESMTPS id d9443c01a7336-23c8f132ed5sm5232835ad.91.2025.07.09.02.05.28 (version=TLS1_2 cipher=ECDHE-ECDSA-AES128-GCM-SHA256 bits=128/128); Wed, 09 Jul 2025 02:05:28 -0700 (PDT) X-Relaying-Domain: iol.unh.edu Date: Wed, 09 Jul 2025 02:05:28 -0700 (PDT) Message-ID: <686e30d8.170a0220.9c6d1.c470SMTPIN_ADDED_MISSING@mx.google.com> Received: from [172.21.0.5] (unknown [172.18.0.240]) by postal.iol.unh.edu (Postfix) with ESMTP id 9C3B46051830; Wed, 9 Jul 2025 05:05:27 -0400 (EDT) Subject: |WARNING| pw154925-154942 [PATCH] [V5,18/18] drivers/net: add hinic3 From: dpdklab@iol.unh.edu To: Test Report Cc: dpdk-test-reports@iol.unh.edu In-Reply-To: <20250702020953.599-19-wff_light@vip.163.com> References: <20250702020953.599-19-wff_light@vip.163.com> Content-Type: text/plain X-BeenThere: test-report@dpdk.org X-Mailman-Version: 2.1.29 Precedence: list List-Id: automatic DPDK test reports List-Unsubscribe: , List-Archive: List-Post: List-Help: List-Subscribe: , Errors-To: test-report-bounces@dpdk.org Test-Label: iol-compile-amd64-testing Test-Status: WARNING http://dpdk.org/patch/154942 _Testing issues_ Submitter: Feifei Wang Date: Wednesday, July 02 2025 02:09:41 DPDK git baseline: Repo:dpdk Branch: master CommitID:ba982f9a1ca9b96ed0394b764f1523d482e963a2 154925-154942 --> testing issues Upstream job id: Windows-Compile-DPDK-Native#29668 Test environment and result as below: +-------------------------------+--------------------+-------------------+------------------+-------------------+-------------------------+ | Environment | dpdk_meson_compile | dpdk_compile_spdk | dpdk_compile_ovs | dpdk_msvc_compile | dpdk_llvm_clang_compile | +===============================+====================+===================+==================+===================+=========================+ | CentOS Stream 9 | PASS | PASS | SKIPPED | SKIPPED | SKIPPED | +-------------------------------+--------------------+-------------------+------------------+-------------------+-------------------------+ | Debian GNU/Linux 12 | PASS | PASS | SKIPPED | SKIPPED | SKIPPED | +-------------------------------+--------------------+-------------------+------------------+-------------------+-------------------------+ | CentOS Stream 10 | PASS | SKIPPED | SKIPPED | SKIPPED | SKIPPED | +-------------------------------+--------------------+-------------------+------------------+-------------------+-------------------------+ | openSUSE Leap 15.6 | PASS | SKIPPED | SKIPPED | SKIPPED | SKIPPED | +-------------------------------+--------------------+-------------------+------------------+-------------------+-------------------------+ | Fedora Linux 41 | PASS | WARN | PASS | SKIPPED | SKIPPED | +-------------------------------+--------------------+-------------------+------------------+-------------------+-------------------------+ | Fedora Linux 40 | PASS | PASS | SKIPPED | SKIPPED | SKIPPED | +-------------------------------+--------------------+-------------------+------------------+-------------------+-------------------------+ | Red Hat Enterprise Linux 9.5 | PASS | SKIPPED | SKIPPED | SKIPPED | SKIPPED | +-------------------------------+--------------------+-------------------+------------------+-------------------+-------------------------+ | Red Hat Enterprise Linux 8.10 | PASS | SKIPPED | SKIPPED | SKIPPED | SKIPPED | +-------------------------------+--------------------+-------------------+------------------+-------------------+-------------------------+ | Ubuntu 22.04 | PASS | PASS | SKIPPED | SKIPPED | SKIPPED | +-------------------------------+--------------------+-------------------+------------------+-------------------+-------------------------+ | Ubuntu 20.04 | PASS | SKIPPED | SKIPPED | SKIPPED | SKIPPED | +-------------------------------+--------------------+-------------------+------------------+-------------------+-------------------------+ | Ubuntu 24.04 | PASS | PASS | PASS | SKIPPED | SKIPPED | +-------------------------------+--------------------+-------------------+------------------+-------------------+-------------------------+ | Alpine Linux 3.22.0 | PASS | SKIPPED | SKIPPED | SKIPPED | SKIPPED | +-------------------------------+--------------------+-------------------+------------------+-------------------+-------------------------+ | FreeBSD 14.2 | PASS | SKIPPED | SKIPPED | SKIPPED | SKIPPED | +-------------------------------+--------------------+-------------------+------------------+-------------------+-------------------------+ | Windows Server 2022 | SKIPPED | SKIPPED | SKIPPED | PASS | PASS | +-------------------------------+--------------------+-------------------+------------------+-------------------+-------------------------+ ==== 20 line log output for Fedora Linux 41 (dpdk_compile_spdk): ==== --- Failed to get log output --- ==== End log output ==== CentOS Stream 9 Kernel: 5.15 Compiler: gcc gcc (GCC) 11.5.0 20240719 (Red Hat 11.5.0-7) Debian GNU/Linux 12 Kernel: 5.15 Compiler: gcc gcc (Debian 12.2.0-14+deb12u1) 12.2.0 CentOS Stream 10 Kernel: 5.15 Compiler: gcc gcc (GCC) 14.2.1 20250110 (Red Hat 14.2.1-8) openSUSE Leap 15.6 Kernel: 5.15 Compiler: gcc gcc (SUSE Linux) 7.5.0 Fedora Linux 41 Kernel: 5.15 Compiler: gcc gcc (GCC) 14.3.1 20250523 (Red Hat 14.3.1-1) Fedora Linux 40 Kernel: 5.15 Compiler: clang gcc (GCC) 14.2.1 20240912 (Red Hat 14.2.1-3) Red Hat Enterprise Linux 9.5 Kernel: 5.15 Compiler: gcc gcc (GCC) 11.5.0 20240719 (Red Hat 11.5.0-2) Red Hat Enterprise Linux 8.10 Kernel: 5.15 Compiler: gcc gcc (GCC) 8.5.0 20210514 (Red Hat 8.5.0-22) Ubuntu 22.04 Kernel: 5.15 Compiler: gcc gcc (Ubuntu 11.4.0-1ubuntu1~22.04) 11.4.0 Ubuntu 20.04 Kernel: 4.19 Compiler: gcc gcc (Ubuntu 9.4.0-1ubuntu1~20.04.2) 9.4.0 Ubuntu 24.04 Kernel: 5.15 Compiler: gcc gcc (Ubuntu 13.3.0-6ubuntu2~24.04) 13.3.0 Alpine Linux 3.22.0 Kernel: 5.15 Compiler: gcc gcc (Alpine 14.2.0) 14.2.0 FreeBSD 14.2 Kernel: 14.2-RELEASE Compiler: clang 18.1.6 Windows Server 2022 Kernel: 10.0.20348.2031 Compiler: clang 15.0.7, gcc 14.1.0 (MinGW), and MSVC VS 19.39.33521 To view detailed results, visit: https://lab.dpdk.org/results/dashboard/patchsets/33560/ UNH-IOL DPDK Community Lab To manage your email subscriptions, visit: https://lab.dpdk.org/results/dashboard/preferences/subscriptions/