From mboxrd@z Thu Jan 1 00:00:00 1970 Return-Path: Received: from mails.dpdk.org (mails.dpdk.org [217.70.189.124]) by inbox.dpdk.org (Postfix) with ESMTP id CBAA746B27 for ; Wed, 9 Jul 2025 11:07:59 +0200 (CEST) Received: from mails.dpdk.org (localhost [127.0.0.1]) by mails.dpdk.org (Postfix) with ESMTP id C70C14021E; Wed, 9 Jul 2025 11:07:59 +0200 (CEST) Received: from mail-il1-f227.google.com (mail-il1-f227.google.com [209.85.166.227]) by mails.dpdk.org (Postfix) with ESMTP id 42B524021E for ; Wed, 9 Jul 2025 11:07:58 +0200 (CEST) Received: by mail-il1-f227.google.com with SMTP id e9e14a558f8ab-3df2dbe85d1so46485435ab.0 for ; Wed, 09 Jul 2025 02:07:58 -0700 (PDT) DKIM-Signature: v=1; a=rsa-sha256; c=relaxed/relaxed; d=iol.unh.edu; s=unh-iol; t=1752052077; x=1752656877; darn=dpdk.org; h=references:in-reply-to:cc:to:from:subject:message-id:date:from:to :cc:subject:date:message-id:reply-to; bh=FR6B7STh7tM8dC+EEYjdn7RE7cAHT3gB7J6DpPqaOSQ=; b=VsKJJdtbzyzDDqwXxJZE7MsdLQ3y8nKM00v/Elj/h2nLARIx0fWx617FsWpDYKoInB DnGl/YzDlczoOnb7lwhJFyjHwjmLThyQRYYoVuO+2SML4/Ro7PadApRJZIU0wtNfLDaJ qRxmgZGeA7jihA7+oZlpMos24iywyysFfhhnY= X-Google-DKIM-Signature: v=1; a=rsa-sha256; c=relaxed/relaxed; d=1e100.net; s=20230601; t=1752052077; x=1752656877; h=references:in-reply-to:cc:to:from:subject:message-id:date :x-gm-message-state:from:to:cc:subject:date:message-id:reply-to; bh=FR6B7STh7tM8dC+EEYjdn7RE7cAHT3gB7J6DpPqaOSQ=; b=TIYc+aFY5THANXtnAZjin1S7TD7HRsKYfZ3Qi28v2zJC5PcPeH6DPt4+DgBWv0y3Px 5+D1BrGo8fs2f2bK1lWdaTFs6L2zXytUGw+nOIS+yJQ4EnTYZLyFhLf7oDDzugfGObpm 4HxFNOIvX85bkh2mxpLeIks1Tm/ZDjxnpSAs5A6kHaNoqhug7ggyk/5WDzokxPHAmAOs wMoBgPFT/Ht6izDHGReNAILtMpmRNhBqnSyRyWclQHh0mathBrkYPUn83HumhiFmV1x0 CrLar13rdwL0iGw9/z+5jYcDQNcQmEu5pW6UC/q3jiCqhbEeutkiX+CRSISqUupWZZdE pHew== X-Gm-Message-State: AOJu0Ywy+bCKyZk6ve4bDwb5/uqvwD1MOt38BWUqWa8W1Y2P06MYLj69 imul4ZaRKTOdpz3Xbf2pm5XwT8LeEqvx2OzKuZNwdCRlD59M6Dqx8tfUitnuRtvFzNVjNWXFcdT CEyl7+xbxhQLLKydfX+DW8n5XeBw/Hh2Fb6hxpjl5YF8V X-Gm-Gg: ASbGncsgacEX1iH6KeHejKtZa1fpXAZ+Cn0IQKiMGtCmizvxvA1F9A5Y4K71GMpPXaJ jVcK/ZSAnHkYyYA6ebu4drv11AejA+OYGVkh8a+9PDjZxXOwie+bGvxPC68yq5Cn1x0Cp79U5Qt 531VNV3h7ykGO/YZdza9f/+i0yzzclee90eVdx9HS8AwW3tkStvrfz6zsKGA/yc35ytY4qEttew igheIK+tKWO4bjAeQ1xKkMK5fLSl7RbNbt+FlocNk9GY7e10uR2rF7srIUP0oHCFRJXDoXowSr8 r6VCbCElK0W2OjYnfoVpXWoTv9LjarkKZvuVyyCocUwEZ40UkQ47qMbEIHnm788svEl7EQ== X-Google-Smtp-Source: AGHT+IFIV8YHWDNU4ErBNOsevgq1OmS8zLOBl9hDasrj7H4vtUffbkW7JVla+Hm4duQQOKch5gNZ62f6lwRn X-Received: by 2002:a05:6e02:1a22:b0:3dd:b808:be74 with SMTP id e9e14a558f8ab-3e1670aea7amr19060315ab.13.1752052077557; Wed, 09 Jul 2025 02:07:57 -0700 (PDT) Received: from postal.iol.unh.edu (postal.iol.unh.edu. [132.177.123.84]) by smtp-relay.gmail.com with ESMTPS id 8926c6da1cb9f-503b5a1321esm445004173.20.2025.07.09.02.07.57 (version=TLS1_2 cipher=ECDHE-ECDSA-AES128-GCM-SHA256 bits=128/128); Wed, 09 Jul 2025 02:07:57 -0700 (PDT) X-Relaying-Domain: iol.unh.edu Date: Wed, 09 Jul 2025 02:07:57 -0700 (PDT) Message-ID: <686e316d.050a0220.fb531.7d06SMTPIN_ADDED_MISSING@mx.google.com> Received: from [172.21.0.5] (unknown [172.18.0.240]) by postal.iol.unh.edu (Postfix) with ESMTP id 1621B6051830; Wed, 9 Jul 2025 05:07:57 -0400 (EDT) Subject: |SUCCESS| pw155079-155083 [PATCH] [RFC,v2,5/5] eal: simplify handlin From: dpdklab@iol.unh.edu To: Test Report Cc: dpdk-test-reports@iol.unh.edu In-Reply-To: <20250708172039.183989-6-bruce.richardson@intel.com> References: <20250708172039.183989-6-bruce.richardson@intel.com> Content-Type: text/plain X-BeenThere: test-report@dpdk.org X-Mailman-Version: 2.1.29 Precedence: list List-Id: automatic DPDK test reports List-Unsubscribe: , List-Archive: List-Post: List-Help: List-Subscribe: , Errors-To: test-report-bounces@dpdk.org Test-Label: iol-unit-arm64-testing Test-Status: SUCCESS http://dpdk.org/patch/155083 _Testing PASS_ Submitter: Bruce Richardson Date: Tuesday, July 08 2025 17:20:39 DPDK git baseline: Repo:dpdk Branch: master CommitID:e90979eebbea093f6bab2d7c222fc5f5c9a85eff 155079-155083 --> testing pass Upstream job id: Generic-Unit-Test-DPDK#354021 Test environment and result as below: +------------------------------+----------------+---------------------------+--------------+------------------------------+ | Environment | dpdk_unit_test | cryptodev_sw_zuc_autotest | lpm_autotest | cryptodev_sw_snow3g_autotest | +==============================+================+===========================+==============+==============================+ | CentOS Stream 10 | PASS | SKIPPED | SKIPPED | SKIPPED | +------------------------------+----------------+---------------------------+--------------+------------------------------+ | CentOS Stream 9 | PASS | SKIPPED | SKIPPED | SKIPPED | +------------------------------+----------------+---------------------------+--------------+------------------------------+ | Red Hat Enterprise Linux 9.5 | PASS | SKIPPED | SKIPPED | SKIPPED | +------------------------------+----------------+---------------------------+--------------+------------------------------+ | Debian GNU/Linux 12 | PASS | SKIPPED | SKIPPED | SKIPPED | +------------------------------+----------------+---------------------------+--------------+------------------------------+ | Fedora Linux 40 | PASS | SKIPPED | SKIPPED | SKIPPED | +------------------------------+----------------+---------------------------+--------------+------------------------------+ | Fedora Linux 41 | PASS | SKIPPED | SKIPPED | SKIPPED | +------------------------------+----------------+---------------------------+--------------+------------------------------+ | Ubuntu 20.04 | PASS | SKIPPED | PASS | SKIPPED | +------------------------------+----------------+---------------------------+--------------+------------------------------+ | Ubuntu 22.04 | PASS | SKIPPED | SKIPPED | SKIPPED | +------------------------------+----------------+---------------------------+--------------+------------------------------+ | Ubuntu 24.04 | PASS | SKIPPED | SKIPPED | SKIPPED | +------------------------------+----------------+---------------------------+--------------+------------------------------+ | Debian 12 (arm) | SKIPPED | PASS | SKIPPED | PASS | +------------------------------+----------------+---------------------------+--------------+------------------------------+ CentOS Stream 10 Kernel: 5.4 Compiler: gcc gcc (GCC) 14.2.1 20250110 (Red Hat 14.2.1-8) CentOS Stream 9 Kernel: 5.4 Compiler: gcc gcc (GCC) 11.5.0 20240719 (Red Hat 11.5.0-7) Red Hat Enterprise Linux 9.5 Kernel: 5.4 Compiler: gcc gcc (GCC) 11.5.0 20240719 (Red Hat 11.5.0-2) Debian GNU/Linux 12 Kernel: 5.4 Compiler: gcc gcc (Debian 12.2.0-14+deb12u1) 12.2.0 Fedora Linux 40 Kernel: 5.4 Compiler: clang gcc (GCC) 14.2.1 20240912 (Red Hat 14.2.1-3) Fedora Linux 41 Kernel: 5.4 Compiler: clang gcc (GCC) 14.3.1 20250523 (Red Hat 14.3.1-1) Ubuntu 20.04 Kernel: 5.4 Compiler: gcc gcc (Ubuntu 9.4.0-1ubuntu1~20.04.2) 9.4.0 Ubuntu 22.04 Kernel: 5.4 Compiler: gcc gcc (Ubuntu 11.4.0-1ubuntu1~22.04) 11.4.0 Ubuntu 24.04 Kernel: 5.4 Compiler: gcc gcc (Ubuntu 13.3.0-6ubuntu2~24.04) 13.3.0 Debian 12 (arm) Kernel: Depends on container host Compiler: gcc (Debian 12.2.0-14) 12.2.0 To view detailed results, visit: https://lab.dpdk.org/results/dashboard/patchsets/33616/ UNH-IOL DPDK Community Lab To manage your email subscriptions, visit: https://lab.dpdk.org/results/dashboard/preferences/subscriptions/