From mboxrd@z Thu Jan 1 00:00:00 1970 Return-Path: Received: from mails.dpdk.org (mails.dpdk.org [217.70.189.124]) by inbox.dpdk.org (Postfix) with ESMTP id DEA6546B27 for ; Wed, 9 Jul 2025 11:08:16 +0200 (CEST) Received: from mails.dpdk.org (localhost [127.0.0.1]) by mails.dpdk.org (Postfix) with ESMTP id D4A5D4021E; Wed, 9 Jul 2025 11:08:16 +0200 (CEST) Received: from mail-qv1-f100.google.com (mail-qv1-f100.google.com [209.85.219.100]) by mails.dpdk.org (Postfix) with ESMTP id 435694021E for ; Wed, 9 Jul 2025 11:08:15 +0200 (CEST) Received: by mail-qv1-f100.google.com with SMTP id 6a1803df08f44-6ecf99dd567so72094606d6.0 for ; Wed, 09 Jul 2025 02:08:15 -0700 (PDT) DKIM-Signature: v=1; a=rsa-sha256; c=relaxed/relaxed; d=iol.unh.edu; s=unh-iol; t=1752052094; x=1752656894; darn=dpdk.org; h=references:in-reply-to:cc:to:from:subject:message-id:date:from:to :cc:subject:date:message-id:reply-to; bh=Q14xN1NcDgnkAaAGFV1dTfhrsXovhcR0eUTmkGtX1QQ=; b=jngxbpVSqjLDE/KmWHu3hV4wzIYNEk39WfYX4RgIJ0/C4EzIi6JR2ADMtrL3U1uTTI ytJQaPTcRdfCgPi/bC0ZBy8d2pKmVybi22DTleIC3EUXdE3d88mMVdqQIAc1rLRA/kTM YX+VBofskPNmGQPsyfu/QdWKSO9GPa2duFKFw= X-Google-DKIM-Signature: v=1; a=rsa-sha256; c=relaxed/relaxed; d=1e100.net; s=20230601; t=1752052094; x=1752656894; h=references:in-reply-to:cc:to:from:subject:message-id:date :x-gm-message-state:from:to:cc:subject:date:message-id:reply-to; bh=Q14xN1NcDgnkAaAGFV1dTfhrsXovhcR0eUTmkGtX1QQ=; b=kkeZetF1ECT8RJJDHSR+wq3LW/WnTS/i4WGcbwbpodTn5ZHwVPSG+tGS1EugnfMd/z w0p7mgVNPtxu9J3lsGC0vLMJG9l75fJHelJWWLKC6i4eWfO0yGDmNRmY10BuTe2eVHkM nfdeZrV7PYVfjFKPpyQ4sPnnpML89+aUf3yjhFWM7RIc/JUCPIPXrfsvJ92x+Jo8LpWS oGTPW6HZvdCSeJx11ptttHLSQI2DlD62BMBb82tPMAYQXQdKqQRMnPfULGhXNOo1AOVb UdVnRhDW7CK9Xgy5Gyj+AzoF+7nLH2x72jxbAmnwfqBH6yF7xaUti0BxvNdwfXeGC8bp 8A+Q== X-Gm-Message-State: AOJu0YziyKm/lct+oFohPHYzMFL1aBv5h46M+0WmqSKoKGotAjPRyqfk NrNvZYjAKWM6JUsRskEZ8gNG8pI62PJdBzAHHgEMnLA3fwdq0rbn1giQ/9ZgUtRjtOA5j8l9rTf ZG8N6fz43atnBKilgf7lMbed+Wt/j4j2ZO0Dp262fB580 X-Gm-Gg: ASbGncsTnym3yZYBLr9vY3nOkWTng+RClk8M99mvi2VuXUtkGKwrNi/+79NVgW/kVuu H2quH6vwWrjDhXyuCFkbq87VHP+KSl0UFuEsgJgLW8ko59wyMcHtKg82DvnPVI6IOYvsPP7RPgr CRkdOBqS8v0UvF7iQ71h0w8lJJdtXUbVmHkAbwOnmVmiCV00cWEs+rVdZ/om6u/l+OMCZneecJM vwQfLtK9iHA6MysqaKm/gbVqjDYDOYTuZCbNYhKJ0hItuAvH4LX00NmZKnmpmQmNZX30Xl58PEn qeu8T/LEk58tTEjjzTbR/VuUFJgO8wJklSP6e71raRMHmKVmsBPlk1rXqYeS+SiBZp2NvA== X-Google-Smtp-Source: AGHT+IGAUuUSc9IIMMQRgIRSOGpFwG51bVFN4l8DYG8tHYc5O6NCKAcAByNDRPQe2NoRlAJjmXJgiwaswXqB X-Received: by 2002:a05:6214:5b0c:b0:6ff:1665:44ef with SMTP id 6a1803df08f44-7048b9fdd67mr21706846d6.22.1752052094580; Wed, 09 Jul 2025 02:08:14 -0700 (PDT) Received: from postal.iol.unh.edu (postal.iol.unh.edu. [132.177.123.84]) by smtp-relay.gmail.com with ESMTPS id 6a1803df08f44-702c4d33f27sm5970566d6.38.2025.07.09.02.08.14 (version=TLS1_2 cipher=ECDHE-ECDSA-AES128-GCM-SHA256 bits=128/128); Wed, 09 Jul 2025 02:08:14 -0700 (PDT) X-Relaying-Domain: iol.unh.edu Date: Wed, 09 Jul 2025 02:08:14 -0700 (PDT) Message-ID: <686e317e.050a0220.2d9851.00c0SMTPIN_ADDED_MISSING@mx.google.com> Received: from [172.21.0.5] (unknown [172.18.0.240]) by postal.iol.unh.edu (Postfix) with ESMTP id 482346051830; Wed, 9 Jul 2025 05:08:14 -0400 (EDT) Subject: |SUCCESS| pw155079-155083 [PATCH] [RFC,v2,5/5] eal: simplify handlin From: dpdklab@iol.unh.edu To: Test Report Cc: dpdk-test-reports@iol.unh.edu In-Reply-To: <20250708172039.183989-6-bruce.richardson@intel.com> References: <20250708172039.183989-6-bruce.richardson@intel.com> Content-Type: text/plain X-BeenThere: test-report@dpdk.org X-Mailman-Version: 2.1.29 Precedence: list List-Id: automatic DPDK test reports List-Unsubscribe: , List-Archive: List-Post: List-Help: List-Subscribe: , Errors-To: test-report-bounces@dpdk.org Test-Label: iol-unit-arm64-testing Test-Status: SUCCESS http://dpdk.org/patch/155083 _Testing PASS_ Submitter: Bruce Richardson Date: Tuesday, July 08 2025 17:20:39 DPDK git baseline: Repo:dpdk Branch: master CommitID:e90979eebbea093f6bab2d7c222fc5f5c9a85eff 155079-155083 --> testing pass Upstream job id: Generic-Unit-Test-DPDK#354012 Test environment and result as below: +------------------------------+----------------+---------------------------+--------------+------------------------------+ | Environment | dpdk_unit_test | cryptodev_sw_zuc_autotest | lpm_autotest | cryptodev_sw_snow3g_autotest | +==============================+================+===========================+==============+==============================+ | CentOS Stream 10 | PASS | SKIPPED | SKIPPED | SKIPPED | +------------------------------+----------------+---------------------------+--------------+------------------------------+ | CentOS Stream 9 | PASS | SKIPPED | SKIPPED | SKIPPED | +------------------------------+----------------+---------------------------+--------------+------------------------------+ | Red Hat Enterprise Linux 9.5 | PASS | SKIPPED | SKIPPED | SKIPPED | +------------------------------+----------------+---------------------------+--------------+------------------------------+ | Debian GNU/Linux 12 | PASS | SKIPPED | SKIPPED | SKIPPED | +------------------------------+----------------+---------------------------+--------------+------------------------------+ | Fedora Linux 40 | PASS | SKIPPED | SKIPPED | SKIPPED | +------------------------------+----------------+---------------------------+--------------+------------------------------+ | Fedora Linux 41 | PASS | SKIPPED | SKIPPED | SKIPPED | +------------------------------+----------------+---------------------------+--------------+------------------------------+ | Ubuntu 20.04 | PASS | SKIPPED | PASS | SKIPPED | +------------------------------+----------------+---------------------------+--------------+------------------------------+ | Ubuntu 22.04 | PASS | SKIPPED | SKIPPED | SKIPPED | +------------------------------+----------------+---------------------------+--------------+------------------------------+ | Ubuntu 24.04 | PASS | SKIPPED | SKIPPED | SKIPPED | +------------------------------+----------------+---------------------------+--------------+------------------------------+ | Debian 12 (arm) | SKIPPED | PASS | SKIPPED | PASS | +------------------------------+----------------+---------------------------+--------------+------------------------------+ CentOS Stream 10 Kernel: 5.4 Compiler: gcc gcc (GCC) 14.2.1 20250110 (Red Hat 14.2.1-8) CentOS Stream 9 Kernel: 5.4 Compiler: gcc gcc (GCC) 11.5.0 20240719 (Red Hat 11.5.0-7) Red Hat Enterprise Linux 9.5 Kernel: 5.4 Compiler: gcc gcc (GCC) 11.5.0 20240719 (Red Hat 11.5.0-2) Debian GNU/Linux 12 Kernel: 5.4 Compiler: gcc gcc (Debian 12.2.0-14+deb12u1) 12.2.0 Fedora Linux 40 Kernel: 5.4 Compiler: clang gcc (GCC) 14.2.1 20240912 (Red Hat 14.2.1-3) Fedora Linux 41 Kernel: 5.4 Compiler: clang gcc (GCC) 14.3.1 20250523 (Red Hat 14.3.1-1) Ubuntu 20.04 Kernel: 5.4 Compiler: gcc gcc (Ubuntu 9.4.0-1ubuntu1~20.04.2) 9.4.0 Ubuntu 22.04 Kernel: 5.4 Compiler: gcc gcc (Ubuntu 11.4.0-1ubuntu1~22.04) 11.4.0 Ubuntu 24.04 Kernel: 5.4 Compiler: gcc gcc (Ubuntu 13.3.0-6ubuntu2~24.04) 13.3.0 Debian 12 (arm) Kernel: Depends on container host Compiler: gcc (Debian 12.2.0-14) 12.2.0 To view detailed results, visit: https://lab.dpdk.org/results/dashboard/patchsets/33616/ UNH-IOL DPDK Community Lab To manage your email subscriptions, visit: https://lab.dpdk.org/results/dashboard/preferences/subscriptions/