From mboxrd@z Thu Jan 1 00:00:00 1970 Return-Path: Received: from mails.dpdk.org (mails.dpdk.org [217.70.189.124]) by inbox.dpdk.org (Postfix) with ESMTP id 4A75F46B27 for ; Wed, 9 Jul 2025 11:22:31 +0200 (CEST) Received: from mails.dpdk.org (localhost [127.0.0.1]) by mails.dpdk.org (Postfix) with ESMTP id 1B7174021E; Wed, 9 Jul 2025 11:22:31 +0200 (CEST) Received: from mail-pl1-f226.google.com (mail-pl1-f226.google.com [209.85.214.226]) by mails.dpdk.org (Postfix) with ESMTP id 82E474021E for ; Wed, 9 Jul 2025 11:22:29 +0200 (CEST) Received: by mail-pl1-f226.google.com with SMTP id d9443c01a7336-237311f5a54so49795065ad.2 for ; Wed, 09 Jul 2025 02:22:29 -0700 (PDT) DKIM-Signature: v=1; a=rsa-sha256; c=relaxed/relaxed; d=iol.unh.edu; s=unh-iol; t=1752052948; x=1752657748; darn=dpdk.org; h=references:in-reply-to:cc:to:from:subject:message-id:date:from:to :cc:subject:date:message-id:reply-to; bh=skMfZy3mQWJ/91r5xGVYfj2jPwGYi5xFQKBBMmdGRXs=; b=C+IrQ20q+3+Z2D4QbAxhJuIzskgKvAHW7qQ8BP/CD0QVwYEsQEEuCCxFplJPAQ2lPi UBl2h2r6xF1uhnhbrF75dFskh80vpDXKBNSsEM0jOgLqmLlECWL3AE6rc/kkWqyX05sY ZF/OuI5CMpUvdOb24Yrda5L3pfDbivkD5VOlg= X-Google-DKIM-Signature: v=1; a=rsa-sha256; c=relaxed/relaxed; d=1e100.net; s=20230601; t=1752052948; x=1752657748; h=references:in-reply-to:cc:to:from:subject:message-id:date :x-gm-message-state:from:to:cc:subject:date:message-id:reply-to; bh=skMfZy3mQWJ/91r5xGVYfj2jPwGYi5xFQKBBMmdGRXs=; b=cu6PR3pmMoqmiiF8HinvgP0zMzKrjEOH5VUrQAPaP99rYWThmd9erg3EX5v6iQV/26 m0auFdbWTgnXqumeHTNy4A6YGXLgybH7NJeF9grXRFV1lyRom96939FYI6QK8a8h2nql 0Rl3G19QJO9pz3+4AvvVwbrwYOyhKI2J9G8YY4Aqv1o8205zjy9tAWGk2XJgLhatHD/J WE6HgyIpM3KYzuL9qaD+rV7S+Z2/jik+uV5buULv+E0cPOyhDnjPj+LYyAs1VOVjEZkM OrUNx8V2Cr/1GkH4+QnMA+6NdRvmqUnsmbCZ6FkQuNlXQurPobd1WLtXigUkZJ+Lgq/c wEAA== X-Gm-Message-State: AOJu0YxFtN+NkxKUtPxhXz62k0xOO2rqFBfcLJQmIlmFvLvwsNXZPjFW Qcn0RPzK2K/ygiajPIDO+ILsOepxjUVuRQMiggepLNTDSX3AU92vR5LbknrA1nhpKMzkTrHJIzW l6/8VkhM4MfzNe5JGYcClgy6coF4d24l8R2urjfUonPv738ynynjxUqehwz29 X-Gm-Gg: ASbGnctZaH8io3ioMc2DbXtLyc9FDPOQIoZW53M2qvAZRvA7dPYjCRLzCzJJ1meG5kq mtrR8j0wCsgn5ybd1aKGFu2yRFPEvFrGKOJAz0peANHau7oU22TiDWsjhFV73jwZHva/h2bBbS2 tWGsbiG7EXojJZci/FXlJAy3fqS3AWI3I2CoqsHOUBK8BZcl8Tyr0lKrzDjnZTbP/louURkZR3Y semkzV+qaSDzVN+8L2xA1C28TpYbUV+Nix9P3BkqKS1qlvcXRNSJD6lESiB3klXsWQe4Vjb6bLZ LPgxx2XErEB77iZpzQCwwsM5VezswLvzEtbonnpK2RR1arI= X-Google-Smtp-Source: AGHT+IELCn3+LNH3OBCvYMgdOrvHN933ISAhsBSipbRL4Jq1cHzVQ5xun9rKl7quildArnsYv+rVRan/34I0 X-Received: by 2002:a17:902:ef49:b0:234:c8ec:51b5 with SMTP id d9443c01a7336-23ddb329641mr27461495ad.53.1752052948533; Wed, 09 Jul 2025 02:22:28 -0700 (PDT) Received: from postal.iol.unh.edu (postal.iol.unh.edu. [2606:4100:3880:1234::84]) by smtp-relay.gmail.com with ESMTPS id d9443c01a7336-23c844e1404sm5856515ad.68.2025.07.09.02.22.28 (version=TLS1_2 cipher=ECDHE-ECDSA-AES128-GCM-SHA256 bits=128/128); Wed, 09 Jul 2025 02:22:28 -0700 (PDT) X-Relaying-Domain: iol.unh.edu Date: Wed, 09 Jul 2025 02:22:28 -0700 (PDT) Message-ID: <686e34d4.170a0220.c488b.fae8SMTPIN_ADDED_MISSING@mx.google.com> Received: from [172.21.0.7] (unknown [172.18.0.240]) by postal.iol.unh.edu (Postfix) with ESMTP id BAA2B6051830; Wed, 9 Jul 2025 05:22:27 -0400 (EDT) Subject: |SUCCESS| pw155084 [PATCH] [RFC] add hints to CLAUDE From: dpdklab@iol.unh.edu To: Test Report Cc: dpdk-test-reports@iol.unh.edu In-Reply-To: <20250708190957.10108-1-stephen@networkplumber.org> References: <20250708190957.10108-1-stephen@networkplumber.org> Content-Type: text/plain X-BeenThere: test-report@dpdk.org X-Mailman-Version: 2.1.29 Precedence: list List-Id: automatic DPDK test reports List-Unsubscribe: , List-Archive: List-Post: List-Help: List-Subscribe: , Errors-To: test-report-bounces@dpdk.org Test-Label: iol-compile-arm64-testing Test-Status: SUCCESS http://dpdk.org/patch/155084 _Testing PASS_ Submitter: Stephen Hemminger Date: Tuesday, July 08 2025 19:09:41 DPDK git baseline: Repo:dpdk Branch: master CommitID:e90979eebbea093f6bab2d7c222fc5f5c9a85eff 155084 --> testing pass Upstream job id: Generic-DPDK-Compile-Meson#407014 Test environment and result as below: +------------------------------+--------------------+ | Environment | dpdk_meson_compile | +==============================+====================+ | Red Hat Enterprise Linux 9.5 | PASS | +------------------------------+--------------------+ | Ubuntu 20.04 | PASS | +------------------------------+--------------------+ | Debian GNU/Linux 12 | PASS | +------------------------------+--------------------+ | Fedora Linux 40 | PASS | +------------------------------+--------------------+ | Fedora Linux 41 | PASS | +------------------------------+--------------------+ | Ubuntu 22.04 | PASS | +------------------------------+--------------------+ | Ubuntu 24.04 | PASS | +------------------------------+--------------------+ | CentOS Stream 9 | PASS | +------------------------------+--------------------+ | CentOS Stream 10 | PASS | +------------------------------+--------------------+ Red Hat Enterprise Linux 9.5 Kernel: 5.4 Compiler: gcc gcc (GCC) 11.5.0 20240719 (Red Hat 11.5.0-2) Ubuntu 20.04 Kernel: 5.15 Compiler: aarch64-linux-gnu-gcc gcc (Ubuntu 9.4.0-1ubuntu1~20.04.2) 9.4.0 Debian GNU/Linux 12 Kernel: 5.4 Compiler: gcc gcc (Debian 12.2.0-14+deb12u1) 12.2.0 Fedora Linux 40 Kernel: 5.4 Compiler: gcc gcc (GCC) 14.2.1 20240912 (Red Hat 14.2.1-3) Fedora Linux 41 Kernel: 5.4 Compiler: gcc gcc (GCC) 14.3.1 20250523 (Red Hat 14.3.1-1) Ubuntu 22.04 Kernel: 5.4 Compiler: gcc gcc (Ubuntu 11.4.0-1ubuntu1~22.04) 11.4.0 Ubuntu 24.04 Kernel: 5.4 Compiler: gcc gcc (Ubuntu 13.3.0-6ubuntu2~24.04) 13.3.0 CentOS Stream 9 Kernel: 5.4 Compiler: gcc gcc (GCC) 11.5.0 20240719 (Red Hat 11.5.0-7) CentOS Stream 10 Kernel: 5.4 Compiler: gcc gcc (GCC) 14.2.1 20250110 (Red Hat 14.2.1-8) To view detailed results, visit: https://lab.dpdk.org/results/dashboard/patchsets/33617/ UNH-IOL DPDK Community Lab To manage your email subscriptions, visit: https://lab.dpdk.org/results/dashboard/preferences/subscriptions/