From mboxrd@z Thu Jan 1 00:00:00 1970 Return-Path: Received: from mails.dpdk.org (mails.dpdk.org [217.70.189.124]) by inbox.dpdk.org (Postfix) with ESMTP id 6826246B27 for ; Wed, 9 Jul 2025 11:24:56 +0200 (CEST) Received: from mails.dpdk.org (localhost [127.0.0.1]) by mails.dpdk.org (Postfix) with ESMTP id 590634021E; Wed, 9 Jul 2025 11:24:56 +0200 (CEST) Received: from mail-pf1-f225.google.com (mail-pf1-f225.google.com [209.85.210.225]) by mails.dpdk.org (Postfix) with ESMTP id 468624021E for ; Wed, 9 Jul 2025 11:24:54 +0200 (CEST) Received: by mail-pf1-f225.google.com with SMTP id d2e1a72fcca58-747fba9f962so662606b3a.0 for ; Wed, 09 Jul 2025 02:24:54 -0700 (PDT) DKIM-Signature: v=1; a=rsa-sha256; c=relaxed/relaxed; d=iol.unh.edu; s=unh-iol; t=1752053093; x=1752657893; darn=dpdk.org; h=references:in-reply-to:cc:to:from:subject:message-id:date:from:to :cc:subject:date:message-id:reply-to; bh=ZcBkJKgJfvmGMOTF+z/N136uJG4QNMaKuGpmRy/i0Xc=; b=hIhF8qt33L9IwNM53pw5VgKL/fCTfo2IXX8yCWyyQmGuB8FisD6gcJIRk70HHZ3mQd DP6KHt8XeViQ0NH5/D4yQ6jYFft5U52c/At6EemdftThTPEDh8JPA3dCBREjv0C02JiV WBzISNbTXo1fmhAtdzVOGFHwhgARfLsMoA8wY= X-Google-DKIM-Signature: v=1; a=rsa-sha256; c=relaxed/relaxed; d=1e100.net; s=20230601; t=1752053093; x=1752657893; h=references:in-reply-to:cc:to:from:subject:message-id:date :x-gm-message-state:from:to:cc:subject:date:message-id:reply-to; bh=ZcBkJKgJfvmGMOTF+z/N136uJG4QNMaKuGpmRy/i0Xc=; b=FiaS0KGhbplhQ7OiSPzZ728WAlz4RSMGLIK7+S6/WMPXajz8RGKOH3dlrR+0I2TKfi pePLyjhTuV8XZIe8zlvd4WD1atjCrhDUEVXXGYrOnQ/JOhSenc1YdgWxxpyEsVFOvs0X wkKlVcP4A5tK5MiuctGuzHp/OXwdoKq5zFzWbmQxYVg7OBApx/u4BsqQpn66wO3YrGRj /2+1YV7yoKVMvGYzy5p/cRXmi/18ZC7FrENrAPMPdnUOYLue1it0kVPYXer51JKeJiiQ Uv0O3OXcAefbQ5PRQ6xz/YeiY56oL88lyj4IyTUjFc4WmQHsbzftMc9ZQiur5KeOWAKr nx7g== X-Gm-Message-State: AOJu0Yw9juF5W2wJVNZnz/YbpYr4nGeYcGlI3sUZX78bDOISfa7a3kbt XcSaHoM9ku8u1J8xJoVpbzZWW8fTevalsblPcjXoN0Nb/sAkWGHAQRk1HuYBA56Mr8xdl1GprpH ivQp/RYjcixBdCGaUekaPaXCMwYfWiG40xpbBcJ8xxYX1QNrdU3yJ1p/hK/Yi X-Gm-Gg: ASbGncs4ISAL2PX4GT5Fc40Jvx51Q5tyVm+I/bvLZjmKMXg2tHBzIIZIemGUfCFNLQK HP4/7KSdIV6/GISYwkJ0eXrsFnuRVRbfjcyA8R1m4QpVG1+499TcJZY5Q23svcW4n6faCBpGz8X U3HshOnoNQijHkQ9ZIqAXle1rKHoluxRv09iDEwk0qupC+HgCwu9C2xSNMNZ3ScI1qiEuo3Men+ aUBayEs6H4b5Ue5xdjKs45ALNPKgsaMcrkj/JK071UczXK0w6qFAmY+Muox8mnmc2QXdqYZBvsp Fgg8M7hymL6RtKQBF0qL7sX8zcSg07E3E54ocv3TukfjtS8= X-Google-Smtp-Source: AGHT+IH4xL5LUnDCqMv2j8Gne5utnCq4Ht3WglwqSaELvcyxispUDzV58inh2TfhxeeNX9ophW3hljsWAz8q X-Received: by 2002:a05:6a00:850:b0:748:a0b9:f873 with SMTP id d2e1a72fcca58-74ea7977781mr2278068b3a.9.1752053093307; Wed, 09 Jul 2025 02:24:53 -0700 (PDT) Received: from postal.iol.unh.edu (postal.iol.unh.edu. [2606:4100:3880:1234::84]) by smtp-relay.gmail.com with ESMTPS id d2e1a72fcca58-74ce32f3725sm653668b3a.1.2025.07.09.02.24.53 (version=TLS1_2 cipher=ECDHE-ECDSA-AES128-GCM-SHA256 bits=128/128); Wed, 09 Jul 2025 02:24:53 -0700 (PDT) X-Relaying-Domain: iol.unh.edu Date: Wed, 09 Jul 2025 02:24:53 -0700 (PDT) Message-ID: <686e3565.050a0220.dfeae.2694SMTPIN_ADDED_MISSING@mx.google.com> Received: from [172.21.0.5] (unknown [172.18.0.240]) by postal.iol.unh.edu (Postfix) with ESMTP id 8382C6051830; Wed, 9 Jul 2025 05:24:52 -0400 (EDT) Subject: |SUCCESS| pw155084 [PATCH] [RFC] add hints to CLAUDE From: dpdklab@iol.unh.edu To: Test Report Cc: dpdk-test-reports@iol.unh.edu In-Reply-To: <20250708190957.10108-1-stephen@networkplumber.org> References: <20250708190957.10108-1-stephen@networkplumber.org> Content-Type: text/plain X-BeenThere: test-report@dpdk.org X-Mailman-Version: 2.1.29 Precedence: list List-Id: automatic DPDK test reports List-Unsubscribe: , List-Archive: List-Post: List-Help: List-Subscribe: , Errors-To: test-report-bounces@dpdk.org Test-Label: iol-compile-arm64-testing Test-Status: SUCCESS http://dpdk.org/patch/155084 _Testing PASS_ Submitter: Stephen Hemminger Date: Tuesday, July 08 2025 19:09:41 DPDK git baseline: Repo:dpdk Branch: master CommitID:e90979eebbea093f6bab2d7c222fc5f5c9a85eff 155084 --> testing pass Upstream job id: Generic-DPDK-Compile-Meson#407012 Test environment and result as below: +------------------------------+--------------------+ | Environment | dpdk_meson_compile | +==============================+====================+ | Red Hat Enterprise Linux 9.5 | PASS | +------------------------------+--------------------+ | Ubuntu 20.04 | PASS | +------------------------------+--------------------+ | Debian GNU/Linux 12 | PASS | +------------------------------+--------------------+ | Fedora Linux 40 | PASS | +------------------------------+--------------------+ | Fedora Linux 41 | PASS | +------------------------------+--------------------+ | Ubuntu 22.04 | PASS | +------------------------------+--------------------+ | Ubuntu 24.04 | PASS | +------------------------------+--------------------+ | CentOS Stream 9 | PASS | +------------------------------+--------------------+ | CentOS Stream 10 | PASS | +------------------------------+--------------------+ Red Hat Enterprise Linux 9.5 Kernel: 5.4 Compiler: gcc gcc (GCC) 11.5.0 20240719 (Red Hat 11.5.0-2) Ubuntu 20.04 Kernel: 5.15 Compiler: aarch64-linux-gnu-gcc gcc (Ubuntu 9.4.0-1ubuntu1~20.04.2) 9.4.0 Debian GNU/Linux 12 Kernel: 5.4 Compiler: gcc gcc (Debian 12.2.0-14+deb12u1) 12.2.0 Fedora Linux 40 Kernel: 5.4 Compiler: gcc gcc (GCC) 14.2.1 20240912 (Red Hat 14.2.1-3) Fedora Linux 41 Kernel: 5.4 Compiler: gcc gcc (GCC) 14.3.1 20250523 (Red Hat 14.3.1-1) Ubuntu 22.04 Kernel: 5.4 Compiler: gcc gcc (Ubuntu 11.4.0-1ubuntu1~22.04) 11.4.0 Ubuntu 24.04 Kernel: 5.4 Compiler: gcc gcc (Ubuntu 13.3.0-6ubuntu2~24.04) 13.3.0 CentOS Stream 9 Kernel: 5.4 Compiler: gcc gcc (GCC) 11.5.0 20240719 (Red Hat 11.5.0-7) CentOS Stream 10 Kernel: 5.4 Compiler: gcc gcc (GCC) 14.2.1 20250110 (Red Hat 14.2.1-8) To view detailed results, visit: https://lab.dpdk.org/results/dashboard/patchsets/33617/ UNH-IOL DPDK Community Lab To manage your email subscriptions, visit: https://lab.dpdk.org/results/dashboard/preferences/subscriptions/