From mboxrd@z Thu Jan 1 00:00:00 1970 Return-Path: Received: from mails.dpdk.org (mails.dpdk.org [217.70.189.124]) by inbox.dpdk.org (Postfix) with ESMTP id B754446B27 for ; Wed, 9 Jul 2025 11:40:30 +0200 (CEST) Received: from mails.dpdk.org (localhost [127.0.0.1]) by mails.dpdk.org (Postfix) with ESMTP id B20194021E; Wed, 9 Jul 2025 11:40:30 +0200 (CEST) Received: from mail-yb1-f225.google.com (mail-yb1-f225.google.com [209.85.219.225]) by mails.dpdk.org (Postfix) with ESMTP id D8BDC4021E for ; Wed, 9 Jul 2025 11:40:28 +0200 (CEST) Received: by mail-yb1-f225.google.com with SMTP id 3f1490d57ef6-e73e9e18556so842007276.0 for ; Wed, 09 Jul 2025 02:40:28 -0700 (PDT) DKIM-Signature: v=1; a=rsa-sha256; c=relaxed/relaxed; d=iol.unh.edu; s=unh-iol; t=1752054028; x=1752658828; darn=dpdk.org; h=references:in-reply-to:cc:to:from:subject:message-id:date:from:to :cc:subject:date:message-id:reply-to; bh=Ui55KAUcDPZD2KyDKwbdCXg4nTMLQC0A6FgAhm0YLO4=; b=eJ38lNeUjtbj0XsVegBlvsCp4ET4D433CUAXcGw8aR4nlu9NpUz7oJhzvLJ+lpovy9 TWZe/RVa2AcO7r0XtqV7Ui8vcEhX+jOB3k2zuWEQ6RbE9yPywh5gAXKFH+4ucYPX4Lrq tkKItsfUnEficVI2evJFaxuVXPI/CZzkw6dKY= X-Google-DKIM-Signature: v=1; a=rsa-sha256; c=relaxed/relaxed; d=1e100.net; s=20230601; t=1752054028; x=1752658828; h=references:in-reply-to:cc:to:from:subject:message-id:date :x-gm-message-state:from:to:cc:subject:date:message-id:reply-to; bh=Ui55KAUcDPZD2KyDKwbdCXg4nTMLQC0A6FgAhm0YLO4=; b=o+hVe34cX9AP485igC48iRelyF59fQC+Yy+WxVhSwOs6x+4fZ4p6DT9E50wStmrCXv EO+qJCtpZmHNC0e6J+7FMy5QvcogJOZ9KPQgPhpYwkqPQ2/abgGN7H1bpQjg9nrsyro9 +r5JnWgGEZmhEtv+ud5v/GvLsOKztaMRlyNMrA3CBluOXdYEYu3w/tzG7/Sd6hy7qQ71 dSqkHNQ2JxHf+/EvztsP9PkNx/p0Qko8PRbj5QyuTrP7eE4mq7SV7mwr8xfxbQsizyuY mJ9MqVUKZ8zv5BtN7ydtarOsUlJ0A0+fNYF940em+979v8CiybqZHe9LQpldRijLCo4A licw== X-Gm-Message-State: AOJu0Yw4kSRTuNxGC+rPZAAgyvVr6k4yxBh3+QLjVJX2zERu2R6ETWo0 CIfztWyU6h/i7fjGw9OtAVLvbrE0Nu8KRk6lhgo0ItIC7sr0jCTCGt1kUD04UlJi/dBUDW+CGUp z960smiKqv0MCUX4CQUBFe7mBh9oKfGOblhy/g/doH1+trNCOrsN5PTYz6u2G X-Gm-Gg: ASbGncufHHfQvz+CBoJzbDshFbsPJiGHoOuXlCfR8rrj3OQndA6n8QIcr5tqsPFtJEW HnvM9JRhHTX87xJuWx7EM8HJL7a7k+wXxY1dbLLCZKnh6969GCFDYXZSdITHuogWkvGvZEhtncj 9CrDrW0f8vMEs30di++VwYkdlshGSIlndupvnf/MPtfOyZd4JQqFlU/XmDTqvEG+/0OBsbglsqx 3S1HDpQx1hCfIrT250ZmX9X7eWWmQCHABjx/5r3OMkWNx8ieqqIG9igR2YDBDY0vscMXKfAA5ZT 8taopod28pdmdSJ+V/lFxw/h+J8cDMmlCSX5UX4sJN2bXs4= X-Google-Smtp-Source: AGHT+IGvjIqHfb5B9SwVy12KjXRr4YR77zBb6xw7i5Nia0bUDdAUNVf+t8K52jFiV5gQpOcO+HhrnkurooJr X-Received: by 2002:a05:6902:1618:b0:e82:3cdb:7e9e with SMTP id 3f1490d57ef6-e8b6ef71c94mr2279783276.3.1752054028152; Wed, 09 Jul 2025 02:40:28 -0700 (PDT) Received: from postal.iol.unh.edu (postal.iol.unh.edu. [2606:4100:3880:1234::84]) by smtp-relay.gmail.com with ESMTPS id 3f1490d57ef6-e899c4320c6sm615219276.22.2025.07.09.02.40.28 (version=TLS1_2 cipher=ECDHE-ECDSA-AES128-GCM-SHA256 bits=128/128); Wed, 09 Jul 2025 02:40:28 -0700 (PDT) X-Relaying-Domain: iol.unh.edu Date: Wed, 09 Jul 2025 02:40:28 -0700 (PDT) Message-ID: <686e390c.250a0220.38c140.0552SMTPIN_ADDED_MISSING@mx.google.com> Received: from [172.21.0.5] (unknown [172.18.0.240]) by postal.iol.unh.edu (Postfix) with ESMTP id C3FEE6051830; Wed, 9 Jul 2025 05:40:27 -0400 (EDT) Subject: |SUCCESS| pw155084 [PATCH] [RFC] add hints to CLAUDE From: dpdklab@iol.unh.edu To: Test Report Cc: dpdk-test-reports@iol.unh.edu In-Reply-To: <20250708190957.10108-1-stephen@networkplumber.org> References: <20250708190957.10108-1-stephen@networkplumber.org> Content-Type: text/plain X-BeenThere: test-report@dpdk.org X-Mailman-Version: 2.1.29 Precedence: list List-Id: automatic DPDK test reports List-Unsubscribe: , List-Archive: List-Post: List-Help: List-Subscribe: , Errors-To: test-report-bounces@dpdk.org Test-Label: iol-compile-arm64-testing Test-Status: SUCCESS http://dpdk.org/patch/155084 _Testing PASS_ Submitter: Stephen Hemminger Date: Tuesday, July 08 2025 19:09:41 DPDK git baseline: Repo:dpdk Branch: master CommitID:e90979eebbea093f6bab2d7c222fc5f5c9a85eff 155084 --> testing pass Upstream job id: Generic-DPDK-Compile-Meson#407045 Test environment and result as below: +------------------------------+--------------------+ | Environment | dpdk_meson_compile | +==============================+====================+ | Red Hat Enterprise Linux 9.5 | PASS | +------------------------------+--------------------+ | Ubuntu 20.04 | PASS | +------------------------------+--------------------+ | Debian GNU/Linux 12 | PASS | +------------------------------+--------------------+ | Fedora Linux 40 | PASS | +------------------------------+--------------------+ | Fedora Linux 41 | PASS | +------------------------------+--------------------+ | Ubuntu 22.04 | PASS | +------------------------------+--------------------+ | CentOS Stream 9 | PASS | +------------------------------+--------------------+ | Ubuntu 24.04 | PASS | +------------------------------+--------------------+ | CentOS Stream 10 | PASS | +------------------------------+--------------------+ Red Hat Enterprise Linux 9.5 Kernel: 5.4 Compiler: gcc gcc (GCC) 11.5.0 20240719 (Red Hat 11.5.0-2) Ubuntu 20.04 Kernel: 5.15 Compiler: aarch64-linux-gnu-gcc gcc (Ubuntu 9.4.0-1ubuntu1~20.04.2) 9.4.0 Debian GNU/Linux 12 Kernel: 5.4 Compiler: gcc gcc (Debian 12.2.0-14+deb12u1) 12.2.0 Fedora Linux 40 Kernel: 5.4 Compiler: clang gcc (GCC) 14.2.1 20240912 (Red Hat 14.2.1-3) Fedora Linux 41 Kernel: 5.4 Compiler: gcc gcc (GCC) 14.3.1 20250523 (Red Hat 14.3.1-1) Ubuntu 22.04 Kernel: 5.4 Compiler: gcc gcc (Ubuntu 11.4.0-1ubuntu1~22.04) 11.4.0 CentOS Stream 9 Kernel: 5.4 Compiler: gcc gcc (GCC) 11.5.0 20240719 (Red Hat 11.5.0-7) Ubuntu 24.04 Kernel: 5.4 Compiler: gcc gcc (Ubuntu 13.3.0-6ubuntu2~24.04) 13.3.0 CentOS Stream 10 Kernel: 5.4 Compiler: gcc gcc (GCC) 14.2.1 20250110 (Red Hat 14.2.1-8) To view detailed results, visit: https://lab.dpdk.org/results/dashboard/patchsets/33617/ UNH-IOL DPDK Community Lab To manage your email subscriptions, visit: https://lab.dpdk.org/results/dashboard/preferences/subscriptions/