From mboxrd@z Thu Jan 1 00:00:00 1970 Return-Path: Received: from mails.dpdk.org (mails.dpdk.org [217.70.189.124]) by inbox.dpdk.org (Postfix) with ESMTP id C980C46B27 for ; Wed, 9 Jul 2025 11:40:44 +0200 (CEST) Received: from mails.dpdk.org (localhost [127.0.0.1]) by mails.dpdk.org (Postfix) with ESMTP id C59AC4021E; Wed, 9 Jul 2025 11:40:44 +0200 (CEST) Received: from mail-yb1-f227.google.com (mail-yb1-f227.google.com [209.85.219.227]) by mails.dpdk.org (Postfix) with ESMTP id BD2914021E for ; Wed, 9 Jul 2025 11:40:43 +0200 (CEST) Received: by mail-yb1-f227.google.com with SMTP id 3f1490d57ef6-e7db5c13088so637667276.1 for ; Wed, 09 Jul 2025 02:40:43 -0700 (PDT) DKIM-Signature: v=1; a=rsa-sha256; c=relaxed/relaxed; d=iol.unh.edu; s=unh-iol; t=1752054043; x=1752658843; darn=dpdk.org; h=references:in-reply-to:cc:to:from:subject:message-id:date:from:to :cc:subject:date:message-id:reply-to; bh=0h+nYC+maHwlaGmxIsha044YqYHi2osx+RovEK8L2SY=; b=Ljs7VwQvP0Wu2UjWFfV20kRX4YYNKr1XwiHZO8oA7yOZ5Rlks2ww1gqck2BCadeSzF ZsarMI/U3sNPvGe9gHs6R4NDGmFIxCAHT+bpjSssU9J0j084N2Mj/AOSbs2ikWwfo+kI u+fnpuINcA5poo9p4kewnwWdVhCTXtIcqT4Aw= X-Google-DKIM-Signature: v=1; a=rsa-sha256; c=relaxed/relaxed; d=1e100.net; s=20230601; t=1752054043; x=1752658843; h=references:in-reply-to:cc:to:from:subject:message-id:date :x-gm-message-state:from:to:cc:subject:date:message-id:reply-to; bh=0h+nYC+maHwlaGmxIsha044YqYHi2osx+RovEK8L2SY=; b=d2T4hGzEfrwebc+nzzciTOtroEJ99bNj85HHlFTnRGaLYky4pbT23BmUTQxABtqSRh eqjJ5I7mM+RudJSmLJTxus+5ejMWF8B+HwiXtk53alcAoQkqBbqyA6Nt5VuFac5W1yx/ C7Moi/gf8YBDkCc+RpktvH5zIX1AVd5P+vKP0YP6TJjoYo6tWbSJs2D3Pgg/I8zvkU1v vVojLhGsNglVfSJhScTQVSecbBP5D6SqFXitMyacRoiVFbwSgRbgxrsa+36vc/mkjYSz hTrr/fB2erJN5YjEpcvc47yQL8lDNom8dnAC0q5hUdUabKmkfngCiZC4uCps4N84hcqK piQw== X-Gm-Message-State: AOJu0Ywzazt7FafzT7OZsusleIGAnLnQxpJl5cqjAKQfkdKoTrTQe3NS WJECdlFh1xb9fVmgMwno+vtrQof6xh1CYaErwjSXCXwP2Wr/ytlB250Zerpe7X92ob00RCeEYVt ZkT+u6GHCoAD3vpdA53ORWqTaKlqsKj2xhztFyKQsQChK7BNNcH5ARoGXX5jC X-Gm-Gg: ASbGncswRCWxWInmC62peLlByCLc8MmlnwIGOY01EjsfUvE12051YNllgMFaQMnP4Ls AzttHaMzglmZ1Kt+wrb/zLFSfM16GYppbsRsTSGJeENXJM0b6Xmsk0meEkxIKjjeAaq8+QTd39F 4poAUSXNy9s6o+mmbGF7enVReA/i19OpRjndg6ZA2AstzrjTcKyc3KhrxfVpIMhrf7O7fVadmff MjxsJyXEut5Gz1eNydtzhGmcjr7HifT2Nil+XdBy7KIAfflEEkDFd6bnTfrHDHwJqwyCN/WLV21 LUjvGlRHneLvQBzl1mr2WO+8MXA6niFmoypI36uJjENHqRg= X-Google-Smtp-Source: AGHT+IHolYeUwN/DUDOH5CAtPZkp+eFaaUQTFTPBf0t41TO7Gv92udA+zc74p1wZb7YchWQFIhMdt3ySBr7r X-Received: by 2002:a05:690c:610e:b0:70e:25e2:74cf with SMTP id 00721157ae682-717b2ef60c0mr17594007b3.18.1752054043146; Wed, 09 Jul 2025 02:40:43 -0700 (PDT) Received: from postal.iol.unh.edu (postal.iol.unh.edu. [2606:4100:3880:1234::84]) by smtp-relay.gmail.com with ESMTPS id 00721157ae682-716659b626csm5537937b3.11.2025.07.09.02.40.43 (version=TLS1_2 cipher=ECDHE-ECDSA-AES128-GCM-SHA256 bits=128/128); Wed, 09 Jul 2025 02:40:43 -0700 (PDT) X-Relaying-Domain: iol.unh.edu Date: Wed, 09 Jul 2025 02:40:43 -0700 (PDT) Message-ID: <686e391b.0d0a0220.1087a0.e1d8SMTPIN_ADDED_MISSING@mx.google.com> Received: from [172.21.0.7] (unknown [172.18.0.240]) by postal.iol.unh.edu (Postfix) with ESMTP id CB1306051830; Wed, 9 Jul 2025 05:40:42 -0400 (EDT) Subject: |SUCCESS| pw155085 [PATCH] [v3] pcapng: allow any protocol link type From: dpdklab@iol.unh.edu To: Test Report Cc: dpdk-test-reports@iol.unh.edu In-Reply-To: <20250708210245.3967578-1-schneide@qti.qualcomm.com> References: <20250708210245.3967578-1-schneide@qti.qualcomm.com> Content-Type: text/plain X-BeenThere: test-report@dpdk.org X-Mailman-Version: 2.1.29 Precedence: list List-Id: automatic DPDK test reports List-Unsubscribe: , List-Archive: List-Post: List-Help: List-Subscribe: , Errors-To: test-report-bounces@dpdk.org Test-Label: iol-compile-arm64-testing Test-Status: SUCCESS http://dpdk.org/patch/155085 _Testing PASS_ Submitter: Schneide Date: Tuesday, July 08 2025 21:02:45 DPDK git baseline: Repo:dpdk Branch: master CommitID:e90979eebbea093f6bab2d7c222fc5f5c9a85eff 155085 --> testing pass Upstream job id: Generic-DPDK-Compile-Meson#406981 Test environment and result as below: +------------------------------+--------------------+ | Environment | dpdk_meson_compile | +==============================+====================+ | Ubuntu 20.04 | PASS | +------------------------------+--------------------+ | Debian GNU/Linux 12 | PASS | +------------------------------+--------------------+ | Fedora Linux 40 | PASS | +------------------------------+--------------------+ | Fedora Linux 41 | PASS | +------------------------------+--------------------+ | Ubuntu 22.04 | PASS | +------------------------------+--------------------+ | Ubuntu 24.04 | PASS | +------------------------------+--------------------+ | CentOS Stream 9 | PASS | +------------------------------+--------------------+ | CentOS Stream 10 | PASS | +------------------------------+--------------------+ | Red Hat Enterprise Linux 9.5 | PASS | +------------------------------+--------------------+ Ubuntu 20.04 Kernel: 5.15 Compiler: aarch64-linux-gnu-gcc gcc (Ubuntu 9.4.0-1ubuntu1~20.04.2) 9.4.0 Debian GNU/Linux 12 Kernel: 5.4 Compiler: gcc gcc (Debian 12.2.0-14+deb12u1) 12.2.0 Fedora Linux 40 Kernel: 5.4 Compiler: gcc gcc (GCC) 14.2.1 20240912 (Red Hat 14.2.1-3) Fedora Linux 41 Kernel: 5.4 Compiler: gcc gcc (GCC) 14.3.1 20250523 (Red Hat 14.3.1-1) Ubuntu 22.04 Kernel: 5.4 Compiler: gcc gcc (Ubuntu 11.4.0-1ubuntu1~22.04) 11.4.0 Ubuntu 24.04 Kernel: 5.4 Compiler: gcc gcc (Ubuntu 13.3.0-6ubuntu2~24.04) 13.3.0 CentOS Stream 9 Kernel: 5.4 Compiler: gcc gcc (GCC) 11.5.0 20240719 (Red Hat 11.5.0-7) CentOS Stream 10 Kernel: 5.4 Compiler: gcc gcc (GCC) 14.2.1 20250110 (Red Hat 14.2.1-8) Red Hat Enterprise Linux 9.5 Kernel: 5.4 Compiler: gcc gcc (GCC) 11.5.0 20240719 (Red Hat 11.5.0-2) To view detailed results, visit: https://lab.dpdk.org/results/dashboard/patchsets/33618/ UNH-IOL DPDK Community Lab To manage your email subscriptions, visit: https://lab.dpdk.org/results/dashboard/preferences/subscriptions/