From mboxrd@z Thu Jan 1 00:00:00 1970 Return-Path: Received: from mails.dpdk.org (mails.dpdk.org [217.70.189.124]) by inbox.dpdk.org (Postfix) with ESMTP id 50BF546B27 for ; Wed, 9 Jul 2025 12:11:34 +0200 (CEST) Received: from mails.dpdk.org (localhost [127.0.0.1]) by mails.dpdk.org (Postfix) with ESMTP id 4B08E4021E; Wed, 9 Jul 2025 12:11:34 +0200 (CEST) Received: from mail-qv1-f100.google.com (mail-qv1-f100.google.com [209.85.219.100]) by mails.dpdk.org (Postfix) with ESMTP id 9537D4021E for ; Wed, 9 Jul 2025 12:11:32 +0200 (CEST) Received: by mail-qv1-f100.google.com with SMTP id 6a1803df08f44-6fad4e6d949so30704346d6.0 for ; Wed, 09 Jul 2025 03:11:32 -0700 (PDT) DKIM-Signature: v=1; a=rsa-sha256; c=relaxed/relaxed; d=iol.unh.edu; s=unh-iol; t=1752055892; x=1752660692; darn=dpdk.org; h=references:in-reply-to:cc:to:from:subject:message-id:date:from:to :cc:subject:date:message-id:reply-to; bh=hMlLXlWZ8v1tQESXDhOZWRaWiRoikR1CTfE6u+BXyo0=; b=XciNG+Glpj8y72PjusPhxzW2IMpvNfRZJD6l7vTBvPkDrbAC6s84o04X4iNJnZvuyx ps897aqXuLHru0balT9eagmopRFS8uSRcQPupeQLXSkuL0HyGUZ5sg4VDFM9+IgxSJ2r 3Pi4YeFlov2ZMthmvyga8JYBZTMqAoUXoDYvo= X-Google-DKIM-Signature: v=1; a=rsa-sha256; c=relaxed/relaxed; d=1e100.net; s=20230601; t=1752055892; x=1752660692; h=references:in-reply-to:cc:to:from:subject:message-id:date :x-gm-message-state:from:to:cc:subject:date:message-id:reply-to; bh=hMlLXlWZ8v1tQESXDhOZWRaWiRoikR1CTfE6u+BXyo0=; b=bWMx/XZ17443ehg2in+GCEX3mZL0DV/nKWB0Vn7JPjs9HYgEsN6HqBfu4+LyRLcnaY j/Ufm9jm1hR6fY5QyAn1vdxHe4C69RfcUrQArK7SDQOjXiQk1/KN7ZgC6jqhdlOYkF/p Q7atUr0ERV9TeWoj69Ll8uUbiB5GBLQ54OnFwgw9U0J4d1co+zqh9S53+rOGAKgX95ze bLAVfUxSPkwHLmHRA19ftaIlGU5En5mJrISSSwwzSb6fbmtgPD+zQ3FXLJarZfcUlpac vyWkPVqQ+U2WcMplfK6z6SVvBBfQuCxkCMOK+5JDxMlBXydtq3aSibcW4DAJnY/zrfsO 0Jdw== X-Gm-Message-State: AOJu0YxdavY3xsbEa2AU0fa7SJT3CPp19S4/QtS8Y8G8qVkwi1orJKiI jOvrfkGppCuMSIXYiRpRRiyAU1Tamfpiu1C/VOlR7cEaQfyH4lgggXsCi3IiKoZwBUEvrN3SO// kUkUnav8T/QfhxQZLKFcRcU3oPGr53/vMGadZbeeTZum7 X-Gm-Gg: ASbGnctPqffwqk9HT46paEEqKVgz/+OmNybbwA+chBSkG/sgLG+OM8n4RJ5Dr77oAAV q3fwk9Lt8Tnq0YSaq1UxxhEGroiiIaVO4SR6svIkqhpbT2JWUKpgjjY8SV1kBC0YVCtyDGgIqTL knt7Cu5OkwbQRD3OQWlsIb3UmFa7K5DweTgdb5GsWh+GHI2z8ggd5dm3JieIgUzwPdKwmB2Uytz BI4/k/AJ2aGIrcEHEsV1JbBcXXx/1P76WTkycQewFURcqIRK7kS54tT25K7ivk6rB3OqEHwyYX8 38BKfmJl5ZHhLJ2adAtCdkVw/2I98yd0pZUPTXhxoUW4Mk8f3oTa3RfhMgY6rYdxvIYlBA== X-Google-Smtp-Source: AGHT+IET5wdydADW3PnqnNYSN0UMJOHRnwHJpCA6nmRWlUChADcKBRm42dXS0Io/WzOai1UTgNnXKMB34Xbg X-Received: by 2002:a05:6214:76b:b0:702:c93f:aabe with SMTP id 6a1803df08f44-7048b91254dmr30848616d6.16.1752055891839; Wed, 09 Jul 2025 03:11:31 -0700 (PDT) Received: from postal.iol.unh.edu (postal.iol.unh.edu. [132.177.123.84]) by smtp-relay.gmail.com with ESMTPS id 6a1803df08f44-702c4cc4f62sm6524966d6.4.2025.07.09.03.11.31 (version=TLS1_2 cipher=ECDHE-ECDSA-AES128-GCM-SHA256 bits=128/128); Wed, 09 Jul 2025 03:11:31 -0700 (PDT) X-Relaying-Domain: iol.unh.edu Date: Wed, 09 Jul 2025 03:11:31 -0700 (PDT) Message-ID: <686e4053.d40a0220.3a260e.2609SMTPIN_ADDED_MISSING@mx.google.com> Received: from [172.21.0.5] (unknown [172.18.0.240]) by postal.iol.unh.edu (Postfix) with ESMTP id 984186051830; Wed, 9 Jul 2025 06:11:31 -0400 (EDT) Subject: |SUCCESS| pw155086 [PATCH] net/mlx5: fix the queue length checking From: dpdklab@iol.unh.edu To: Test Report Cc: dpdk-test-reports@iol.unh.edu In-Reply-To: <20250709040000.112338-1-bingz@nvidia.com> References: <20250709040000.112338-1-bingz@nvidia.com> Content-Type: text/plain X-BeenThere: test-report@dpdk.org X-Mailman-Version: 2.1.29 Precedence: list List-Id: automatic DPDK test reports List-Unsubscribe: , List-Archive: List-Post: List-Help: List-Subscribe: , Errors-To: test-report-bounces@dpdk.org Test-Label: iol-compile-amd64-testing Test-Status: SUCCESS http://dpdk.org/patch/155086 _Testing PASS_ Submitter: Bing Zhao Date: Wednesday, July 09 2025 04:00:00 DPDK git baseline: Repo:dpdk Branch: master CommitID:e2888614268cbf0abcc7cd72ad97ff4e4901d0a5 155086 --> testing pass Upstream job id: Windows-Compile-DPDK-VS#6312 Test environment and result as below: +---------------------+--------------------+-------------------+ | Environment | dpdk_meson_compile | dpdk_msvc_compile | +=====================+====================+===================+ | Ubuntu 20.04 | PASS | SKIPPED | +---------------------+--------------------+-------------------+ | FreeBSD 14.2 | PASS | SKIPPED | +---------------------+--------------------+-------------------+ | Windows Server 2022 | SKIPPED | PASS | +---------------------+--------------------+-------------------+ Ubuntu 20.04 Kernel: 4.19 Compiler: gcc gcc (Ubuntu 9.4.0-1ubuntu1~20.04.2) 9.4.0 FreeBSD 14.2 Kernel: 14.2-RELEASE Compiler: clang 18.1.6 Windows Server 2022 Kernel: 10.0.20348.2031 Compiler: clang 15.0.7, gcc 14.1.0 (MinGW), and MSVC VS 19.39.33521 To view detailed results, visit: https://lab.dpdk.org/results/dashboard/patchsets/33619/ UNH-IOL DPDK Community Lab To manage your email subscriptions, visit: https://lab.dpdk.org/results/dashboard/preferences/subscriptions/