From mboxrd@z Thu Jan 1 00:00:00 1970 Return-Path: Received: from mails.dpdk.org (mails.dpdk.org [217.70.189.124]) by inbox.dpdk.org (Postfix) with ESMTP id 233C546B27 for ; Wed, 9 Jul 2025 12:19:48 +0200 (CEST) Received: from mails.dpdk.org (localhost [127.0.0.1]) by mails.dpdk.org (Postfix) with ESMTP id 1DAB44021E; Wed, 9 Jul 2025 12:19:48 +0200 (CEST) Received: from mail-pl1-f227.google.com (mail-pl1-f227.google.com [209.85.214.227]) by mails.dpdk.org (Postfix) with ESMTP id B4B064021E for ; Wed, 9 Jul 2025 12:19:46 +0200 (CEST) Received: by mail-pl1-f227.google.com with SMTP id d9443c01a7336-2363616a1a6so50990125ad.3 for ; Wed, 09 Jul 2025 03:19:46 -0700 (PDT) DKIM-Signature: v=1; a=rsa-sha256; c=relaxed/relaxed; d=iol.unh.edu; s=unh-iol; t=1752056386; x=1752661186; darn=dpdk.org; h=references:in-reply-to:cc:to:from:subject:message-id:date:from:to :cc:subject:date:message-id:reply-to; bh=5BdxN8zxHlKOqBbLLe32RKuKshnPKo+bKfwyXigPMMM=; b=K6BEDld+KOLUWB1E8dlZh98uVkmiPOoLAdHtoVkYFhZVlg+UWr0Bg+1JiLG1lF/9Pp O7DWqV0A9QUDqfayLkxrAx8bEJkB4bgs2dDrYkneE+UjeMlDhLdOCR7k511SS1K0Tx4O IJIJldMjLDIMqqpW7Pa/MXF/mRnd9n1GqU+80= X-Google-DKIM-Signature: v=1; a=rsa-sha256; c=relaxed/relaxed; d=1e100.net; s=20230601; t=1752056386; x=1752661186; h=references:in-reply-to:cc:to:from:subject:message-id:date :x-gm-message-state:from:to:cc:subject:date:message-id:reply-to; bh=5BdxN8zxHlKOqBbLLe32RKuKshnPKo+bKfwyXigPMMM=; b=Dbgn/EnFOR9RlR4v+EW4awVd83Bc9/YEfAS/CX6aRU2qpmnK773pQVW6sZIKhP7dM+ j1k1I1LPkF8dBci96C6/jmC7zHWLkNfAICVu60Ft8kOd75LYIzi+HxSmwsVUHrOzxzLq m4mvtLPyNvrT8EsryDqjOnfqKdwKfAvQECUlcQEmH32THGvelLGqACAhvZuIT+XJ4Dd3 iBVW0wi49TMv508ro/qJgTHVu01TPrf1aVUJVWfKNLCpSkKrmDEok+12flHlvBXXa0I7 jhydhG5+inWE0OWAlI2uwtoyIDzBD/yzv0nUl24dfWWeM1my+4MK1RE/+FaW2ocYELBS Ukag== X-Gm-Message-State: AOJu0YxuMfjq4X4jfMP/WP/2968pyTNwLAwJlE+Bi+W2hdKRDqYGsYum NdX3/YNJJyVVnKybSY9CbwGKuzdXEt4/l2EvBzG0ik02r87eJRYoxpQNLMgRWcviK0f2z7/Llrb Sl/o2g0So92iN58MElcOyBw1P36Jq5cKL87xg0WVmxs3I X-Gm-Gg: ASbGncvivsVohcQUEPBXr4GaHUK3vw4ZKLyUXmJZhBVth7teuAJej6JZO6CP2PyzNGR w78oDMrO2w2qly0gw0ZhSQmM7zAFn8bx+6/4TjsGmYxyx+UPkXM6qvVKE5DyZhnltiI9KkgPsho SLrbByoNTvJp4B+LJ7Fg8U+WyaN5ay5SQh+aYGpWFoKHDa2mbem1v3i8tv+IXnDI1boEA2O2mGB aQZi3arEa6Pn140Rpa9ZSNJ7R4jC/FkMpxi5+owiVfM53wX1hsGXYgYaWP2fYq/gwg8SXyawlIK CVf/B8byazw5K0BCUIfTI2zZ09UuMo8ITOhaR2SV143YsxoJ+DjGx9IGREFemB8LcVkb2w== X-Google-Smtp-Source: AGHT+IFnu5rygY8zXBXE/iu+a5QfGuuqQ5d9EN7LAdylQ6NPY++TIZ6ZLLTpj1N0ZxxJfeFt9OLIeAyceFEb X-Received: by 2002:a17:902:ef47:b0:234:d431:ec6e with SMTP id d9443c01a7336-23ddb1983dfmr31285085ad.3.1752056385941; Wed, 09 Jul 2025 03:19:45 -0700 (PDT) Received: from postal.iol.unh.edu (postal.iol.unh.edu. [132.177.123.84]) by smtp-relay.gmail.com with ESMTPS id d9443c01a7336-23c844e0a16sm6147465ad.67.2025.07.09.03.19.45 (version=TLS1_2 cipher=ECDHE-ECDSA-AES128-GCM-SHA256 bits=128/128); Wed, 09 Jul 2025 03:19:45 -0700 (PDT) X-Relaying-Domain: iol.unh.edu Date: Wed, 09 Jul 2025 03:19:45 -0700 (PDT) Message-ID: <686e4241.170a0220.33c407.fc04SMTPIN_ADDED_MISSING@mx.google.com> Received: from [172.21.0.6] (unknown [172.18.0.240]) by postal.iol.unh.edu (Postfix) with ESMTP id 654DF6051830; Wed, 9 Jul 2025 06:19:45 -0400 (EDT) Subject: |WARNING| pw155085 [PATCH] [v3] pcapng: allow any protocol link type From: dpdklab@iol.unh.edu To: Test Report Cc: dpdk-test-reports@iol.unh.edu In-Reply-To: <20250708210245.3967578-1-schneide@qti.qualcomm.com> References: <20250708210245.3967578-1-schneide@qti.qualcomm.com> Content-Type: text/plain X-BeenThere: test-report@dpdk.org X-Mailman-Version: 2.1.29 Precedence: list List-Id: automatic DPDK test reports List-Unsubscribe: , List-Archive: List-Post: List-Help: List-Subscribe: , Errors-To: test-report-bounces@dpdk.org Test-Label: iol-compile-amd64-testing Test-Status: WARNING http://dpdk.org/patch/155085 _Testing issues_ Submitter: Schneide Date: Tuesday, July 08 2025 21:02:45 DPDK git baseline: Repo:dpdk Branch: master CommitID:e90979eebbea093f6bab2d7c222fc5f5c9a85eff 155085 --> testing issues Upstream job id: Windows-Compile-DPDK-Native#29670 Test environment and result as below: +-------------------------------+--------------------+-------------------+-------------------+------------------+-------------------------+ | Environment | dpdk_meson_compile | dpdk_msvc_compile | dpdk_compile_spdk | dpdk_compile_ovs | dpdk_llvm_clang_compile | +===============================+====================+===================+===================+==================+=========================+ | Ubuntu 20.04 | PASS | SKIPPED | SKIPPED | SKIPPED | SKIPPED | +-------------------------------+--------------------+-------------------+-------------------+------------------+-------------------------+ | FreeBSD 14.2 | PASS | SKIPPED | SKIPPED | SKIPPED | SKIPPED | +-------------------------------+--------------------+-------------------+-------------------+------------------+-------------------------+ | CentOS Stream 9 | PASS | SKIPPED | PASS | SKIPPED | SKIPPED | +-------------------------------+--------------------+-------------------+-------------------+------------------+-------------------------+ | CentOS Stream 10 | PASS | SKIPPED | SKIPPED | SKIPPED | SKIPPED | +-------------------------------+--------------------+-------------------+-------------------+------------------+-------------------------+ | Debian GNU/Linux 12 | PASS | SKIPPED | PASS | SKIPPED | SKIPPED | +-------------------------------+--------------------+-------------------+-------------------+------------------+-------------------------+ | Fedora Linux 40 | PASS | SKIPPED | PASS | SKIPPED | SKIPPED | +-------------------------------+--------------------+-------------------+-------------------+------------------+-------------------------+ | Fedora Linux 41 | PASS | SKIPPED | PASS | PASS | SKIPPED | +-------------------------------+--------------------+-------------------+-------------------+------------------+-------------------------+ | openSUSE Leap 15.6 | PASS | SKIPPED | SKIPPED | SKIPPED | SKIPPED | +-------------------------------+--------------------+-------------------+-------------------+------------------+-------------------------+ | Red Hat Enterprise Linux 8.10 | PASS | SKIPPED | SKIPPED | SKIPPED | SKIPPED | +-------------------------------+--------------------+-------------------+-------------------+------------------+-------------------------+ | Red Hat Enterprise Linux 9.5 | PASS | SKIPPED | SKIPPED | SKIPPED | SKIPPED | +-------------------------------+--------------------+-------------------+-------------------+------------------+-------------------------+ | Ubuntu 22.04 | PASS | SKIPPED | PASS | SKIPPED | SKIPPED | +-------------------------------+--------------------+-------------------+-------------------+------------------+-------------------------+ | Ubuntu 24.04 | PASS | SKIPPED | PASS | PASS | SKIPPED | +-------------------------------+--------------------+-------------------+-------------------+------------------+-------------------------+ | Alpine Linux 3.22.0 | PASS | SKIPPED | SKIPPED | SKIPPED | SKIPPED | +-------------------------------+--------------------+-------------------+-------------------+------------------+-------------------------+ | Windows Server 2022 | SKIPPED | PASS | SKIPPED | SKIPPED | PASS | +-------------------------------+--------------------+-------------------+-------------------+------------------+-------------------------+ Ubuntu 20.04 Kernel: 4.19 Compiler: gcc gcc (Ubuntu 9.4.0-1ubuntu1~20.04.2) 9.4.0 FreeBSD 14.2 Kernel: 14.2-RELEASE Compiler: clang 18.1.6 CentOS Stream 9 Kernel: 5.15 Compiler: gcc gcc (GCC) 11.5.0 20240719 (Red Hat 11.5.0-7) CentOS Stream 10 Kernel: 5.15 Compiler: gcc gcc (GCC) 14.2.1 20250110 (Red Hat 14.2.1-8) Debian GNU/Linux 12 Kernel: 5.15 Compiler: gcc gcc (Debian 12.2.0-14+deb12u1) 12.2.0 Fedora Linux 40 Kernel: 5.15 Compiler: clang gcc (GCC) 14.2.1 20240912 (Red Hat 14.2.1-3) Fedora Linux 41 Kernel: 5.15 Compiler: clang gcc (GCC) 14.3.1 20250523 (Red Hat 14.3.1-1) openSUSE Leap 15.6 Kernel: 5.15 Compiler: gcc gcc (SUSE Linux) 7.5.0 Red Hat Enterprise Linux 8.10 Kernel: 5.15 Compiler: gcc gcc (GCC) 8.5.0 20210514 (Red Hat 8.5.0-22) Red Hat Enterprise Linux 9.5 Kernel: 5.15 Compiler: gcc gcc (GCC) 11.5.0 20240719 (Red Hat 11.5.0-2) Ubuntu 22.04 Kernel: 5.15 Compiler: gcc gcc (Ubuntu 11.4.0-1ubuntu1~22.04) 11.4.0 Ubuntu 24.04 Kernel: 5.15 Compiler: gcc gcc (Ubuntu 13.3.0-6ubuntu2~24.04) 13.3.0 Alpine Linux 3.22.0 Kernel: 5.15 Compiler: gcc gcc (Alpine 14.2.0) 14.2.0 Windows Server 2022 Kernel: 10.0.20348.2031 Compiler: clang 15.0.7, gcc 14.1.0 (MinGW), and MSVC VS 19.39.33521 To view detailed results, visit: https://lab.dpdk.org/results/dashboard/patchsets/33618/ UNH-IOL DPDK Community Lab To manage your email subscriptions, visit: https://lab.dpdk.org/results/dashboard/preferences/subscriptions/