From: dpdklab@iol.unh.edu
To: Test Report <test-report@dpdk.org>
Cc: dpdk-test-reports@iol.unh.edu
Subject: |SUCCESS| pw154976 [PATCH] net/iavf: fix VLAN offload strip flag
Date: Wed, 09 Jul 2025 03:20:09 -0700 (PDT) [thread overview]
Message-ID: <686e4259.050a0220.24c58b.45c7SMTPIN_ADDED_MISSING@mx.google.com> (raw)
In-Reply-To: <20250702181506.95192-1-amiyaranjan.mohakud@gmail.com>
Test-Label: iol-unit-amd64-testing
Test-Status: SUCCESS
http://dpdk.org/patch/154976
_Testing PASS_
Submitter: Amiya Ranjan Mohakud <amiyaranjan.mohakud@gmail.com>
Date: Wednesday, July 02 2025 18:15:06
DPDK git baseline: Repo:dpdk
Branch: master
CommitID:a6b10031d251fcc7dadede461f7e1d005024b139
154976 --> testing pass
Upstream job id: Generic-VM-Unit-Test-DPDK#29819
Test environment and result as below:
+-------------------------------+----------------+
| Environment | dpdk_unit_test |
+===============================+================+
| CentOS Stream 9 | PASS |
+-------------------------------+----------------+
| Debian GNU/Linux 12 | PASS |
+-------------------------------+----------------+
| Fedora Linux 40 | PASS |
+-------------------------------+----------------+
| CentOS Stream 10 | PASS |
+-------------------------------+----------------+
| Fedora Linux 41 | PASS |
+-------------------------------+----------------+
| Red Hat Enterprise Linux 8.10 | PASS |
+-------------------------------+----------------+
| Ubuntu 22.04 | PASS |
+-------------------------------+----------------+
| Red Hat Enterprise Linux 9.5 | PASS |
+-------------------------------+----------------+
| Ubuntu 20.04 | PASS |
+-------------------------------+----------------+
| Ubuntu 24.04 | PASS |
+-------------------------------+----------------+
| Windows Server 2022 | PASS |
+-------------------------------+----------------+
CentOS Stream 9
Kernel: 5.15
Compiler: gcc gcc (GCC) 11.5.0 20240719 (Red Hat 11.5.0-7)
Debian GNU/Linux 12
Kernel: 5.15
Compiler: gcc gcc (Debian 12.2.0-14+deb12u1) 12.2.0
Fedora Linux 40
Kernel: 5.15
Compiler: gcc gcc (GCC) 14.2.1 20240912 (Red Hat 14.2.1-3)
CentOS Stream 10
Kernel: 5.15
Compiler: gcc gcc (GCC) 14.2.1 20250110 (Red Hat 14.2.1-8)
Fedora Linux 41
Kernel: 5.15
Compiler: gcc gcc (GCC) 14.3.1 20250523 (Red Hat 14.3.1-1)
Red Hat Enterprise Linux 8.10
Kernel: 5.15
Compiler: gcc gcc (GCC) 8.5.0 20210514 (Red Hat 8.5.0-22)
Ubuntu 22.04
Kernel: 5.15
Compiler: gcc gcc (Ubuntu 11.4.0-1ubuntu1~22.04) 11.4.0
Red Hat Enterprise Linux 9.5
Kernel: 5.15
Compiler: gcc gcc (GCC) 11.5.0 20240719 (Red Hat 11.5.0-2)
Ubuntu 20.04
Kernel: 5.15
Compiler: gcc gcc (Ubuntu 9.4.0-1ubuntu1~20.04.2) 9.4.0
Ubuntu 24.04
Kernel: 5.15
Compiler: gcc gcc (Ubuntu 13.3.0-6ubuntu2~24.04) 13.3.0
Windows Server 2022
Kernel: 10.0.20348.2031
Compiler: clang 15.0.7, gcc 14.1.0 (MinGW), and MSVC VS 19.39.33521
To view detailed results, visit:
https://lab.dpdk.org/results/dashboard/patchsets/33573/
UNH-IOL DPDK Community Lab
To manage your email subscriptions, visit:
https://lab.dpdk.org/results/dashboard/preferences/subscriptions/
prev parent reply other threads:[~2025-07-09 10:20 UTC|newest]
Thread overview: 26+ messages / expand[flat|nested] mbox.gz Atom feed top
[not found] <20250702181506.95192-1-amiyaranjan.mohakud@gmail.com>
2025-07-02 17:46 ` |WARNING| " qemudev
2025-07-02 18:15 ` |SUCCESS| " checkpatch
2025-07-08 23:05 ` dpdklab
2025-07-08 23:13 ` dpdklab
2025-07-08 23:26 ` dpdklab
2025-07-08 23:31 ` dpdklab
2025-07-08 23:37 ` dpdklab
2025-07-08 23:48 ` dpdklab
2025-07-09 0:04 ` |PENDING| " dpdklab
2025-07-09 0:12 ` |SUCCESS| " dpdklab
2025-07-09 0:27 ` |PENDING| " dpdklab
2025-07-09 0:27 ` dpdklab
2025-07-09 1:11 ` |SUCCESS| " dpdklab
2025-07-09 1:23 ` dpdklab
2025-07-09 1:36 ` |PENDING| " dpdklab
2025-07-09 2:14 ` |SUCCESS| " dpdklab
2025-07-09 2:19 ` dpdklab
2025-07-09 3:43 ` |WARNING| " dpdklab
2025-07-09 3:43 ` dpdklab
2025-07-09 3:44 ` dpdklab
2025-07-09 3:49 ` dpdklab
2025-07-09 3:50 ` dpdklab
2025-07-09 4:24 ` dpdklab
2025-07-09 5:30 ` |SUCCESS| " dpdklab
2025-07-09 9:33 ` dpdklab
2025-07-09 10:20 ` dpdklab [this message]
Reply instructions:
You may reply publicly to this message via plain-text email
using any one of the following methods:
* Save the following mbox file, import it into your mail client,
and reply-to-all from there: mbox
Avoid top-posting and favor interleaved quoting:
https://en.wikipedia.org/wiki/Posting_style#Interleaved_style
* Reply using the --to, --cc, and --in-reply-to
switches of git-send-email(1):
git send-email \
--in-reply-to=686e4259.050a0220.24c58b.45c7SMTPIN_ADDED_MISSING@mx.google.com \
--to=dpdklab@iol.unh.edu \
--cc=dpdk-test-reports@iol.unh.edu \
--cc=test-report@dpdk.org \
/path/to/YOUR_REPLY
https://kernel.org/pub/software/scm/git/docs/git-send-email.html
* If your mail client supports setting the In-Reply-To header
via mailto: links, try the mailto: link
Be sure your reply has a Subject: header at the top and a blank line
before the message body.
This is a public inbox, see mirroring instructions
for how to clone and mirror all data and code used for this inbox;
as well as URLs for NNTP newsgroup(s).