From mboxrd@z Thu Jan 1 00:00:00 1970 Return-Path: Received: from mails.dpdk.org (mails.dpdk.org [217.70.189.124]) by inbox.dpdk.org (Postfix) with ESMTP id 326F946B27 for ; Wed, 9 Jul 2025 12:20:12 +0200 (CEST) Received: from mails.dpdk.org (localhost [127.0.0.1]) by mails.dpdk.org (Postfix) with ESMTP id 2DBBD4021E; Wed, 9 Jul 2025 12:20:12 +0200 (CEST) Received: from mail-pf1-f227.google.com (mail-pf1-f227.google.com [209.85.210.227]) by mails.dpdk.org (Postfix) with ESMTP id 506CA4021E for ; Wed, 9 Jul 2025 12:20:10 +0200 (CEST) Received: by mail-pf1-f227.google.com with SMTP id d2e1a72fcca58-739b3fe7ce8so4732013b3a.0 for ; Wed, 09 Jul 2025 03:20:10 -0700 (PDT) DKIM-Signature: v=1; a=rsa-sha256; c=relaxed/relaxed; d=iol.unh.edu; s=unh-iol; t=1752056409; x=1752661209; darn=dpdk.org; h=references:in-reply-to:cc:to:from:subject:message-id:date:from:to :cc:subject:date:message-id:reply-to; bh=OjVwLOKrI4HiQXRqMSs2GYLqJVm6Ls6YxC7kLMmeh28=; b=LzV0A5hEKIoewkCYQ3AGvWyFv0yXf1P1hvcGoPNzn1fBO+hPz8ilbj0BVHP/gtIy0k QdaBCfU7qgPXtrhDBH1iLO3qWsbrri5qgxTerkH6SYgvN3H+z1A+WSnkmavjxKS4ncRj w4jESgG9aE+5SYr2sVhj9N2uKh+FWZkgp9E/s= X-Google-DKIM-Signature: v=1; a=rsa-sha256; c=relaxed/relaxed; d=1e100.net; s=20230601; t=1752056409; x=1752661209; h=references:in-reply-to:cc:to:from:subject:message-id:date :x-gm-message-state:from:to:cc:subject:date:message-id:reply-to; bh=OjVwLOKrI4HiQXRqMSs2GYLqJVm6Ls6YxC7kLMmeh28=; b=cS+zwiOS/E5ZmpTflAI55M/X/XGA5WLM7HZaMZn3L3FoB3xF3kx9kq+SuUzcNZbXey lBEBj53y75dyIjWYyEja3DokGh1nqC+6AS5bdmikJ39ACdjtKrqRrXN6FZkkHKPo96ja luLuh6TrXzR5PKo7HkXs7klOir6DzpRrHYpiqWUdJOeERX7RDG8NYHYdmIWCaOnrtivY PpIoHh46eiw0TySxqN+lUIFtTsMZykEuWTzKk9PbX7OJ1hf8aqjtmh6jkoywDBAePQgg tXJLJKeWSOBjpwtHJxohigMCXd1GieGibnaVZytK78uMVCKuNCOYc2uwq3wCxT5MV5Hi uA+w== X-Gm-Message-State: AOJu0YyRX0c3ZMtBqluXBZv0dUgpm33NIY9tr2mBbhJtits8S7fO7iDg YKkXhMAYb5KMtXvOzsQN5Jzo0JG2HVcVqCgWkFjfqsiadtZ933wb6hTlg4P7JgRTPwbVb1pr8fe k6hcztCb96GNBtxvXp6Yl4zHwHNvxEeD4we0tX1N37PgEVONIc874/r9CVEyX X-Gm-Gg: ASbGncsFzQ5VMBNuuyh+3EbFgUie2zD/RvSEy36YK+/Ub9CHVthf+5LqvcotV9NPb9v uONmi1b3d7NLtevF6tzpOPd6JAaGPi2Va2ZYA3pJW2PTI2kP9L8zUNzJRHAOi0W+phxchjgbzLQ G0PGBsV8AuByw6R9Hno3q2MrFSn4kMWTY9uccFi0uLunEw4ldwUhGs/pl5WxL8YATQk1PLXEroS 5p0ojb0j/X2ehE5ytB1wjWiyGnL/Uiv0YBwRgDfMGpyiEjTkNhQdHMfNuIStmnFKSMeoz2xr3AP NrNyIs2DMm2TdAlJYWQaqRYwieHahilJBW6ATasbjFu65fs= X-Google-Smtp-Source: AGHT+IFGc6RC2rTInAtU40owXyL9+vIKm3/b4h4z/umRkw3hTvMTVCSL97yipa677ZcrPn9d6VXJryW86B1P X-Received: by 2002:a05:6a00:23c4:b0:748:fe1a:3432 with SMTP id d2e1a72fcca58-74ea645734amr2737429b3a.9.1752056409500; Wed, 09 Jul 2025 03:20:09 -0700 (PDT) Received: from postal.iol.unh.edu (postal.iol.unh.edu. [2606:4100:3880:1234::84]) by smtp-relay.gmail.com with ESMTPS id d2e1a72fcca58-74ce350d858sm670127b3a.6.2025.07.09.03.20.09 (version=TLS1_2 cipher=ECDHE-ECDSA-AES128-GCM-SHA256 bits=128/128); Wed, 09 Jul 2025 03:20:09 -0700 (PDT) X-Relaying-Domain: iol.unh.edu Date: Wed, 09 Jul 2025 03:20:09 -0700 (PDT) Message-ID: <686e4259.050a0220.24c58b.45c7SMTPIN_ADDED_MISSING@mx.google.com> Received: from [172.21.0.6] (unknown [172.18.0.240]) by postal.iol.unh.edu (Postfix) with ESMTP id B532F6051830; Wed, 9 Jul 2025 06:20:08 -0400 (EDT) Subject: |SUCCESS| pw154976 [PATCH] net/iavf: fix VLAN offload strip flag From: dpdklab@iol.unh.edu To: Test Report Cc: dpdk-test-reports@iol.unh.edu In-Reply-To: <20250702181506.95192-1-amiyaranjan.mohakud@gmail.com> References: <20250702181506.95192-1-amiyaranjan.mohakud@gmail.com> Content-Type: text/plain X-BeenThere: test-report@dpdk.org X-Mailman-Version: 2.1.29 Precedence: list List-Id: automatic DPDK test reports List-Unsubscribe: , List-Archive: List-Post: List-Help: List-Subscribe: , Errors-To: test-report-bounces@dpdk.org Test-Label: iol-unit-amd64-testing Test-Status: SUCCESS http://dpdk.org/patch/154976 _Testing PASS_ Submitter: Amiya Ranjan Mohakud Date: Wednesday, July 02 2025 18:15:06 DPDK git baseline: Repo:dpdk Branch: master CommitID:a6b10031d251fcc7dadede461f7e1d005024b139 154976 --> testing pass Upstream job id: Generic-VM-Unit-Test-DPDK#29819 Test environment and result as below: +-------------------------------+----------------+ | Environment | dpdk_unit_test | +===============================+================+ | CentOS Stream 9 | PASS | +-------------------------------+----------------+ | Debian GNU/Linux 12 | PASS | +-------------------------------+----------------+ | Fedora Linux 40 | PASS | +-------------------------------+----------------+ | CentOS Stream 10 | PASS | +-------------------------------+----------------+ | Fedora Linux 41 | PASS | +-------------------------------+----------------+ | Red Hat Enterprise Linux 8.10 | PASS | +-------------------------------+----------------+ | Ubuntu 22.04 | PASS | +-------------------------------+----------------+ | Red Hat Enterprise Linux 9.5 | PASS | +-------------------------------+----------------+ | Ubuntu 20.04 | PASS | +-------------------------------+----------------+ | Ubuntu 24.04 | PASS | +-------------------------------+----------------+ | Windows Server 2022 | PASS | +-------------------------------+----------------+ CentOS Stream 9 Kernel: 5.15 Compiler: gcc gcc (GCC) 11.5.0 20240719 (Red Hat 11.5.0-7) Debian GNU/Linux 12 Kernel: 5.15 Compiler: gcc gcc (Debian 12.2.0-14+deb12u1) 12.2.0 Fedora Linux 40 Kernel: 5.15 Compiler: gcc gcc (GCC) 14.2.1 20240912 (Red Hat 14.2.1-3) CentOS Stream 10 Kernel: 5.15 Compiler: gcc gcc (GCC) 14.2.1 20250110 (Red Hat 14.2.1-8) Fedora Linux 41 Kernel: 5.15 Compiler: gcc gcc (GCC) 14.3.1 20250523 (Red Hat 14.3.1-1) Red Hat Enterprise Linux 8.10 Kernel: 5.15 Compiler: gcc gcc (GCC) 8.5.0 20210514 (Red Hat 8.5.0-22) Ubuntu 22.04 Kernel: 5.15 Compiler: gcc gcc (Ubuntu 11.4.0-1ubuntu1~22.04) 11.4.0 Red Hat Enterprise Linux 9.5 Kernel: 5.15 Compiler: gcc gcc (GCC) 11.5.0 20240719 (Red Hat 11.5.0-2) Ubuntu 20.04 Kernel: 5.15 Compiler: gcc gcc (Ubuntu 9.4.0-1ubuntu1~20.04.2) 9.4.0 Ubuntu 24.04 Kernel: 5.15 Compiler: gcc gcc (Ubuntu 13.3.0-6ubuntu2~24.04) 13.3.0 Windows Server 2022 Kernel: 10.0.20348.2031 Compiler: clang 15.0.7, gcc 14.1.0 (MinGW), and MSVC VS 19.39.33521 To view detailed results, visit: https://lab.dpdk.org/results/dashboard/patchsets/33573/ UNH-IOL DPDK Community Lab To manage your email subscriptions, visit: https://lab.dpdk.org/results/dashboard/preferences/subscriptions/