automatic DPDK test reports
 help / color / mirror / Atom feed
From: dpdklab@iol.unh.edu
To: Test Report <test-report@dpdk.org>
Cc: dpdk-test-reports@iol.unh.edu
Subject: |SUCCESS| pw155087 [PATCH] maintainers: update for dlb2
Date: Wed, 09 Jul 2025 03:47:32 -0700 (PDT)	[thread overview]
Message-ID: <686e48c4.050a0220.34ee42.312aSMTPIN_ADDED_MISSING@mx.google.com> (raw)
In-Reply-To: <20250709050434.1296690-1-tirthendu.sarkar@intel.com>

Test-Label: iol-compile-amd64-testing
Test-Status: SUCCESS
http://dpdk.org/patch/155087

_Testing PASS_

Submitter: Tirthendu Sarkar <tirthendu.sarkar@intel.com>
Date: Wednesday, July 09 2025 05:04:34 
DPDK git baseline: Repo:dpdk
  Branch: master
  CommitID:e90979eebbea093f6bab2d7c222fc5f5c9a85eff

155087 --> testing pass

Upstream job id: Windows-Compile-DPDK-VS#6313

Test environment and result as below:

+---------------------+--------------------+-------------------+
|     Environment     | dpdk_meson_compile | dpdk_msvc_compile |
+=====================+====================+===================+
| Ubuntu 20.04        | PASS               | SKIPPED           |
+---------------------+--------------------+-------------------+
| FreeBSD 14.2        | PASS               | SKIPPED           |
+---------------------+--------------------+-------------------+
| Windows Server 2022 | SKIPPED            | PASS              |
+---------------------+--------------------+-------------------+


Ubuntu 20.04
	Kernel: 4.19
	Compiler: gcc gcc (Ubuntu 9.4.0-1ubuntu1~20.04.2) 9.4.0

FreeBSD 14.2
	Kernel: 14.2-RELEASE
	Compiler: clang 18.1.6

Windows Server 2022
	Kernel: 10.0.20348.2031
	Compiler: clang 15.0.7, gcc 14.1.0 (MinGW), and MSVC VS 19.39.33521

To view detailed results, visit:
https://lab.dpdk.org/results/dashboard/patchsets/33620/

UNH-IOL DPDK Community Lab

To manage your email subscriptions, visit: 
https://lab.dpdk.org/results/dashboard/preferences/subscriptions/

  parent reply	other threads:[~2025-07-09 10:47 UTC|newest]

Thread overview: 25+ messages / expand[flat|nested]  mbox.gz  Atom feed  top
     [not found] <20250709050434.1296690-1-tirthendu.sarkar@intel.com>
2025-07-09  4:31 ` qemudev
2025-07-09  4:35 ` qemudev
2025-07-09  5:03 ` checkpatch
2025-07-09  6:23 ` 0-day Robot
2025-07-09  8:56 ` dpdklab
2025-07-09  9:07 ` dpdklab
2025-07-09  9:55 ` dpdklab
2025-07-09 10:10 ` |PENDING| " dpdklab
2025-07-09 10:19 ` |SUCCESS| " dpdklab
2025-07-09 10:38 ` dpdklab
2025-07-09 10:41 ` |PENDING| " dpdklab
2025-07-09 10:47 ` dpdklab [this message]
2025-07-09 11:22 ` dpdklab
2025-07-09 12:08 ` |SUCCESS| " dpdklab
2025-07-09 12:18 ` |PENDING| " dpdklab
2025-07-09 12:22 ` |SUCCESS| " dpdklab
2025-07-09 12:23 ` dpdklab
2025-07-09 12:23 ` dpdklab
2025-07-09 12:24 ` dpdklab
2025-07-09 13:21 ` |WARNING| " dpdklab
2025-07-09 13:31 ` dpdklab
2025-07-09 13:45 ` dpdklab
2025-07-09 13:55 ` |SUCCESS| " dpdklab
2025-07-09 15:47 ` dpdklab
2025-07-09 15:47 ` dpdklab

Reply instructions:

You may reply publicly to this message via plain-text email
using any one of the following methods:

* Save the following mbox file, import it into your mail client,
  and reply-to-all from there: mbox

  Avoid top-posting and favor interleaved quoting:
  https://en.wikipedia.org/wiki/Posting_style#Interleaved_style

* Reply using the --to, --cc, and --in-reply-to
  switches of git-send-email(1):

  git send-email \
    --in-reply-to=686e48c4.050a0220.34ee42.312aSMTPIN_ADDED_MISSING@mx.google.com \
    --to=dpdklab@iol.unh.edu \
    --cc=dpdk-test-reports@iol.unh.edu \
    --cc=test-report@dpdk.org \
    /path/to/YOUR_REPLY

  https://kernel.org/pub/software/scm/git/docs/git-send-email.html

* If your mail client supports setting the In-Reply-To header
  via mailto: links, try the mailto: link
Be sure your reply has a Subject: header at the top and a blank line before the message body.
This is a public inbox, see mirroring instructions
for how to clone and mirror all data and code used for this inbox;
as well as URLs for NNTP newsgroup(s).