From mboxrd@z Thu Jan 1 00:00:00 1970 Return-Path: Received: from mails.dpdk.org (mails.dpdk.org [217.70.189.124]) by inbox.dpdk.org (Postfix) with ESMTP id 7B77046B27 for ; Wed, 9 Jul 2025 12:47:34 +0200 (CEST) Received: from mails.dpdk.org (localhost [127.0.0.1]) by mails.dpdk.org (Postfix) with ESMTP id 718014021E; Wed, 9 Jul 2025 12:47:34 +0200 (CEST) Received: from mail-pf1-f227.google.com (mail-pf1-f227.google.com [209.85.210.227]) by mails.dpdk.org (Postfix) with ESMTP id 269E44021E for ; Wed, 9 Jul 2025 12:47:33 +0200 (CEST) Received: by mail-pf1-f227.google.com with SMTP id d2e1a72fcca58-73c17c770a7so6618838b3a.2 for ; Wed, 09 Jul 2025 03:47:33 -0700 (PDT) DKIM-Signature: v=1; a=rsa-sha256; c=relaxed/relaxed; d=iol.unh.edu; s=unh-iol; t=1752058052; x=1752662852; darn=dpdk.org; h=references:in-reply-to:cc:to:from:subject:message-id:date:from:to :cc:subject:date:message-id:reply-to; bh=7UtKNP9mVEBM+qDqEs+movC7p+kDkEhVynQWwC1R8wA=; b=UlrXV8qZfyFnabXBzkl829uXUPZ0bzzEcqEkTAU7zyIDbCojxfYLicVsQfy7v1dRii zI75k47kmSkvup4oSsqX1YhYWxwL2wwFAun+744SPGmufY5wjbIPG4pN/fFDVfSoZOvd D0t67AYU/vEPqKnsXc2TtCjtaHpPCJ8osPeKM= X-Google-DKIM-Signature: v=1; a=rsa-sha256; c=relaxed/relaxed; d=1e100.net; s=20230601; t=1752058052; x=1752662852; h=references:in-reply-to:cc:to:from:subject:message-id:date :x-gm-message-state:from:to:cc:subject:date:message-id:reply-to; bh=7UtKNP9mVEBM+qDqEs+movC7p+kDkEhVynQWwC1R8wA=; b=WgH/f0mYNf4O4XPOofDraZX3dknFHwmNmdc2lqAltMhug4dKOa/TeoXif/9kDB/2IZ rG5CMKpGCg0Wxv12AV/04/Ip7E75ElQLeZ642abjJqqrlDC4/u8TftZqeThlRpR7rtVr EyeFA0yvkfQ1uzxlVls3ppCMiQUktGy8gUCt6hD9qtDEbIBF2A+9uGPJ6BhVaHoXFGKX dix+zLwruY5rsGGa/iKh8IELQw0RdX2FHxjWTE6PGAiE4CIX3zeUv5uTVFG2q6N8Liqo svnFwR0idsjW83TF+X0oGKFKvdhssKpdEFnIVs+Lov89TUzhkA7H0Pg3S7TF71TZsdda Y3tA== X-Gm-Message-State: AOJu0YzjLfkRofC/uRHnZlfMZ+QniUhKBs+OAdiG+t9vfdtlLyR461Pu LOEJcmdfg/lTX6Oz6ZHHb3UaDhfQGB9U7/GivQdalI2PpmK6O9niatUnKsTDB9h9fQPQM6ike29 wQU0H2Wi8Mrt8z+6SNARd+aL0Ho+HtyQ5VrnaUqUKAlt+2tuTYU8+CDozGCm+ X-Gm-Gg: ASbGncvTgZsqteFlwPLyHLaH0/5BmFHQxrrdl6h3UPc6v9xaQaPuJvNdjTML1rE/SoB GJgd38eOh1JvxurrqbIuL8jL91Vn8c+QFrkDSUeFJWh1xX9EfQrEq1xhWQetNvOfJ38G8C3K6vG peyPmJoNTrDoqB5f1uShzRxCUKUHKivB2uK1PAvFU8urzyOmES5q6Oq9k9YQGpB3rwZhuzQDR3u HEB2zY8alYADPYQtqzuRV94NKig5MFuZFa7ODE9ROg50e956FSOhrxJRS2DY2k+rZa5E5cXjlnR d9rwGPV2h9cV7i4BSTxHlNftsZQBXMl9Zy1o3LCaAohMlIw= X-Google-Smtp-Source: AGHT+IFtX07LkAE1SIIgZoXxwkvjg1l05B7yjLU6Lr2WoGKivWbhdjLkNZidYqp2AJEaZfH6Cg/ZaNCUO72Y X-Received: by 2002:a05:6a20:a109:b0:215:efe1:a680 with SMTP id adf61e73a8af0-22cd62e0ccamr3383942637.16.1752058052296; Wed, 09 Jul 2025 03:47:32 -0700 (PDT) Received: from postal.iol.unh.edu (postal.iol.unh.edu. [2606:4100:3880:1234::84]) by smtp-relay.gmail.com with ESMTPS id 41be03b00d2f7-b38ee3e24edsm373951a12.3.2025.07.09.03.47.32 (version=TLS1_2 cipher=ECDHE-ECDSA-AES128-GCM-SHA256 bits=128/128); Wed, 09 Jul 2025 03:47:32 -0700 (PDT) X-Relaying-Domain: iol.unh.edu Date: Wed, 09 Jul 2025 03:47:32 -0700 (PDT) Message-ID: <686e48c4.050a0220.34ee42.312aSMTPIN_ADDED_MISSING@mx.google.com> Received: from [172.21.0.5] (unknown [172.18.0.240]) by postal.iol.unh.edu (Postfix) with ESMTP id 86F706051830; Wed, 9 Jul 2025 06:47:31 -0400 (EDT) Subject: |SUCCESS| pw155087 [PATCH] maintainers: update for dlb2 From: dpdklab@iol.unh.edu To: Test Report Cc: dpdk-test-reports@iol.unh.edu In-Reply-To: <20250709050434.1296690-1-tirthendu.sarkar@intel.com> References: <20250709050434.1296690-1-tirthendu.sarkar@intel.com> Content-Type: text/plain X-BeenThere: test-report@dpdk.org X-Mailman-Version: 2.1.29 Precedence: list List-Id: automatic DPDK test reports List-Unsubscribe: , List-Archive: List-Post: List-Help: List-Subscribe: , Errors-To: test-report-bounces@dpdk.org Test-Label: iol-compile-amd64-testing Test-Status: SUCCESS http://dpdk.org/patch/155087 _Testing PASS_ Submitter: Tirthendu Sarkar Date: Wednesday, July 09 2025 05:04:34 DPDK git baseline: Repo:dpdk Branch: master CommitID:e90979eebbea093f6bab2d7c222fc5f5c9a85eff 155087 --> testing pass Upstream job id: Windows-Compile-DPDK-VS#6313 Test environment and result as below: +---------------------+--------------------+-------------------+ | Environment | dpdk_meson_compile | dpdk_msvc_compile | +=====================+====================+===================+ | Ubuntu 20.04 | PASS | SKIPPED | +---------------------+--------------------+-------------------+ | FreeBSD 14.2 | PASS | SKIPPED | +---------------------+--------------------+-------------------+ | Windows Server 2022 | SKIPPED | PASS | +---------------------+--------------------+-------------------+ Ubuntu 20.04 Kernel: 4.19 Compiler: gcc gcc (Ubuntu 9.4.0-1ubuntu1~20.04.2) 9.4.0 FreeBSD 14.2 Kernel: 14.2-RELEASE Compiler: clang 18.1.6 Windows Server 2022 Kernel: 10.0.20348.2031 Compiler: clang 15.0.7, gcc 14.1.0 (MinGW), and MSVC VS 19.39.33521 To view detailed results, visit: https://lab.dpdk.org/results/dashboard/patchsets/33620/ UNH-IOL DPDK Community Lab To manage your email subscriptions, visit: https://lab.dpdk.org/results/dashboard/preferences/subscriptions/