From mboxrd@z Thu Jan 1 00:00:00 1970 Return-Path: Received: from mails.dpdk.org (mails.dpdk.org [217.70.189.124]) by inbox.dpdk.org (Postfix) with ESMTP id 9999446B27 for ; Wed, 9 Jul 2025 12:48:46 +0200 (CEST) Received: from mails.dpdk.org (localhost [127.0.0.1]) by mails.dpdk.org (Postfix) with ESMTP id 935654021E; Wed, 9 Jul 2025 12:48:46 +0200 (CEST) Received: from mail-qk1-f226.google.com (mail-qk1-f226.google.com [209.85.222.226]) by mails.dpdk.org (Postfix) with ESMTP id 70E6A4021E for ; Wed, 9 Jul 2025 12:48:45 +0200 (CEST) Received: by mail-qk1-f226.google.com with SMTP id af79cd13be357-7d5d0ea6c8dso398807785a.1 for ; Wed, 09 Jul 2025 03:48:45 -0700 (PDT) DKIM-Signature: v=1; a=rsa-sha256; c=relaxed/relaxed; d=iol.unh.edu; s=unh-iol; t=1752058125; x=1752662925; darn=dpdk.org; h=references:in-reply-to:cc:to:from:subject:message-id:date:from:to :cc:subject:date:message-id:reply-to; bh=/t+KZnFLHR4ciEIj1EWExtI/TZUOLqIbYgP7NKwO0+A=; b=jPRvMcbfsaIG+8RtiYWWLkMXPOoh207ddf4PoU1Dj58+ryIhcGTxw3JNm4U5x6ovlq /Omutwp+pY0+vNmvZkaZ35GiB6LsN/bNBDpJ/WzKGaH5/2nAdLdkAEbvGAZup6GNqxKh ppMQbeAJlwkeNXvcGA6ww2b64FnK8p3bBZ9qM= X-Google-DKIM-Signature: v=1; a=rsa-sha256; c=relaxed/relaxed; d=1e100.net; s=20230601; t=1752058125; x=1752662925; h=references:in-reply-to:cc:to:from:subject:message-id:date :x-gm-message-state:from:to:cc:subject:date:message-id:reply-to; bh=/t+KZnFLHR4ciEIj1EWExtI/TZUOLqIbYgP7NKwO0+A=; b=j/3vsHT+XzVXmHVdkj7D85dw7sqiwLbBjK1bBiwiRLo3XndNuBFX8W4vaOUkDebuEp S5i2RSoxdHgj2pGTdfNgLQUcyKOoV2DZiS6pbTOrhmTprBGKfJxum45jvG8zeURDNqQ3 S+3zRBmyylxfF04o4J+HCpZldDVAgJkBDOf2Y4UWNlodKpXBb8nm6b8tiQtvUJhrOHC3 2OekfZ+og/DpCN9p8ArW1SseoFJYw/K7Z5hdrJYBbw+TYcckW3izkkSXwow65nH+2Rzt 0W6ErNZK3HKXV0Fb01dQdEPRHtTDoKATz4dgdairbqfH+KRPvC2y1N8W5/KF6sphTo0i TyYw== X-Gm-Message-State: AOJu0YwYuhbO00z7zR5uBUFjVrbvbtr0BzXKiFY+irnLR/8x5m3asSRs Db6B9V3w5U1o08IIZJdm3Z8N23/ya/dPWtjtE1+Dkeviod+VMsD/ZVvxvSsw8HmRmjwTgqcKTtR KaYXjCPJfkrkqQEBPuDU2ljYnnmN1pSG2MjD6jN8ZEEWQBYqEsLlu5xbtBoAW X-Gm-Gg: ASbGncv3tXxNwBKg9WdWtQxwuC51J0zZloNAnE38/amBIFKtClVxQWysAt0p6aSpTIv 20VwGNmYD36cgrMMgQkpjFesdo48t5HY6k02CW6NKO77ixxOirRV0p1CGLgCqFG5VFvF5XqQf0O otZSWucue7n7oqCAuufZQHiH4CNwg81BJsKTWQrvXWgtAnCBL27psTObBhoVXJETgtsGSJLVSDe RXDy/Uy58CLFUiHp2V5j/yB4pvcpRbNd85/a1IQASzlY5V0qyY+mfrK1xwvv/idNiNohRIcVmHc IxDcMostIdl+B8Jg989BHEp9p0cZavlMfqxOCOBY2TZ4e9M= X-Google-Smtp-Source: AGHT+IFJy8xF9Cm/ZlEI49NscO2tKNt5q8QH0uSnZNclWj9/GVhxjZHdf5X3/MGOf7LrDnmJWkoGKrsDBD/A X-Received: by 2002:a05:6214:620f:b0:704:8ce6:bda2 with SMTP id 6a1803df08f44-7048ce6bddamr18589636d6.14.1752058124760; Wed, 09 Jul 2025 03:48:44 -0700 (PDT) Received: from postal.iol.unh.edu (postal.iol.unh.edu. [2606:4100:3880:1234::84]) by smtp-relay.gmail.com with ESMTPS id 6a1803df08f44-702c4cca3b4sm6698586d6.18.2025.07.09.03.48.44 (version=TLS1_2 cipher=ECDHE-ECDSA-AES128-GCM-SHA256 bits=128/128); Wed, 09 Jul 2025 03:48:44 -0700 (PDT) X-Relaying-Domain: iol.unh.edu Date: Wed, 09 Jul 2025 03:48:44 -0700 (PDT) Message-ID: <686e490c.050a0220.2669c9.3982SMTPIN_ADDED_MISSING@mx.google.com> Received: from [172.21.0.6] (unknown [172.18.0.240]) by postal.iol.unh.edu (Postfix) with ESMTP id 6AE786051830; Wed, 9 Jul 2025 06:48:44 -0400 (EDT) Subject: |WARNING| pw155085 [PATCH] [v3] pcapng: allow any protocol link type From: dpdklab@iol.unh.edu To: Test Report Cc: dpdk-test-reports@iol.unh.edu In-Reply-To: <20250708210245.3967578-1-schneide@qti.qualcomm.com> References: <20250708210245.3967578-1-schneide@qti.qualcomm.com> Content-Type: text/plain X-BeenThere: test-report@dpdk.org X-Mailman-Version: 2.1.29 Precedence: list List-Id: automatic DPDK test reports List-Unsubscribe: , List-Archive: List-Post: List-Help: List-Subscribe: , Errors-To: test-report-bounces@dpdk.org Test-Label: iol-compile-amd64-testing Test-Status: WARNING http://dpdk.org/patch/155085 _Testing issues_ Submitter: Schneide Date: Tuesday, July 08 2025 21:02:45 DPDK git baseline: Repo:dpdk Branch: master CommitID:e90979eebbea093f6bab2d7c222fc5f5c9a85eff 155085 --> testing issues Upstream job id: Windows-Compile-DPDK-Native#29671 Test environment and result as below: +-------------------------------+--------------------+-------------------+-------------------+------------------+-------------------------+----------------------+ | Environment | dpdk_meson_compile | dpdk_msvc_compile | dpdk_compile_spdk | dpdk_compile_ovs | dpdk_llvm_clang_compile | dpdk_mingw64_compile | +===============================+====================+===================+===================+==================+=========================+======================+ | Ubuntu 20.04 | PASS | SKIPPED | SKIPPED | SKIPPED | SKIPPED | SKIPPED | +-------------------------------+--------------------+-------------------+-------------------+------------------+-------------------------+----------------------+ | FreeBSD 14.2 | PASS | SKIPPED | SKIPPED | SKIPPED | SKIPPED | SKIPPED | +-------------------------------+--------------------+-------------------+-------------------+------------------+-------------------------+----------------------+ | CentOS Stream 9 | PASS | SKIPPED | PASS | SKIPPED | SKIPPED | SKIPPED | +-------------------------------+--------------------+-------------------+-------------------+------------------+-------------------------+----------------------+ | CentOS Stream 10 | PASS | SKIPPED | SKIPPED | SKIPPED | SKIPPED | SKIPPED | +-------------------------------+--------------------+-------------------+-------------------+------------------+-------------------------+----------------------+ | Debian GNU/Linux 12 | PASS | SKIPPED | PASS | SKIPPED | SKIPPED | SKIPPED | +-------------------------------+--------------------+-------------------+-------------------+------------------+-------------------------+----------------------+ | Fedora Linux 40 | PASS | SKIPPED | PASS | SKIPPED | SKIPPED | SKIPPED | +-------------------------------+--------------------+-------------------+-------------------+------------------+-------------------------+----------------------+ | Fedora Linux 41 | PASS | SKIPPED | PASS | PASS | SKIPPED | SKIPPED | +-------------------------------+--------------------+-------------------+-------------------+------------------+-------------------------+----------------------+ | openSUSE Leap 15.6 | PASS | SKIPPED | SKIPPED | SKIPPED | SKIPPED | SKIPPED | +-------------------------------+--------------------+-------------------+-------------------+------------------+-------------------------+----------------------+ | Red Hat Enterprise Linux 8.10 | PASS | SKIPPED | SKIPPED | SKIPPED | SKIPPED | SKIPPED | +-------------------------------+--------------------+-------------------+-------------------+------------------+-------------------------+----------------------+ | Red Hat Enterprise Linux 9.5 | PASS | SKIPPED | SKIPPED | SKIPPED | SKIPPED | SKIPPED | +-------------------------------+--------------------+-------------------+-------------------+------------------+-------------------------+----------------------+ | Ubuntu 22.04 | PASS | SKIPPED | PASS | SKIPPED | SKIPPED | SKIPPED | +-------------------------------+--------------------+-------------------+-------------------+------------------+-------------------------+----------------------+ | Ubuntu 24.04 | PASS | SKIPPED | PASS | PASS | SKIPPED | SKIPPED | +-------------------------------+--------------------+-------------------+-------------------+------------------+-------------------------+----------------------+ | Alpine Linux 3.22.0 | PASS | SKIPPED | SKIPPED | SKIPPED | SKIPPED | SKIPPED | +-------------------------------+--------------------+-------------------+-------------------+------------------+-------------------------+----------------------+ | Windows Server 2022 | SKIPPED | PASS | SKIPPED | SKIPPED | PASS | PASS | +-------------------------------+--------------------+-------------------+-------------------+------------------+-------------------------+----------------------+ Ubuntu 20.04 Kernel: 4.19 Compiler: gcc gcc (Ubuntu 9.4.0-1ubuntu1~20.04.2) 9.4.0 FreeBSD 14.2 Kernel: 14.2-RELEASE Compiler: clang 18.1.6 CentOS Stream 9 Kernel: 5.15 Compiler: gcc gcc (GCC) 11.5.0 20240719 (Red Hat 11.5.0-7) CentOS Stream 10 Kernel: 5.15 Compiler: gcc gcc (GCC) 14.2.1 20250110 (Red Hat 14.2.1-8) Debian GNU/Linux 12 Kernel: 5.15 Compiler: gcc gcc (Debian 12.2.0-14+deb12u1) 12.2.0 Fedora Linux 40 Kernel: 5.15 Compiler: clang gcc (GCC) 14.2.1 20240912 (Red Hat 14.2.1-3) Fedora Linux 41 Kernel: 5.15 Compiler: clang gcc (GCC) 14.3.1 20250523 (Red Hat 14.3.1-1) openSUSE Leap 15.6 Kernel: 5.15 Compiler: gcc gcc (SUSE Linux) 7.5.0 Red Hat Enterprise Linux 8.10 Kernel: 5.15 Compiler: gcc gcc (GCC) 8.5.0 20210514 (Red Hat 8.5.0-22) Red Hat Enterprise Linux 9.5 Kernel: 5.15 Compiler: gcc gcc (GCC) 11.5.0 20240719 (Red Hat 11.5.0-2) Ubuntu 22.04 Kernel: 5.15 Compiler: gcc gcc (Ubuntu 11.4.0-1ubuntu1~22.04) 11.4.0 Ubuntu 24.04 Kernel: 5.15 Compiler: gcc gcc (Ubuntu 13.3.0-6ubuntu2~24.04) 13.3.0 Alpine Linux 3.22.0 Kernel: 5.15 Compiler: gcc gcc (Alpine 14.2.0) 14.2.0 Windows Server 2022 Kernel: 10.0.20348.2031 Compiler: clang 15.0.7, gcc 14.1.0 (MinGW), and MSVC VS 19.39.33521 To view detailed results, visit: https://lab.dpdk.org/results/dashboard/patchsets/33618/ UNH-IOL DPDK Community Lab To manage your email subscriptions, visit: https://lab.dpdk.org/results/dashboard/preferences/subscriptions/