From mboxrd@z Thu Jan 1 00:00:00 1970 Return-Path: Received: from mails.dpdk.org (mails.dpdk.org [217.70.189.124]) by inbox.dpdk.org (Postfix) with ESMTP id 32EAE46B27 for ; Wed, 9 Jul 2025 13:33:15 +0200 (CEST) Received: from mails.dpdk.org (localhost [127.0.0.1]) by mails.dpdk.org (Postfix) with ESMTP id 161204021E; Wed, 9 Jul 2025 13:33:15 +0200 (CEST) Received: from mail-il1-f225.google.com (mail-il1-f225.google.com [209.85.166.225]) by mails.dpdk.org (Postfix) with ESMTP id 6736D4021E for ; Wed, 9 Jul 2025 13:33:14 +0200 (CEST) Received: by mail-il1-f225.google.com with SMTP id e9e14a558f8ab-3dc9e7d10bdso18781415ab.2 for ; Wed, 09 Jul 2025 04:33:14 -0700 (PDT) DKIM-Signature: v=1; a=rsa-sha256; c=relaxed/relaxed; d=iol.unh.edu; s=unh-iol; t=1752060793; x=1752665593; darn=dpdk.org; h=references:in-reply-to:cc:to:from:subject:message-id:date:from:to :cc:subject:date:message-id:reply-to; bh=+W8Jv6bkB2yIzHsQw1ZJEbtL132f/hPey0TKzWH3DrY=; b=FeN1/n/VDr7qPpb5Kt4I6eHxuXk5AeK6jJK/NmLKyF5JY9w3UjCOunAgX3D1He1yft zDIE8uowOuMuxytrlEDePCxCU5fa8D+eQED4SF9r80dKXyDMvQgx9pbCp/f/i6eJo3HF 5r46y5vDuXLttvDyalcnNjCoB68sso+tXB3vE= X-Google-DKIM-Signature: v=1; a=rsa-sha256; c=relaxed/relaxed; d=1e100.net; s=20230601; t=1752060793; x=1752665593; h=references:in-reply-to:cc:to:from:subject:message-id:date :x-gm-message-state:from:to:cc:subject:date:message-id:reply-to; bh=+W8Jv6bkB2yIzHsQw1ZJEbtL132f/hPey0TKzWH3DrY=; b=rb3CgHhqTLHt+C51r9sBdOnsCcH/wZ24j9U5Yq3V04IwTBv9gfeZI8O+IPp18NDLQZ df9JH536GRD2LeEp9o+2iMkmJVuWpO5giAj7U3FLH/5DlWNMyiG9pUOQMP08Ylmmz2om py0/8hnuY6CCfsWk0RV9MsRrZReN04LGhmUfOJseYQ+nInRrfNU/OC+V2IG7kGymZdZl 5ROSCtfVH4yQP0evnDEAye25FOrnZg+3NHQRJRciK0eC6/zeJmGtsaZ4cJdVicgeayXv es0MN10NnhoM2O7JJrwjVgGhjO5Cc+wM32G35ZkD2dBjPdkMsgnlhGzb4CfLq31gImaV eeyw== X-Gm-Message-State: AOJu0YyLwOcp38qYGrS9jGWRGnyJVfbb9SZKnqB0Jtsl41TNifjzUJpP gkpH5ndi1oivljMz18Le9+tU+W6H517OCi3LwpmzVo3WBGLM58Uox5XEjbP2gDZ1xC8vVtKKyXS YI/4NOSjXAjlSdnZFuvbqJ1czX+ZzcZKQvgWVpq88SDEV/GbA41bHlYsrq2UZ X-Gm-Gg: ASbGncsW+oAo+Xu4hytyhgtN6RJXGh7FeuBmcY14fjIrQ5mR4AYU+kxVJ3VjjHhg3lt dWbHX0ZQ6kADWX1jHfr3WVsyaz5ARuPjCpuBeagzT6v+hyPxutQiRNSa5XO/b2mOlirD91YB4C4 P8qJRe70Kk74uHXxR4R/sBC8yCyEMPdC3NrJit43ahMh6k4IJpz+iXJBXbzU0jfzRms+5dEWkt0 Yy83oJdXsh49D1IUjMUKQGn9egg2THwkvKL9c7FkMp7FQkwNbYBWY/mKIScZajOrStSCvRrxz2Q npceFeZbfhI7mztYluQqG5cw4R3FPstXG36x13/Ncs12mjU= X-Google-Smtp-Source: AGHT+IFPDr+7Z0aF07ZeLPi+I4+UC/KnONY6ZeapcnrAOdG8YeElpEMO1CnjSIaFPpFSPAtnynIQahnaOhYi X-Received: by 2002:a05:6e02:240c:b0:3df:385d:50a8 with SMTP id e9e14a558f8ab-3e167013158mr21034875ab.6.1752060793628; Wed, 09 Jul 2025 04:33:13 -0700 (PDT) Received: from postal.iol.unh.edu (postal.iol.unh.edu. [2606:4100:3880:1234::84]) by smtp-relay.gmail.com with ESMTPS id e9e14a558f8ab-3e0f9c29321sm8057165ab.40.2025.07.09.04.33.13 (version=TLS1_2 cipher=ECDHE-ECDSA-AES128-GCM-SHA256 bits=128/128); Wed, 09 Jul 2025 04:33:13 -0700 (PDT) X-Relaying-Domain: iol.unh.edu Date: Wed, 09 Jul 2025 04:33:13 -0700 (PDT) Message-ID: <686e5379.050a0220.10b18b.a3e8SMTPIN_ADDED_MISSING@mx.google.com> Received: from [172.21.0.6] (unknown [172.18.0.240]) by postal.iol.unh.edu (Postfix) with ESMTP id 2638F6051830; Wed, 9 Jul 2025 07:33:13 -0400 (EDT) Subject: |SUCCESS| pw155086 [PATCH] net/mlx5: fix the queue length checking From: dpdklab@iol.unh.edu To: Test Report Cc: dpdk-test-reports@iol.unh.edu In-Reply-To: <20250709040000.112338-1-bingz@nvidia.com> References: <20250709040000.112338-1-bingz@nvidia.com> Content-Type: text/plain X-BeenThere: test-report@dpdk.org X-Mailman-Version: 2.1.29 Precedence: list List-Id: automatic DPDK test reports List-Unsubscribe: , List-Archive: List-Post: List-Help: List-Subscribe: , Errors-To: test-report-bounces@dpdk.org Test-Label: iol-unit-amd64-testing Test-Status: SUCCESS http://dpdk.org/patch/155086 _Testing PASS_ Submitter: Bing Zhao Date: Wednesday, July 09 2025 04:00:00 DPDK git baseline: Repo:dpdk Branch: master CommitID:e2888614268cbf0abcc7cd72ad97ff4e4901d0a5 155086 --> testing pass Upstream job id: Generic-Unit-Test-DPDK#354116 Test environment and result as below: +-------------------------------+----------------+ | Environment | dpdk_unit_test | +===============================+================+ | CentOS Stream 9 | PASS | +-------------------------------+----------------+ | CentOS Stream 10 | PASS | +-------------------------------+----------------+ | Debian GNU/Linux 12 | PASS | +-------------------------------+----------------+ | Fedora Linux 40 | PASS | +-------------------------------+----------------+ | Fedora Linux 41 | PASS | +-------------------------------+----------------+ | Red Hat Enterprise Linux 8.10 | PASS | +-------------------------------+----------------+ | Red Hat Enterprise Linux 9.5 | PASS | +-------------------------------+----------------+ | Ubuntu 20.04 | PASS | +-------------------------------+----------------+ | Ubuntu 22.04 | PASS | +-------------------------------+----------------+ | Ubuntu 24.04 | PASS | +-------------------------------+----------------+ CentOS Stream 9 Kernel: 5.15 Compiler: gcc gcc (GCC) 11.5.0 20240719 (Red Hat 11.5.0-7) CentOS Stream 10 Kernel: 5.15 Compiler: gcc gcc (GCC) 14.2.1 20250110 (Red Hat 14.2.1-8) Debian GNU/Linux 12 Kernel: 5.15 Compiler: gcc gcc (Debian 12.2.0-14+deb12u1) 12.2.0 Fedora Linux 40 Kernel: 5.15 Compiler: gcc gcc (GCC) 14.2.1 20240912 (Red Hat 14.2.1-3) Fedora Linux 41 Kernel: 5.15 Compiler: gcc gcc (GCC) 14.3.1 20250523 (Red Hat 14.3.1-1) Red Hat Enterprise Linux 8.10 Kernel: 5.15 Compiler: gcc gcc (GCC) 8.5.0 20210514 (Red Hat 8.5.0-22) Red Hat Enterprise Linux 9.5 Kernel: 5.15 Compiler: gcc gcc (GCC) 11.5.0 20240719 (Red Hat 11.5.0-2) Ubuntu 20.04 Kernel: 5.15 Compiler: gcc gcc (Ubuntu 9.4.0-1ubuntu1~20.04.2) 9.4.0 Ubuntu 22.04 Kernel: 5.15 Compiler: gcc gcc (Ubuntu 11.4.0-1ubuntu1~22.04) 11.4.0 Ubuntu 24.04 Kernel: 5.15 Compiler: gcc gcc (Ubuntu 13.3.0-6ubuntu2~24.04) 13.3.0 To view detailed results, visit: https://lab.dpdk.org/results/dashboard/patchsets/33619/ UNH-IOL DPDK Community Lab To manage your email subscriptions, visit: https://lab.dpdk.org/results/dashboard/preferences/subscriptions/