From mboxrd@z Thu Jan 1 00:00:00 1970 Return-Path: Received: from mails.dpdk.org (mails.dpdk.org [217.70.189.124]) by inbox.dpdk.org (Postfix) with ESMTP id C44D546B27 for ; Wed, 9 Jul 2025 13:50:02 +0200 (CEST) Received: from mails.dpdk.org (localhost [127.0.0.1]) by mails.dpdk.org (Postfix) with ESMTP id 9FA8A4021E; Wed, 9 Jul 2025 13:50:02 +0200 (CEST) Received: from mail-pf1-f225.google.com (mail-pf1-f225.google.com [209.85.210.225]) by mails.dpdk.org (Postfix) with ESMTP id 187804021E for ; Wed, 9 Jul 2025 13:50:01 +0200 (CEST) Received: by mail-pf1-f225.google.com with SMTP id d2e1a72fcca58-7424ccbef4eso4337809b3a.2 for ; Wed, 09 Jul 2025 04:50:00 -0700 (PDT) DKIM-Signature: v=1; a=rsa-sha256; c=relaxed/relaxed; d=iol.unh.edu; s=unh-iol; t=1752061800; x=1752666600; darn=dpdk.org; h=references:in-reply-to:cc:to:from:subject:message-id:date:from:to :cc:subject:date:message-id:reply-to; bh=pAMye0vAN2um04SlJ6idwY58dwPMbKZbBIfv8r0oE6o=; b=TUICpxR2Cg8HUTT0IpNTPXuHcIy8Yt93ek0uCh4cDKQuzULk91q+iARuM8W/T6LZZW VpvRsL6d7GHkrVBt/VoK+ercg2Jn6CGPC5lHHSepGAHdB9BgIxqeOZCN7XQ/gW3mfwP9 fquGRo/lqN6VeXkS8PdnVhOAoh0MrdDFFKeno= X-Google-DKIM-Signature: v=1; a=rsa-sha256; c=relaxed/relaxed; d=1e100.net; s=20230601; t=1752061800; x=1752666600; h=references:in-reply-to:cc:to:from:subject:message-id:date :x-gm-message-state:from:to:cc:subject:date:message-id:reply-to; bh=pAMye0vAN2um04SlJ6idwY58dwPMbKZbBIfv8r0oE6o=; b=Dr9v6cUNJ6IyvGSQZ+YpkWHsJPiSD6AkLynT6OiC+m9DmUcndQDkofL25ODLUFsjfx wcKBJ995qzFZru+If5eOt7DJlUEOXSNks7DGFYvrWYIPRg2yYZTsEZcJsSaEZox18cmj 1wSRq52UHvfHtYiiioPGYdxCTid14jevnZUDye7sNDDugWcmXdojEXwizf6dmRoAtmU3 giF5v/7ZiX8dJaw19whsyIcq268LdqoAO+d8/CxJKWN2KEqoe4J4T6pM83M46v2yp1Wz LEvR5aieb7Bn3ufaa/nKkf4FFZrRmkMQxpsq6G/9oseXiK75za9YkbpwwJO15TEOWkg9 uoUQ== X-Gm-Message-State: AOJu0YxHiwT331X/UEnNixuP/yvp1cmbxkFI/try1n+/zoLA4hsqXQJi X7MtAt8OZcbDPjIT01JQyIVAdwEDtLi9+cBlde4M9irJ4cSp9dQ7Sz+mcrojsaWw/2GqVheJkgq zn+9hyrgXR9N/0o9sAa1o6TQMd8vdR1VRFck+TvSGbohm X-Gm-Gg: ASbGncuOd+FL9t7+UDDnvUJ3dXkvyKPQFBmb98m+zm2C2dITmCOnsxa3QAxt9Cxiq20 IzpVrIismJj7TBZMzU2c2Q6DLRx4UKopeSkBGhI6I7Q7B4gEVghrFtAEPJb4CsvEvy8EVqgLIBV FER9IEUMkxBuK1f95c4tjz1fqrF1dg80bz6hcd8OlMNuDZbwyYPgCjn5pE+hg5Pf6HWv/x2wGDT 80VaFJxm+XRzFqpSbBk9sw8xfSnO+xx+2mmrKwnjPPfnp4uHcZ5YpliKSq5w/at8I3lcUWv8vTS 4owtAGRwVN3jcnzMTaUMuoqIrmRdqJYjFfyWt5SYO+vFp7/3IYL+S/oaiwwKmiY6PM+QCQ== X-Google-Smtp-Source: AGHT+IHg5sH4iaOK+fTbuiLM37MCGuq2J6iqiEf/wegW+gRvv2hVd1K5TC8M/8g3zS46Lp189UQjZWNyznuU X-Received: by 2002:a17:903:6c4:b0:23d:dcf5:4803 with SMTP id d9443c01a7336-23ddcf548c8mr18001565ad.38.1752061800017; Wed, 09 Jul 2025 04:50:00 -0700 (PDT) Received: from postal.iol.unh.edu (postal.iol.unh.edu. [132.177.123.84]) by smtp-relay.gmail.com with ESMTPS id d9443c01a7336-23c8451957asm6706545ad.114.2025.07.09.04.49.59 (version=TLS1_2 cipher=ECDHE-ECDSA-AES128-GCM-SHA256 bits=128/128); Wed, 09 Jul 2025 04:50:00 -0700 (PDT) X-Relaying-Domain: iol.unh.edu Date: Wed, 09 Jul 2025 04:50:00 -0700 (PDT) Message-ID: <686e5768.170a0220.3d0346.4260SMTPIN_ADDED_MISSING@mx.google.com> Received: from [172.21.0.6] (unknown [172.18.0.240]) by postal.iol.unh.edu (Postfix) with ESMTP id 3BF336051830; Wed, 9 Jul 2025 07:49:59 -0400 (EDT) Subject: |SUCCESS| pw155086 [PATCH] net/mlx5: fix the queue length checking From: dpdklab@iol.unh.edu To: Test Report Cc: dpdk-test-reports@iol.unh.edu In-Reply-To: <20250709040000.112338-1-bingz@nvidia.com> References: <20250709040000.112338-1-bingz@nvidia.com> Content-Type: text/plain X-BeenThere: test-report@dpdk.org X-Mailman-Version: 2.1.29 Precedence: list List-Id: automatic DPDK test reports List-Unsubscribe: , List-Archive: List-Post: List-Help: List-Subscribe: , Errors-To: test-report-bounces@dpdk.org Test-Label: iol-abi-testing Test-Status: SUCCESS http://dpdk.org/patch/155086 _Testing PASS_ Submitter: Bing Zhao Date: Wednesday, July 09 2025 04:00:00 DPDK git baseline: Repo:dpdk Branch: master CommitID:e2888614268cbf0abcc7cd72ad97ff4e4901d0a5 155086 --> testing pass Upstream job id: Generic-DPDK-Compile-ABI#133740 Test environment and result as below: +-------------------------------+----------+ | Environment | abi_test | +===============================+==========+ | CentOS Stream 10 | PASS | +-------------------------------+----------+ | Fedora Linux 40 | PASS | +-------------------------------+----------+ | Fedora Linux 41 | PASS | +-------------------------------+----------+ | CentOS Stream 9 | PASS | +-------------------------------+----------+ | Debian GNU/Linux 12 | PASS | +-------------------------------+----------+ | Red Hat Enterprise Linux 8.10 | PASS | +-------------------------------+----------+ | openSUSE Leap 15.6 | PASS | +-------------------------------+----------+ | Red Hat Enterprise Linux 9.5 | PASS | +-------------------------------+----------+ | Ubuntu 22.04 | PASS | +-------------------------------+----------+ | Ubuntu 24.04 | PASS | +-------------------------------+----------+ CentOS Stream 10 Kernel: 5.15 Compiler: gcc gcc (GCC) 14.2.1 20250110 (Red Hat 14.2.1-8) Fedora Linux 40 Kernel: 5.15 Compiler: clang gcc (GCC) 14.2.1 20240912 (Red Hat 14.2.1-3) Fedora Linux 41 Kernel: 5.15 Compiler: clang gcc (GCC) 14.3.1 20250523 (Red Hat 14.3.1-1) CentOS Stream 9 Kernel: 5.15 Compiler: gcc gcc (GCC) 11.5.0 20240719 (Red Hat 11.5.0-7) Debian GNU/Linux 12 Kernel: 5.15 Compiler: gcc gcc (Debian 12.2.0-14+deb12u1) 12.2.0 Red Hat Enterprise Linux 8.10 Kernel: 5.15 Compiler: gcc gcc (GCC) 8.5.0 20210514 (Red Hat 8.5.0-22) openSUSE Leap 15.6 Kernel: 5.15 Compiler: gcc gcc (SUSE Linux) 7.5.0 Red Hat Enterprise Linux 9.5 Kernel: 5.15 Compiler: gcc gcc (GCC) 11.5.0 20240719 (Red Hat 11.5.0-2) Ubuntu 22.04 Kernel: 5.15 Compiler: gcc gcc (Ubuntu 11.4.0-1ubuntu1~22.04) 11.4.0 Ubuntu 24.04 Kernel: 5.15 Compiler: gcc gcc (Ubuntu 13.3.0-6ubuntu2~24.04) 13.3.0 To view detailed results, visit: https://lab.dpdk.org/results/dashboard/patchsets/33619/ UNH-IOL DPDK Community Lab To manage your email subscriptions, visit: https://lab.dpdk.org/results/dashboard/preferences/subscriptions/