From mboxrd@z Thu Jan 1 00:00:00 1970 Return-Path: Received: from mails.dpdk.org (mails.dpdk.org [217.70.189.124]) by inbox.dpdk.org (Postfix) with ESMTP id D4E5F46B27 for ; Wed, 9 Jul 2025 13:51:33 +0200 (CEST) Received: from mails.dpdk.org (localhost [127.0.0.1]) by mails.dpdk.org (Postfix) with ESMTP id CDA454021E; Wed, 9 Jul 2025 13:51:33 +0200 (CEST) Received: from mail-pf1-f225.google.com (mail-pf1-f225.google.com [209.85.210.225]) by mails.dpdk.org (Postfix) with ESMTP id 71E1C4021E for ; Wed, 9 Jul 2025 13:51:32 +0200 (CEST) Received: by mail-pf1-f225.google.com with SMTP id d2e1a72fcca58-74264d1832eso6538594b3a.0 for ; Wed, 09 Jul 2025 04:51:32 -0700 (PDT) DKIM-Signature: v=1; a=rsa-sha256; c=relaxed/relaxed; d=iol.unh.edu; s=unh-iol; t=1752061891; x=1752666691; darn=dpdk.org; h=references:in-reply-to:cc:to:from:subject:message-id:date:from:to :cc:subject:date:message-id:reply-to; bh=da2oWWibTqeRedGe7IVouqhDlhuhdHmJexRxrGTHRbw=; b=C+fAKBtOp6scrLYIOc8NczysAERm0gLSz/dwALpaGvexIifvgSsU4golq+2XRmGkTz DEVwxAz05PpApx1BZX9I6kgaJ8dUw5XKXd3vxxKRqNLiVBncqa4B69Tb1HCutXl74UKu xvFgL34dRz0aV7oGsW4iSXneYxOaX4VABbGnY= X-Google-DKIM-Signature: v=1; a=rsa-sha256; c=relaxed/relaxed; d=1e100.net; s=20230601; t=1752061891; x=1752666691; h=references:in-reply-to:cc:to:from:subject:message-id:date :x-gm-message-state:from:to:cc:subject:date:message-id:reply-to; bh=da2oWWibTqeRedGe7IVouqhDlhuhdHmJexRxrGTHRbw=; b=TKnIoV6kG6IjE8pd2YEZwWceQg3r7OopQaZEUB/I/XZdxwPv8vtEod780DOoM39/Kc fmL76ZC/i5+Kh7XoDzTp3pzfvFtFM81r9scb4hUMTz9iML0W2w7Cz2Y+6/bcdOG6JN0w M3pAsVJDEfuLs70o2EPQ8cKJypc+6BdysDVPHEE5aRr8VbK7yFVb44lnt8VU/4lniFA2 mZtG358l5tqQSQ+z4rIJCiTcDMOwq8sqaPkEYH2VSrU0k8ICRiekFQ1y3TWxsb7AA0Qg J47Hw6mhm0KY5TN97i7N0SlvixvRiuVkZgLSoKIFYdxihA2grR3WndzY7fdaBWDIrP1J Oe6Q== X-Gm-Message-State: AOJu0Yye0vdPBm1IT2ZLK+4as69lgok3bIWHVYhah+FDEKRSr9JkKEY/ NTINEr8GBgc+zer9jSgAV9z2D2NK8t+Xh5tmGihamLaRpMYl5vxsBDG45+sSMUZQMS/qEVgYxk7 wc+n1/kL6fRhiti9yc2R6Su4nJesG+iloZZzlhBS5ysQTZCbrEfpTQnXC6dY8 X-Gm-Gg: ASbGnctbaILxG49lXJs4NrgdUsOTeGaElmybel0DpTdVTnp5ezHPyNTgMw244U26quM Xt8e4iyEB6HHTzrjffJsmb5tblM7lpGS9UTMK/s2kzEj9iZeWaDduWCamf4AA4WuRQWxTyCtRbg XJL7hDt4LAebY9POFOFedHa+als3oda0IYc+nkfG5oVrPV2MJXWIAI2fVZOAJyD+CQ4IOD4Y8OQ QNz+ZpIwhxIoojPaWxiuTbcBCrGtHMDsPMif2dHyLW8qOLS7p21zTvvFij+vSroPdFTOs1X7zH8 XvRcO5ENfTbTjT5hYZv0wN4C8Q+wx/9YCbDQUucyDTD/Q7Q= X-Google-Smtp-Source: AGHT+IHk1Av0E/MyWXrXpEr7uS/WNRK0b2BClOvC5t3U2bPlyB3h3CqueM+AMuFfu8+Pv39d5HziMi4MI5Ag X-Received: by 2002:a05:6a00:27a8:b0:74e:ab93:422b with SMTP id d2e1a72fcca58-74eab934673mr1646935b3a.4.1752061891619; Wed, 09 Jul 2025 04:51:31 -0700 (PDT) Received: from postal.iol.unh.edu (postal.iol.unh.edu. [2606:4100:3880:1234::84]) by smtp-relay.gmail.com with ESMTPS id 41be03b00d2f7-b38ee3fd6e9sm689789a12.8.2025.07.09.04.51.31 (version=TLS1_2 cipher=ECDHE-ECDSA-AES128-GCM-SHA256 bits=128/128); Wed, 09 Jul 2025 04:51:31 -0700 (PDT) X-Relaying-Domain: iol.unh.edu Date: Wed, 09 Jul 2025 04:51:31 -0700 (PDT) Message-ID: <686e57c3.630a0220.3d8c1d.65faSMTPIN_ADDED_MISSING@mx.google.com> Received: from [172.21.0.9] (unknown [172.18.0.240]) by postal.iol.unh.edu (Postfix) with ESMTP id D71806051830; Wed, 9 Jul 2025 07:51:30 -0400 (EDT) Subject: |SUCCESS| pw155086 [PATCH] net/mlx5: fix the queue length checking From: dpdklab@iol.unh.edu To: Test Report Cc: dpdk-test-reports@iol.unh.edu In-Reply-To: <20250709040000.112338-1-bingz@nvidia.com> References: <20250709040000.112338-1-bingz@nvidia.com> Content-Type: text/plain X-BeenThere: test-report@dpdk.org X-Mailman-Version: 2.1.29 Precedence: list List-Id: automatic DPDK test reports List-Unsubscribe: , List-Archive: List-Post: List-Help: List-Subscribe: , Errors-To: test-report-bounces@dpdk.org Test-Label: iol-abi-testing Test-Status: SUCCESS http://dpdk.org/patch/155086 _Testing PASS_ Submitter: Bing Zhao Date: Wednesday, July 09 2025 04:00:00 DPDK git baseline: Repo:dpdk Branch: master CommitID:e2888614268cbf0abcc7cd72ad97ff4e4901d0a5 155086 --> testing pass Upstream job id: Generic-DPDK-Compile-ABI#133736 Test environment and result as below: +-------------------------------+----------+ | Environment | abi_test | +===============================+==========+ | CentOS Stream 10 | PASS | +-------------------------------+----------+ | Fedora Linux 40 | PASS | +-------------------------------+----------+ | Fedora Linux 41 | PASS | +-------------------------------+----------+ | CentOS Stream 9 | PASS | +-------------------------------+----------+ | Debian GNU/Linux 12 | PASS | +-------------------------------+----------+ | Red Hat Enterprise Linux 8.10 | PASS | +-------------------------------+----------+ | openSUSE Leap 15.6 | PASS | +-------------------------------+----------+ | Red Hat Enterprise Linux 9.5 | PASS | +-------------------------------+----------+ | Ubuntu 22.04 | PASS | +-------------------------------+----------+ | Ubuntu 24.04 | PASS | +-------------------------------+----------+ CentOS Stream 10 Kernel: 5.15 Compiler: gcc gcc (GCC) 14.2.1 20250110 (Red Hat 14.2.1-8) Fedora Linux 40 Kernel: 5.15 Compiler: clang gcc (GCC) 14.2.1 20240912 (Red Hat 14.2.1-3) Fedora Linux 41 Kernel: 5.15 Compiler: clang gcc (GCC) 14.3.1 20250523 (Red Hat 14.3.1-1) CentOS Stream 9 Kernel: 5.15 Compiler: gcc gcc (GCC) 11.5.0 20240719 (Red Hat 11.5.0-7) Debian GNU/Linux 12 Kernel: 5.15 Compiler: gcc gcc (Debian 12.2.0-14+deb12u1) 12.2.0 Red Hat Enterprise Linux 8.10 Kernel: 5.15 Compiler: gcc gcc (GCC) 8.5.0 20210514 (Red Hat 8.5.0-22) openSUSE Leap 15.6 Kernel: 5.15 Compiler: gcc gcc (SUSE Linux) 7.5.0 Red Hat Enterprise Linux 9.5 Kernel: 5.15 Compiler: gcc gcc (GCC) 11.5.0 20240719 (Red Hat 11.5.0-2) Ubuntu 22.04 Kernel: 5.15 Compiler: gcc gcc (Ubuntu 11.4.0-1ubuntu1~22.04) 11.4.0 Ubuntu 24.04 Kernel: 5.15 Compiler: gcc gcc (Ubuntu 13.3.0-6ubuntu2~24.04) 13.3.0 To view detailed results, visit: https://lab.dpdk.org/results/dashboard/patchsets/33619/ UNH-IOL DPDK Community Lab To manage your email subscriptions, visit: https://lab.dpdk.org/results/dashboard/preferences/subscriptions/