From mboxrd@z Thu Jan 1 00:00:00 1970 Return-Path: Received: from mails.dpdk.org (mails.dpdk.org [217.70.189.124]) by inbox.dpdk.org (Postfix) with ESMTP id 05F0046B27 for ; Wed, 9 Jul 2025 13:52:59 +0200 (CEST) Received: from mails.dpdk.org (localhost [127.0.0.1]) by mails.dpdk.org (Postfix) with ESMTP id F33F34021E; Wed, 9 Jul 2025 13:52:58 +0200 (CEST) Received: from mail-pl1-f228.google.com (mail-pl1-f228.google.com [209.85.214.228]) by mails.dpdk.org (Postfix) with ESMTP id BFB9C4021E for ; Wed, 9 Jul 2025 13:52:57 +0200 (CEST) Received: by mail-pl1-f228.google.com with SMTP id d9443c01a7336-23602481460so56456235ad.0 for ; Wed, 09 Jul 2025 04:52:57 -0700 (PDT) DKIM-Signature: v=1; a=rsa-sha256; c=relaxed/relaxed; d=iol.unh.edu; s=unh-iol; t=1752061977; x=1752666777; darn=dpdk.org; h=references:in-reply-to:cc:to:from:subject:message-id:date:from:to :cc:subject:date:message-id:reply-to; bh=V58JP4ISq8/c4qg3sRjE+bRR8li8jeRYBI3RbsDINdI=; b=UuN4JXmlkn5pcsGmEJD+8Rffyo0iurKAnEDwGWUMWZTAdq08QmnvK3eQD7fEA999cv YiC9Z8spXjvdIP8mxXctGjP2TWOSP7ry9mmlkNSXTrSKyIegZvp432pzS5CDrdZqbZNV TNZ3ImD/+7RAA3yf+SnueV/Vv2v23lrRLWOMA= X-Google-DKIM-Signature: v=1; a=rsa-sha256; c=relaxed/relaxed; d=1e100.net; s=20230601; t=1752061977; x=1752666777; h=references:in-reply-to:cc:to:from:subject:message-id:date :x-gm-message-state:from:to:cc:subject:date:message-id:reply-to; bh=V58JP4ISq8/c4qg3sRjE+bRR8li8jeRYBI3RbsDINdI=; b=Qe85hx9SOK4Bew5rncuCM/i1qKNVQUPb8UxW52UWKLug7yn9HUXi7JQtd2a4gQ0qlh 0mZ6XoDy7lsCfcbLp9y1GtQONfCaCTfokURFEgzbSUO6g4eW5DqW7x1OBcIH4XK2ZNRV GG2vHGBFdSVdk4X77fGl9DE2kyj81UTWQucxLcmL3+qVZrqdvuCNXMK3ffjdhIq77rND qmel+ZPNSsfRdWkppoJYZnzUvKW8YbMjJkjqXnefwEnUgW8R2RGm3ynL7aY3Vs4M/dqB JD8V31O9DVT1NwC0kDy6Mk4Ld8eTKtutGmf2lbQywbkL/yts/7EXQyCmoKcFxgezjhuU AmsQ== X-Gm-Message-State: AOJu0Yze3BaHjgY89DaIXXoadMUHuwx9ObWUTfcFPPXiCM0OhkTosJQO qDCIP2S9wyIFnOlJMi8j1QYPGkehfQE8ehOwMcQEecxo7FgNhyAyuUkx4bDAuWFjvpAavacUcDC yM7IqbKKAemNl+EG4zqmGd62cH5Wxy2M9SplCPdAqUcws3MDqSmBcAMf8EWM8 X-Gm-Gg: ASbGncsA2mr3f+Y6PddX4pXxmNTGzd+clDtDQseHs5gGY8CcP0ceWFl/EdgShPNJ5NY mZS+6OmBe1mozjyCqkv7WKcHW5V+B0ebTZoNbpwKqQSvq/JJp0Ulp4oiv5BbZ1PXakH/bneFrFP skqhsw2Aij6G+tPhYIrZyvGnJVHTYUyGKN6PdsrCUOB3grwcpZeZm/Rqna/YWVYVr4y7R5T2P5J RA1qCcb+KBy9kAv5CeDd/0jSo5qgV0J21rYHRUUXMxTeufsdarnRZmyds+/k3FXVeqa39iqaSHc RAsnRbpiiOfJRVYF+4HcDYiZ4TF9IMl/5xJEP/79nE14Jlo= X-Google-Smtp-Source: AGHT+IGqGpw/M775No5426xF1EL083HZlMGRxHrF3Si8cWkZFIpH//KNMjX+JfbsT6uWhioj6vInd+xnlWxQ X-Received: by 2002:a17:903:3c25:b0:235:f632:a4d5 with SMTP id d9443c01a7336-23ddb192035mr28216425ad.9.1752061976896; Wed, 09 Jul 2025 04:52:56 -0700 (PDT) Received: from postal.iol.unh.edu (postal.iol.unh.edu. [2606:4100:3880:1234::84]) by smtp-relay.gmail.com with ESMTPS id d9443c01a7336-23c842d14a8sm6118125ad.46.2025.07.09.04.52.56 (version=TLS1_2 cipher=ECDHE-ECDSA-AES128-GCM-SHA256 bits=128/128); Wed, 09 Jul 2025 04:52:56 -0700 (PDT) X-Relaying-Domain: iol.unh.edu Date: Wed, 09 Jul 2025 04:52:56 -0700 (PDT) Message-ID: <686e5818.170a0220.1800d4.08d9SMTPIN_ADDED_MISSING@mx.google.com> Received: from [172.21.0.6] (unknown [172.18.0.240]) by postal.iol.unh.edu (Postfix) with ESMTP id 5D3B16051830; Wed, 9 Jul 2025 07:52:56 -0400 (EDT) Subject: |SUCCESS| pw155086 [PATCH] net/mlx5: fix the queue length checking From: dpdklab@iol.unh.edu To: Test Report Cc: dpdk-test-reports@iol.unh.edu In-Reply-To: <20250709040000.112338-1-bingz@nvidia.com> References: <20250709040000.112338-1-bingz@nvidia.com> Content-Type: text/plain X-BeenThere: test-report@dpdk.org X-Mailman-Version: 2.1.29 Precedence: list List-Id: automatic DPDK test reports List-Unsubscribe: , List-Archive: List-Post: List-Help: List-Subscribe: , Errors-To: test-report-bounces@dpdk.org Test-Label: iol-abi-testing Test-Status: SUCCESS http://dpdk.org/patch/155086 _Testing PASS_ Submitter: Bing Zhao Date: Wednesday, July 09 2025 04:00:00 DPDK git baseline: Repo:dpdk Branch: master CommitID:e2888614268cbf0abcc7cd72ad97ff4e4901d0a5 155086 --> testing pass Upstream job id: Generic-DPDK-Compile-ABI#133738 Test environment and result as below: +-------------------------------+----------+ | Environment | abi_test | +===============================+==========+ | CentOS Stream 10 | PASS | +-------------------------------+----------+ | Fedora Linux 40 | PASS | +-------------------------------+----------+ | Fedora Linux 41 | PASS | +-------------------------------+----------+ | CentOS Stream 9 | PASS | +-------------------------------+----------+ | Debian GNU/Linux 12 | PASS | +-------------------------------+----------+ | Red Hat Enterprise Linux 8.10 | PASS | +-------------------------------+----------+ | openSUSE Leap 15.6 | PASS | +-------------------------------+----------+ | Red Hat Enterprise Linux 9.5 | PASS | +-------------------------------+----------+ | Ubuntu 22.04 | PASS | +-------------------------------+----------+ | Ubuntu 24.04 | PASS | +-------------------------------+----------+ CentOS Stream 10 Kernel: 5.15 Compiler: gcc gcc (GCC) 14.2.1 20250110 (Red Hat 14.2.1-8) Fedora Linux 40 Kernel: 5.15 Compiler: clang gcc (GCC) 14.2.1 20240912 (Red Hat 14.2.1-3) Fedora Linux 41 Kernel: 5.15 Compiler: clang gcc (GCC) 14.3.1 20250523 (Red Hat 14.3.1-1) CentOS Stream 9 Kernel: 5.15 Compiler: gcc gcc (GCC) 11.5.0 20240719 (Red Hat 11.5.0-7) Debian GNU/Linux 12 Kernel: 5.15 Compiler: gcc gcc (Debian 12.2.0-14+deb12u1) 12.2.0 Red Hat Enterprise Linux 8.10 Kernel: 5.15 Compiler: gcc gcc (GCC) 8.5.0 20210514 (Red Hat 8.5.0-22) openSUSE Leap 15.6 Kernel: 5.15 Compiler: gcc gcc (SUSE Linux) 7.5.0 Red Hat Enterprise Linux 9.5 Kernel: 5.15 Compiler: gcc gcc (GCC) 11.5.0 20240719 (Red Hat 11.5.0-2) Ubuntu 22.04 Kernel: 5.15 Compiler: gcc gcc (Ubuntu 11.4.0-1ubuntu1~22.04) 11.4.0 Ubuntu 24.04 Kernel: 5.15 Compiler: gcc gcc (Ubuntu 13.3.0-6ubuntu2~24.04) 13.3.0 To view detailed results, visit: https://lab.dpdk.org/results/dashboard/patchsets/33619/ UNH-IOL DPDK Community Lab To manage your email subscriptions, visit: https://lab.dpdk.org/results/dashboard/preferences/subscriptions/