From mboxrd@z Thu Jan 1 00:00:00 1970 Return-Path: Received: from mails.dpdk.org (mails.dpdk.org [217.70.189.124]) by inbox.dpdk.org (Postfix) with ESMTP id 29CE546B27 for ; Wed, 9 Jul 2025 13:54:12 +0200 (CEST) Received: from mails.dpdk.org (localhost [127.0.0.1]) by mails.dpdk.org (Postfix) with ESMTP id 23FCF4021E; Wed, 9 Jul 2025 13:54:12 +0200 (CEST) Received: from mail-il1-f228.google.com (mail-il1-f228.google.com [209.85.166.228]) by mails.dpdk.org (Postfix) with ESMTP id 0FBA64021E for ; Wed, 9 Jul 2025 13:54:11 +0200 (CEST) Received: by mail-il1-f228.google.com with SMTP id e9e14a558f8ab-3df3ce3ec91so19440755ab.2 for ; Wed, 09 Jul 2025 04:54:11 -0700 (PDT) DKIM-Signature: v=1; a=rsa-sha256; c=relaxed/relaxed; d=iol.unh.edu; s=unh-iol; t=1752062050; x=1752666850; darn=dpdk.org; h=references:in-reply-to:cc:to:from:subject:message-id:date:from:to :cc:subject:date:message-id:reply-to; bh=YCrMQLU6V8kcDWvWhXn1ABJ8ZdnseldMRUpknJFheYo=; b=Bs1oX8ab/WoyOXv2sK1G7zgksFfj+xNZsEoULKl5gjL6OKVO2DfAe2XZxos7DaFfTp z+Nt1h7XEv58ivt40OcWcBnS+BJStEWancP14gGywMf/y/ryydt+LefpcRi8Hec8oVGt O7ws7N0ON/Rf7wUYUXt4al5jI5LWYyqxKtsME= X-Google-DKIM-Signature: v=1; a=rsa-sha256; c=relaxed/relaxed; d=1e100.net; s=20230601; t=1752062050; x=1752666850; h=references:in-reply-to:cc:to:from:subject:message-id:date :x-gm-message-state:from:to:cc:subject:date:message-id:reply-to; bh=YCrMQLU6V8kcDWvWhXn1ABJ8ZdnseldMRUpknJFheYo=; b=kO02DoARlJfkalqyV8ltABerRy5uyWeyVamgvC2TZRMxc+1TkYA3pMfr4+/apIZsl8 aztxurNPpeO6c/Rnz7nTA4nbq8XJIaem8hlMK+9nwaf1XDSvUPOzY2gcF9YNkSDyq0Ch 8T1izviiQf5xUbWOXvYUHeNjeVUsnYE4Ie3Yxt9eamicG5G7JoG+AI1/UTHBlgW7FGg1 3bLc2tmvct0mflHICo90G2QlcHZ+HzbYPiGIiufBsCLLHEiSoSQ5XmG9W86b0jO7S2sc im1N7QhN8O0U4m1kpQJg2g7tyYFuzQa3lO5ysMmJedOMTq6i9nQK0phLBPEooSFSIaxI iucw== X-Gm-Message-State: AOJu0YxEjeY5OO1EtyvZlW9SX0i299WfxcWR68Gr05z4iJsRsuUx+I6A /CASXeDpJMbwzgm29QCqmVywYWLe0w3KxuzU3KvfHePI4YZNI+YlPRUilHG6TjsSdJW+udX67un RY89Ltn6dK+vin1Ii/4hoAx7HvvznP9z73noJPThlJkhB X-Gm-Gg: ASbGncvPqdgHThCdXJlhD1qS3IP3lV61srhOC6y7B2T20GNDWOrqzNR0UFRboQAKbF5 6Qx9Mf+kVFQoArv10+Bz2yrI/voVRJtQW8jxGqHbfab9//lJQ4rZEiTJ7n0tA0466ZxhuenYdv9 3DNHloIQEqKVVv04N7V8ERGrn/QLF17l0n9hAQ3XxYSCgryD8JPf4KvF9xQKBj86YDlYQILHX+r hM916od0KRv6G72jaXpe3FV26BmeRsm499mJNecEmAfPxxXn2VfoOby2fMa0UQipruSxRwZq6tA Sl5zko0Z/PGW8XOSjoH+qTxu+dsqZ3FHsbCVfZYVtw0yGrsa/IzbMdoUuOrJ5O0XvZUZKw== X-Google-Smtp-Source: AGHT+IFsja1O/DJeSMNeTNpBKQAX5vewMWGrgnAb3wMcClPqLO9B6GTA1slooxJ6OQdLc5/mrythgDugOM9e X-Received: by 2002:a05:6e02:2289:b0:3db:86fc:d328 with SMTP id e9e14a558f8ab-3e166ffbd11mr21847175ab.5.1752062050290; Wed, 09 Jul 2025 04:54:10 -0700 (PDT) Received: from postal.iol.unh.edu (postal.iol.unh.edu. [132.177.123.84]) by smtp-relay.gmail.com with ESMTPS id 8926c6da1cb9f-50538ab70dasm118195173.31.2025.07.09.04.54.10 (version=TLS1_2 cipher=ECDHE-ECDSA-AES128-GCM-SHA256 bits=128/128); Wed, 09 Jul 2025 04:54:10 -0700 (PDT) X-Relaying-Domain: iol.unh.edu Date: Wed, 09 Jul 2025 04:54:10 -0700 (PDT) Message-ID: <686e5862.050a0220.36aa17.7142SMTPIN_ADDED_MISSING@mx.google.com> Received: from [172.21.0.5] (unknown [172.18.0.240]) by postal.iol.unh.edu (Postfix) with ESMTP id C53F16051830; Wed, 9 Jul 2025 07:54:09 -0400 (EDT) Subject: |SUCCESS| pw155086 [PATCH] net/mlx5: fix the queue length checking From: dpdklab@iol.unh.edu To: Test Report Cc: dpdk-test-reports@iol.unh.edu In-Reply-To: <20250709040000.112338-1-bingz@nvidia.com> References: <20250709040000.112338-1-bingz@nvidia.com> Content-Type: text/plain X-BeenThere: test-report@dpdk.org X-Mailman-Version: 2.1.29 Precedence: list List-Id: automatic DPDK test reports List-Unsubscribe: , List-Archive: List-Post: List-Help: List-Subscribe: , Errors-To: test-report-bounces@dpdk.org Test-Label: iol-abi-testing Test-Status: SUCCESS http://dpdk.org/patch/155086 _Testing PASS_ Submitter: Bing Zhao Date: Wednesday, July 09 2025 04:00:00 DPDK git baseline: Repo:dpdk Branch: master CommitID:e2888614268cbf0abcc7cd72ad97ff4e4901d0a5 155086 --> testing pass Upstream job id: Generic-DPDK-Compile-ABI#133739 Test environment and result as below: +-------------------------------+----------+ | Environment | abi_test | +===============================+==========+ | CentOS Stream 10 | PASS | +-------------------------------+----------+ | Fedora Linux 40 | PASS | +-------------------------------+----------+ | Fedora Linux 41 | PASS | +-------------------------------+----------+ | CentOS Stream 9 | PASS | +-------------------------------+----------+ | Debian GNU/Linux 12 | PASS | +-------------------------------+----------+ | Red Hat Enterprise Linux 8.10 | PASS | +-------------------------------+----------+ | openSUSE Leap 15.6 | PASS | +-------------------------------+----------+ | Red Hat Enterprise Linux 9.5 | PASS | +-------------------------------+----------+ | Ubuntu 22.04 | PASS | +-------------------------------+----------+ | Ubuntu 24.04 | PASS | +-------------------------------+----------+ CentOS Stream 10 Kernel: 5.15 Compiler: gcc gcc (GCC) 14.2.1 20250110 (Red Hat 14.2.1-8) Fedora Linux 40 Kernel: 5.15 Compiler: clang gcc (GCC) 14.2.1 20240912 (Red Hat 14.2.1-3) Fedora Linux 41 Kernel: 5.15 Compiler: clang gcc (GCC) 14.3.1 20250523 (Red Hat 14.3.1-1) CentOS Stream 9 Kernel: 5.15 Compiler: gcc gcc (GCC) 11.5.0 20240719 (Red Hat 11.5.0-7) Debian GNU/Linux 12 Kernel: 5.15 Compiler: gcc gcc (Debian 12.2.0-14+deb12u1) 12.2.0 Red Hat Enterprise Linux 8.10 Kernel: 5.15 Compiler: gcc gcc (GCC) 8.5.0 20210514 (Red Hat 8.5.0-22) openSUSE Leap 15.6 Kernel: 5.15 Compiler: gcc gcc (SUSE Linux) 7.5.0 Red Hat Enterprise Linux 9.5 Kernel: 5.15 Compiler: gcc gcc (GCC) 11.5.0 20240719 (Red Hat 11.5.0-2) Ubuntu 22.04 Kernel: 5.15 Compiler: gcc gcc (Ubuntu 11.4.0-1ubuntu1~22.04) 11.4.0 Ubuntu 24.04 Kernel: 5.15 Compiler: gcc gcc (Ubuntu 13.3.0-6ubuntu2~24.04) 13.3.0 To view detailed results, visit: https://lab.dpdk.org/results/dashboard/patchsets/33619/ UNH-IOL DPDK Community Lab To manage your email subscriptions, visit: https://lab.dpdk.org/results/dashboard/preferences/subscriptions/