From mboxrd@z Thu Jan 1 00:00:00 1970 Return-Path: Received: from mails.dpdk.org (mails.dpdk.org [217.70.189.124]) by inbox.dpdk.org (Postfix) with ESMTP id 3757C46B27 for ; Wed, 9 Jul 2025 13:54:29 +0200 (CEST) Received: from mails.dpdk.org (localhost [127.0.0.1]) by mails.dpdk.org (Postfix) with ESMTP id 324574021E; Wed, 9 Jul 2025 13:54:29 +0200 (CEST) Received: from mail-pl1-f226.google.com (mail-pl1-f226.google.com [209.85.214.226]) by mails.dpdk.org (Postfix) with ESMTP id 20E924021E for ; Wed, 9 Jul 2025 13:54:28 +0200 (CEST) Received: by mail-pl1-f226.google.com with SMTP id d9443c01a7336-23694cec0feso48479285ad.2 for ; Wed, 09 Jul 2025 04:54:28 -0700 (PDT) DKIM-Signature: v=1; a=rsa-sha256; c=relaxed/relaxed; d=iol.unh.edu; s=unh-iol; t=1752062067; x=1752666867; darn=dpdk.org; h=references:in-reply-to:cc:to:from:subject:message-id:date:from:to :cc:subject:date:message-id:reply-to; bh=5ir+biny3IrIlbOkOsGvVT76wsc3m9aGEHjvJvNRkXg=; b=Zu7DZBosL1iWzp8mK2qtmAQTTslmPyZkUoMOY5agnj4Iy7xlaricfZGs4XNYRlybUg EURcXLsqow3MiBXXEKkeUFHMOqsd/EuzL0pjn61zP4XfbkcR+1TOOHLU8ThIh9AIGQt/ a1ot62P//na2NssKt3632Px6rqlyGapx+Euhk= X-Google-DKIM-Signature: v=1; a=rsa-sha256; c=relaxed/relaxed; d=1e100.net; s=20230601; t=1752062067; x=1752666867; h=references:in-reply-to:cc:to:from:subject:message-id:date :x-gm-message-state:from:to:cc:subject:date:message-id:reply-to; bh=5ir+biny3IrIlbOkOsGvVT76wsc3m9aGEHjvJvNRkXg=; b=F1zb7qzzm6mQW+EJ/77ZU9JKHhPha2yxsIBYe/KZxaId+YSTYJUe4sm9n4Gl5WS9rR bxeLfoqaHddmvLcuLKIbMcwKFLQdO6klB3ToyUo5mcPK2j94VSi2fxeP+WoeyJCmXSF8 Tci6snSDgpGnC4RnLa2+Tdy6qgyPk/z7ZlJFZkFs0+LAPWC4SuhGiY6YvmEGheG5Mve6 mpOYV0pOhaL4sZ4er6hC78vR8h5/zl1lmarfwCYE5rRs8qMsZoIRxce8b5pNzRrD8276 K9WciH6aVtNYm/wg3TfOqtkgkegot4p3NkRBqi+td3N2G3GGnsOpjCTMcTsiGsLX446c JGUQ== X-Gm-Message-State: AOJu0Yx83WuJGorHCpkGxaOJ5b4QGYlpyTk65kuG15tQKal2rTZ9eNoW 868QIaef+xEUSQ8Iclkw88EM6vpX9TZDWGkZSlH187tJZ0VRjrBcyaCuzd/N0jc8wXdG+ntRz01 Tg1IZlgXTuXEn8KwiY8tudHOHXJj9Q5OfXgysUB3i4q80 X-Gm-Gg: ASbGncsRePpV6x4gpo2F2jzoZP5dHlIbl3lmCsDnN7tiHqYyYWUsLX7QbBt9Rb8/NuR 0mAqS1+Y7RdtbU2kw56fCP9khFKlXwDSyfjOFk/dRePy7elsyDzoTLJjNxcRpBrW+zaFZJy6BzF lpXQMqqPxJS1mwlLujmgQjORiGqTCDjleVnDrK3rBEPP9SOrRFQdi2tmLITKGrkySg4aL/f+KRu bk+wM2n0dfUsutxKP0Kjcm2e3skIHRPU+c/9rAJcuaXHgtX7LnUpAyoP/4dUWeQoReCKafEgXvn l9gxDiwlVXr+12v0TzkIMNnM7pfjLQdpc08EeYDT7Pd+rrq8Ugid6Ij/H0IBo2ODRMZsTg== X-Google-Smtp-Source: AGHT+IGA/bSwGAF1zHsouE8zIjo6H4bgTwK46X4cb1FnkwC+tc2tnVZsX/1CK1A34f+/SqB3715CG6g6Bwps X-Received: by 2002:a17:902:e747:b0:235:779:ede0 with SMTP id d9443c01a7336-23ddb32d0damr35238265ad.35.1752062067252; Wed, 09 Jul 2025 04:54:27 -0700 (PDT) Received: from postal.iol.unh.edu (postal.iol.unh.edu. [132.177.123.84]) by smtp-relay.gmail.com with ESMTPS id d9443c01a7336-23c8450764dsm6660225ad.84.2025.07.09.04.54.27 (version=TLS1_2 cipher=ECDHE-ECDSA-AES128-GCM-SHA256 bits=128/128); Wed, 09 Jul 2025 04:54:27 -0700 (PDT) X-Relaying-Domain: iol.unh.edu Date: Wed, 09 Jul 2025 04:54:27 -0700 (PDT) Message-ID: <686e5873.170a0220.9166c.3ad9SMTPIN_ADDED_MISSING@mx.google.com> Received: from [172.21.0.5] (unknown [172.18.0.240]) by postal.iol.unh.edu (Postfix) with ESMTP id 698056051830; Wed, 9 Jul 2025 07:54:26 -0400 (EDT) Subject: |SUCCESS| pw155086 [PATCH] net/mlx5: fix the queue length checking From: dpdklab@iol.unh.edu To: Test Report Cc: dpdk-test-reports@iol.unh.edu In-Reply-To: <20250709040000.112338-1-bingz@nvidia.com> References: <20250709040000.112338-1-bingz@nvidia.com> Content-Type: text/plain X-BeenThere: test-report@dpdk.org X-Mailman-Version: 2.1.29 Precedence: list List-Id: automatic DPDK test reports List-Unsubscribe: , List-Archive: List-Post: List-Help: List-Subscribe: , Errors-To: test-report-bounces@dpdk.org Test-Label: iol-abi-testing Test-Status: SUCCESS http://dpdk.org/patch/155086 _Testing PASS_ Submitter: Bing Zhao Date: Wednesday, July 09 2025 04:00:00 DPDK git baseline: Repo:dpdk Branch: master CommitID:e2888614268cbf0abcc7cd72ad97ff4e4901d0a5 155086 --> testing pass Upstream job id: Generic-DPDK-Compile-ABI#133744 Test environment and result as below: +-------------------------------+----------+ | Environment | abi_test | +===============================+==========+ | CentOS Stream 10 | PASS | +-------------------------------+----------+ | Fedora Linux 40 | PASS | +-------------------------------+----------+ | Fedora Linux 41 | PASS | +-------------------------------+----------+ | CentOS Stream 9 | PASS | +-------------------------------+----------+ | Debian GNU/Linux 12 | PASS | +-------------------------------+----------+ | Red Hat Enterprise Linux 8.10 | PASS | +-------------------------------+----------+ | openSUSE Leap 15.6 | PASS | +-------------------------------+----------+ | Red Hat Enterprise Linux 9.5 | PASS | +-------------------------------+----------+ | Ubuntu 22.04 | PASS | +-------------------------------+----------+ | Ubuntu 24.04 | PASS | +-------------------------------+----------+ CentOS Stream 10 Kernel: 5.15 Compiler: gcc gcc (GCC) 14.2.1 20250110 (Red Hat 14.2.1-8) Fedora Linux 40 Kernel: 5.15 Compiler: clang gcc (GCC) 14.2.1 20240912 (Red Hat 14.2.1-3) Fedora Linux 41 Kernel: 5.15 Compiler: clang gcc (GCC) 14.3.1 20250523 (Red Hat 14.3.1-1) CentOS Stream 9 Kernel: 5.15 Compiler: gcc gcc (GCC) 11.5.0 20240719 (Red Hat 11.5.0-7) Debian GNU/Linux 12 Kernel: 5.15 Compiler: gcc gcc (Debian 12.2.0-14+deb12u1) 12.2.0 Red Hat Enterprise Linux 8.10 Kernel: 5.15 Compiler: gcc gcc (GCC) 8.5.0 20210514 (Red Hat 8.5.0-22) openSUSE Leap 15.6 Kernel: 5.15 Compiler: gcc gcc (SUSE Linux) 7.5.0 Red Hat Enterprise Linux 9.5 Kernel: 5.15 Compiler: gcc gcc (GCC) 11.5.0 20240719 (Red Hat 11.5.0-2) Ubuntu 22.04 Kernel: 5.15 Compiler: gcc gcc (Ubuntu 11.4.0-1ubuntu1~22.04) 11.4.0 Ubuntu 24.04 Kernel: 5.15 Compiler: gcc gcc (Ubuntu 13.3.0-6ubuntu2~24.04) 13.3.0 To view detailed results, visit: https://lab.dpdk.org/results/dashboard/patchsets/33619/ UNH-IOL DPDK Community Lab To manage your email subscriptions, visit: https://lab.dpdk.org/results/dashboard/preferences/subscriptions/