From mboxrd@z Thu Jan 1 00:00:00 1970 Return-Path: Received: from mails.dpdk.org (mails.dpdk.org [217.70.189.124]) by inbox.dpdk.org (Postfix) with ESMTP id 5196D46B27 for ; Wed, 9 Jul 2025 13:55:21 +0200 (CEST) Received: from mails.dpdk.org (localhost [127.0.0.1]) by mails.dpdk.org (Postfix) with ESMTP id 4BA6A4021E; Wed, 9 Jul 2025 13:55:21 +0200 (CEST) Received: from mail-pl1-f228.google.com (mail-pl1-f228.google.com [209.85.214.228]) by mails.dpdk.org (Postfix) with ESMTP id E6CB44021E for ; Wed, 9 Jul 2025 13:55:19 +0200 (CEST) Received: by mail-pl1-f228.google.com with SMTP id d9443c01a7336-23526264386so52612985ad.2 for ; Wed, 09 Jul 2025 04:55:19 -0700 (PDT) DKIM-Signature: v=1; a=rsa-sha256; c=relaxed/relaxed; d=iol.unh.edu; s=unh-iol; t=1752062119; x=1752666919; darn=dpdk.org; h=references:in-reply-to:cc:to:from:subject:message-id:date:from:to :cc:subject:date:message-id:reply-to; bh=3ECmfey3402KCcGQNO+tY1nKC6CkzgJdSvAl0gpa+VE=; b=hU/XjYf7DykbSOD58zM4ANpik0xNEmPhPEfZ93SDm80+pKJpWRxA58b1oYg4BinylE bws8tk/xqXE9EdYvRGPCQHxld2YRtUHuBJH64dZPeVUcANpiOWL4YbtU30k73fa+pvVG eUDYwBNp2UALTZuHXfmzmtJAHmonf5AFJJeEU= X-Google-DKIM-Signature: v=1; a=rsa-sha256; c=relaxed/relaxed; d=1e100.net; s=20230601; t=1752062119; x=1752666919; h=references:in-reply-to:cc:to:from:subject:message-id:date :x-gm-message-state:from:to:cc:subject:date:message-id:reply-to; bh=3ECmfey3402KCcGQNO+tY1nKC6CkzgJdSvAl0gpa+VE=; b=DJc8UlTWzbAXDwqDAPfYjUTBKXuP5gy35tJJaEuFwdV1MozD+kc/Mfhf/f+dLp8383 cIgZZYs8loh2r20oo1wNOAKE6hYyBO+wi6laTrI81Q8Mntn2y3Zaj7SNfOZ/wfbCntHh ZJFIWuhK1dj42SMoemAY3V1FXLBaZqkCz7fOvgpwIROXJZ2UzaNrzlIvGiwA4Za+Nw1i wm1ThVV7MOPzJeJKoIg6JJYqBUFs9YGmNaH6ZfZJ8KnefIfQ0lI0bLd9Bd1O7BnHmbFh 7ZDNbjz8+uD8N8ooxdHFpBczH3py+FtEDDMMJU5IAr1LVyNi0BskzyyPPQV+ricCCdHf rY+g== X-Gm-Message-State: AOJu0YyrN6YpmRbViASM3Mh+AWRi3D1whbjC0J7zAO69bIx+tvzclxLA 2NvEmjL00eLhlIMEeNlbtSA26AhH8dDXtXxLcxKtDIKz+b6M874pDhKnBTDs2kcMRk1EYR/s3gb AWN6hi9LWOx1eQYth20Zfai0gKywQ1UTgAwx0AeOQ+7x9 X-Gm-Gg: ASbGncu4pyb1+R1B8OPtRsOo9vHFmzt8RInM4JxPzg1yAfMVyGELUAGUX0i4uUzzCEu yQfowCWYv1ORFVOhiCyuNpYx4/2qt73hWvOrJc4L1tLYXcPEsowPugmf6iNr364NmB9smq4v8mr klUwzCM+IJX7tucAC6nBPRXjnaZnYkG9KnIvc/RCXjC+IXbQNsc5M9VH2geb2gF1K2J3tOo81Nj smofe9Ui5yqHPQI+6JzkgJHSW1x+tjXBhNIJTXjYHvdvkowv9t4BL+89mzwUwj9TYdle9+NSNId JACKiPUkM9G7D9BVsX0VgvsPzG+ckdKRRynjDScqFoHGbcgd0YgGeASJGr05PDSNj/hL3g== X-Google-Smtp-Source: AGHT+IEx9yWiGUwMXrniBckH4hC3c05TRidccVyd4Ty9wdy4DblxU1zQaguIeuUGh5cWpDq5zhRRg6NbeIZ0 X-Received: by 2002:a17:903:184:b0:234:db06:ac0 with SMTP id d9443c01a7336-23ddb36a8ddmr30049105ad.45.1752062119190; Wed, 09 Jul 2025 04:55:19 -0700 (PDT) Received: from postal.iol.unh.edu (postal.iol.unh.edu. [132.177.123.84]) by smtp-relay.gmail.com with ESMTPS id d9443c01a7336-23c842b598asm6358765ad.9.2025.07.09.04.55.19 (version=TLS1_2 cipher=ECDHE-ECDSA-AES128-GCM-SHA256 bits=128/128); Wed, 09 Jul 2025 04:55:19 -0700 (PDT) X-Relaying-Domain: iol.unh.edu Date: Wed, 09 Jul 2025 04:55:19 -0700 (PDT) Message-ID: <686e58a7.170a0220.125185.18d0SMTPIN_ADDED_MISSING@mx.google.com> Received: from [172.21.0.6] (unknown [172.18.0.240]) by postal.iol.unh.edu (Postfix) with ESMTP id 5BBC86051830; Wed, 9 Jul 2025 07:55:18 -0400 (EDT) Subject: |SUCCESS| pw155086 [PATCH] net/mlx5: fix the queue length checking From: dpdklab@iol.unh.edu To: Test Report Cc: dpdk-test-reports@iol.unh.edu In-Reply-To: <20250709040000.112338-1-bingz@nvidia.com> References: <20250709040000.112338-1-bingz@nvidia.com> Content-Type: text/plain X-BeenThere: test-report@dpdk.org X-Mailman-Version: 2.1.29 Precedence: list List-Id: automatic DPDK test reports List-Unsubscribe: , List-Archive: List-Post: List-Help: List-Subscribe: , Errors-To: test-report-bounces@dpdk.org Test-Label: iol-abi-testing Test-Status: SUCCESS http://dpdk.org/patch/155086 _Testing PASS_ Submitter: Bing Zhao Date: Wednesday, July 09 2025 04:00:00 DPDK git baseline: Repo:dpdk Branch: master CommitID:e2888614268cbf0abcc7cd72ad97ff4e4901d0a5 155086 --> testing pass Upstream job id: Generic-DPDK-Compile-ABI#133741 Test environment and result as below: +-------------------------------+----------+ | Environment | abi_test | +===============================+==========+ | CentOS Stream 10 | PASS | +-------------------------------+----------+ | Fedora Linux 40 | PASS | +-------------------------------+----------+ | Fedora Linux 41 | PASS | +-------------------------------+----------+ | CentOS Stream 9 | PASS | +-------------------------------+----------+ | Debian GNU/Linux 12 | PASS | +-------------------------------+----------+ | Red Hat Enterprise Linux 8.10 | PASS | +-------------------------------+----------+ | openSUSE Leap 15.6 | PASS | +-------------------------------+----------+ | Red Hat Enterprise Linux 9.5 | PASS | +-------------------------------+----------+ | Ubuntu 22.04 | PASS | +-------------------------------+----------+ | Ubuntu 24.04 | PASS | +-------------------------------+----------+ CentOS Stream 10 Kernel: 5.15 Compiler: gcc gcc (GCC) 14.2.1 20250110 (Red Hat 14.2.1-8) Fedora Linux 40 Kernel: 5.15 Compiler: clang gcc (GCC) 14.2.1 20240912 (Red Hat 14.2.1-3) Fedora Linux 41 Kernel: 5.15 Compiler: clang gcc (GCC) 14.3.1 20250523 (Red Hat 14.3.1-1) CentOS Stream 9 Kernel: 5.15 Compiler: gcc gcc (GCC) 11.5.0 20240719 (Red Hat 11.5.0-7) Debian GNU/Linux 12 Kernel: 5.15 Compiler: gcc gcc (Debian 12.2.0-14+deb12u1) 12.2.0 Red Hat Enterprise Linux 8.10 Kernel: 5.15 Compiler: gcc gcc (GCC) 8.5.0 20210514 (Red Hat 8.5.0-22) openSUSE Leap 15.6 Kernel: 5.15 Compiler: gcc gcc (SUSE Linux) 7.5.0 Red Hat Enterprise Linux 9.5 Kernel: 5.15 Compiler: gcc gcc (GCC) 11.5.0 20240719 (Red Hat 11.5.0-2) Ubuntu 22.04 Kernel: 5.15 Compiler: gcc gcc (Ubuntu 11.4.0-1ubuntu1~22.04) 11.4.0 Ubuntu 24.04 Kernel: 5.15 Compiler: gcc gcc (Ubuntu 13.3.0-6ubuntu2~24.04) 13.3.0 To view detailed results, visit: https://lab.dpdk.org/results/dashboard/patchsets/33619/ UNH-IOL DPDK Community Lab To manage your email subscriptions, visit: https://lab.dpdk.org/results/dashboard/preferences/subscriptions/