From mboxrd@z Thu Jan 1 00:00:00 1970 Return-Path: Received: from mails.dpdk.org (mails.dpdk.org [217.70.189.124]) by inbox.dpdk.org (Postfix) with ESMTP id 9BB6D46B2F for ; Wed, 9 Jul 2025 14:08:30 +0200 (CEST) Received: from mails.dpdk.org (localhost [127.0.0.1]) by mails.dpdk.org (Postfix) with ESMTP id 848B44021E; Wed, 9 Jul 2025 14:08:30 +0200 (CEST) Received: from mail-yb1-f226.google.com (mail-yb1-f226.google.com [209.85.219.226]) by mails.dpdk.org (Postfix) with ESMTP id 8CB3D4021E for ; Wed, 9 Jul 2025 14:08:29 +0200 (CEST) Received: by mail-yb1-f226.google.com with SMTP id 3f1490d57ef6-e81749142b3so4409698276.3 for ; Wed, 09 Jul 2025 05:08:29 -0700 (PDT) DKIM-Signature: v=1; a=rsa-sha256; c=relaxed/relaxed; d=iol.unh.edu; s=unh-iol; t=1752062909; x=1752667709; darn=dpdk.org; h=references:in-reply-to:cc:to:from:subject:message-id:date:from:to :cc:subject:date:message-id:reply-to; bh=rlzzfnk1UBiBJjHRXZspoL8Xv5DGFHLUq/oHgWBP9a8=; b=WKBsjit9xzEpBjE/uRVork7/Ofwcs0nB5aI2nk8fMCNvOf7AZn/1REHr8zBK/GcN4h mbH12x+Qyg9xxIIu/VlYQEOC0AMGDrKuhve5NNcpa7JvsZLFGXrCW2SGcJxRjHkUQFBC AEZ2wOD8PhlPZs2RFkS9qUpS9IgGY4k1lFxIo= X-Google-DKIM-Signature: v=1; a=rsa-sha256; c=relaxed/relaxed; d=1e100.net; s=20230601; t=1752062909; x=1752667709; h=references:in-reply-to:cc:to:from:subject:message-id:date :x-gm-message-state:from:to:cc:subject:date:message-id:reply-to; bh=rlzzfnk1UBiBJjHRXZspoL8Xv5DGFHLUq/oHgWBP9a8=; b=K7RviA/mlShiWyhTDCXrIxkVq+LzyBGOy3/rnesmvzUM+p17ynEOO+9VDWz8osTtYj GiOAEa40LDjgI83jX7XZZhp964dZIuEEF66rva1oNlFoMcOVVteE35yQ/wwhn/ZLd642 sZVsKmDqGcOUzpn6Gk5EHUL7VstnpPq4dd8ZoXEBrdfJOY/L+kq38hhJgCLKS49kY65u uKs9NtjvDDPVi5SfAHbN9YKP3zBUmDzDA53uyn/lZGm1NdzEwT5tqpXNRxu6Wtu+aKVb B/jnoV+EzQx4HAsnoNUFhluufNurJ+ngf6bk2utv6ArxgnSgPYHL3Ils/707fUIH83V3 LozA== X-Gm-Message-State: AOJu0YxyJSqQyJX4q1J5lCaXt2Sy3cYiFcEVubRCO2v2VhRBvLCz5jmG ZAMITHuzNp0Q16lWOIN75je3ttjA5CNJDAHNy1aHjReU0wL6Qx5E+0TlF6MDt5uR7v/vz+C3fMF 6HiGHdY7XoJPsKjEjVurcemZGZBUgN0Q7W2MABBbu6u4SaQVKehnro8ly/l/j X-Gm-Gg: ASbGnctok2q+CfLmaKbpfPeIDFGgrJlQgIuNUelL6SYch3Ti18kGKIojEhh1mU17EQR cS+RjqpQL5xNHDV5hcy5J1odpBNIDBkJ+y0GqEQ4qK/By9mYTZuhkEHgKY75FRrnBrhVqOU3p86 o+55gkEj2laQUojTC0EiNnj3eIaSdH6vM2W6EFLaxSsojzafd4gwdQ9mxc+2YviHQG77LeOIZ8J c9GBOWoQfXXH2Rh/s5f0/qH7eR+5R+kiEv9XRddoSYncGGe+UAUVnsBlimuka7+FeeA49jCiHvl 3+jYgt8CBYXN6VpuGRCCbIF4Eh2haNCQpomE8m7g6ACSuws= X-Google-Smtp-Source: AGHT+IHyLswMiWzh2OvZsnYcPkwsCzVO+m3PkoHlaV6wx+VmIyFD2J+LOf3V3Ab3X994yHpDPgplAjVeKopr X-Received: by 2002:a05:6902:6a05:b0:e89:98e3:e9b0 with SMTP id 3f1490d57ef6-e8b6e165290mr2081342276.38.1752062908915; Wed, 09 Jul 2025 05:08:28 -0700 (PDT) Received: from postal.iol.unh.edu (postal.iol.unh.edu. [2606:4100:3880:1234::84]) by smtp-relay.gmail.com with ESMTPS id 3f1490d57ef6-e899c402b2bsm332479276.15.2025.07.09.05.08.28 (version=TLS1_2 cipher=ECDHE-ECDSA-AES128-GCM-SHA256 bits=128/128); Wed, 09 Jul 2025 05:08:28 -0700 (PDT) X-Relaying-Domain: iol.unh.edu Date: Wed, 09 Jul 2025 05:08:28 -0700 (PDT) Message-ID: <686e5bbc.050a0220.e78bd.1823SMTPIN_ADDED_MISSING@mx.google.com> Received: from [172.21.0.5] (unknown [172.18.0.240]) by postal.iol.unh.edu (Postfix) with ESMTP id 8BE4A6051830; Wed, 9 Jul 2025 08:08:28 -0400 (EDT) Subject: |SUCCESS| pw155087 [PATCH] maintainers: update for dlb2 From: dpdklab@iol.unh.edu To: Test Report Cc: dpdk-test-reports@iol.unh.edu In-Reply-To: <20250709050434.1296690-1-tirthendu.sarkar@intel.com> References: <20250709050434.1296690-1-tirthendu.sarkar@intel.com> Content-Type: text/plain X-BeenThere: test-report@dpdk.org X-Mailman-Version: 2.1.29 Precedence: list List-Id: automatic DPDK test reports List-Unsubscribe: , List-Archive: List-Post: List-Help: List-Subscribe: , Errors-To: test-report-bounces@dpdk.org Test-Label: iol-unit-amd64-testing Test-Status: SUCCESS http://dpdk.org/patch/155087 _Testing PASS_ Submitter: Tirthendu Sarkar Date: Wednesday, July 09 2025 05:04:34 DPDK git baseline: Repo:dpdk Branch: master CommitID:e90979eebbea093f6bab2d7c222fc5f5c9a85eff 155087 --> testing pass Upstream job id: Generic-Unit-Test-DPDK#354135 Test environment and result as below: +-------------------------------+----------------+ | Environment | dpdk_unit_test | +===============================+================+ | CentOS Stream 9 | PASS | +-------------------------------+----------------+ | CentOS Stream 10 | PASS | +-------------------------------+----------------+ | Fedora Linux 40 | PASS | +-------------------------------+----------------+ | Debian GNU/Linux 12 | PASS | +-------------------------------+----------------+ | Red Hat Enterprise Linux 8.10 | PASS | +-------------------------------+----------------+ | Red Hat Enterprise Linux 9.5 | PASS | +-------------------------------+----------------+ | Fedora Linux 41 | PASS | +-------------------------------+----------------+ | Ubuntu 24.04 | PASS | +-------------------------------+----------------+ | Ubuntu 22.04 | PASS | +-------------------------------+----------------+ | Ubuntu 20.04 | PASS | +-------------------------------+----------------+ CentOS Stream 9 Kernel: 5.15 Compiler: gcc gcc (GCC) 11.5.0 20240719 (Red Hat 11.5.0-7) CentOS Stream 10 Kernel: 5.15 Compiler: gcc gcc (GCC) 14.2.1 20250110 (Red Hat 14.2.1-8) Fedora Linux 40 Kernel: 5.15 Compiler: clang gcc (GCC) 14.2.1 20240912 (Red Hat 14.2.1-3) Debian GNU/Linux 12 Kernel: 5.15 Compiler: gcc gcc (Debian 12.2.0-14+deb12u1) 12.2.0 Red Hat Enterprise Linux 8.10 Kernel: 5.15 Compiler: gcc gcc (GCC) 8.5.0 20210514 (Red Hat 8.5.0-22) Red Hat Enterprise Linux 9.5 Kernel: 5.15 Compiler: gcc gcc (GCC) 11.5.0 20240719 (Red Hat 11.5.0-2) Fedora Linux 41 Kernel: 5.15 Compiler: clang gcc (GCC) 14.3.1 20250523 (Red Hat 14.3.1-1) Ubuntu 24.04 Kernel: 5.15 Compiler: gcc gcc (Ubuntu 13.3.0-6ubuntu2~24.04) 13.3.0 Ubuntu 22.04 Kernel: 5.15 Compiler: gcc gcc (Ubuntu 11.4.0-1ubuntu1~22.04) 11.4.0 Ubuntu 20.04 Kernel: 5.15 Compiler: gcc gcc (Ubuntu 9.4.0-1ubuntu1~20.04.2) 9.4.0 To view detailed results, visit: https://lab.dpdk.org/results/dashboard/patchsets/33620/ UNH-IOL DPDK Community Lab To manage your email subscriptions, visit: https://lab.dpdk.org/results/dashboard/preferences/subscriptions/