From mboxrd@z Thu Jan 1 00:00:00 1970 Return-Path: Received: from mails.dpdk.org (mails.dpdk.org [217.70.189.124]) by inbox.dpdk.org (Postfix) with ESMTP id D359F46B2F for ; Wed, 9 Jul 2025 14:22:18 +0200 (CEST) Received: from mails.dpdk.org (localhost [127.0.0.1]) by mails.dpdk.org (Postfix) with ESMTP id CEDB74021E; Wed, 9 Jul 2025 14:22:18 +0200 (CEST) Received: from mail-il1-f225.google.com (mail-il1-f225.google.com [209.85.166.225]) by mails.dpdk.org (Postfix) with ESMTP id 4C10D4021E for ; Wed, 9 Jul 2025 14:22:17 +0200 (CEST) Received: by mail-il1-f225.google.com with SMTP id e9e14a558f8ab-3df2ccbb895so50017785ab.3 for ; Wed, 09 Jul 2025 05:22:17 -0700 (PDT) DKIM-Signature: v=1; a=rsa-sha256; c=relaxed/relaxed; d=iol.unh.edu; s=unh-iol; t=1752063736; x=1752668536; darn=dpdk.org; h=references:in-reply-to:cc:to:from:subject:message-id:date:from:to :cc:subject:date:message-id:reply-to; bh=QQqIXn9iUdaLTl6uFlGVsQczEMFNisc5XZzjuaX7idg=; b=HIhe6IazHSGosZTUNHgqIvcxMZn9by1NjebVjTQlz53vCSzFfFOH4kB9OLH9vKPJAj xurM561va+Hl9Ylc8Nvk8ZOyMrU4TR5aHzh80XycG5IeZ/Ejf6UqJANSUTLZq2x68Fic 9leOwEOgo5W0/nlag1+z5N2Mf6Sj/r8bB/++8= X-Google-DKIM-Signature: v=1; a=rsa-sha256; c=relaxed/relaxed; d=1e100.net; s=20230601; t=1752063736; x=1752668536; h=references:in-reply-to:cc:to:from:subject:message-id:date :x-gm-message-state:from:to:cc:subject:date:message-id:reply-to; bh=QQqIXn9iUdaLTl6uFlGVsQczEMFNisc5XZzjuaX7idg=; b=es+DY+nchk5VzcdcoymgtXJ7bk09+yQWlvR87OJ1ICC77/g3plYtqn9NSeXiKt59ZX kcAvTxYcXs5oYtyu5Ia89bUNRqbf8Blo3AifBwDmd321S1Jy1rw/2lj9/zV+za7humXy H6scu0kWqB88/LGJB/jwCBxlC3cT7Zo1SIWhZrg+F7WHJZSzEZHwErDZ9cVxdxEPgljf hPUGxc1Zh0NbQTfEDa5xeM8xazad66ykCFz9/iJsBJ59FTVRGnJ1Y8KIsL5lPDeIw2yT U/rEWaITWNj8ZVt9faNZVZEnxK8SenhJeU61AI2axWMFUvM11uc2T9ILVSWkNmWHWzDS /xxg== X-Gm-Message-State: AOJu0YwDbZZ4GArYPN6xI2R5cuOfgQ4Rb6TLznsAn/ojYjAPUqUwyzw1 8PA4vhvJqkyL5YXE9YTlnMoc3OJfUkmNpmoaIzilbYiMeXhPVscRzuGKrOvAzlZvVfmSQ3/bkWT SBwr6ebJ+RSnswWloklvDLIvTp/tNFvNCV/jB+eSkwxij X-Gm-Gg: ASbGnctVKDSHYNuqXO5iLbOQX5Du+F8duqe+QzxCd0XQlTcguCKYnac6IAiPi8ATIYr 6QxX3bCxJtOU1pL/ojq+R3bOfVHgABHsqM9ErnPj9ZX2P3TEKKC3tx2cKOj1/RDyfabk/uDB9mo bguyJZPpzW6jnJrfwdzm9zT166ojgtsdasfJOZXIq/j/NVTIDuNdy4qdZvnHql1rOQES7wXsUlr YYKaucekz5vuE5hFY/Wu6rYvLHQCrOpOhOgyEuCHkP3b9A7eK3IGy9+KujCEekoXWCzj86PQHZj tGAe/wOzjVZpRP3lt3bbr3JTZxHVF3EMHxxsc+14i7GrIBqB/ic6nv9TowdY/otiBOjcAA== X-Google-Smtp-Source: AGHT+IHfi3HBVzoxmttcxeHfxxbmYu4T794FG14qJLpHBAyptvgGD9xCwcEsprMvC5gpBJYpWx9lFW5qQx1+ X-Received: by 2002:a05:6e02:1909:b0:3e1:62df:c74c with SMTP id e9e14a558f8ab-3e167030686mr20863725ab.9.1752063736645; Wed, 09 Jul 2025 05:22:16 -0700 (PDT) Received: from postal.iol.unh.edu (postal.iol.unh.edu. [132.177.123.84]) by smtp-relay.gmail.com with ESMTPS id 8926c6da1cb9f-503b5b78b1bsm461630173.41.2025.07.09.05.22.16 (version=TLS1_2 cipher=ECDHE-ECDSA-AES128-GCM-SHA256 bits=128/128); Wed, 09 Jul 2025 05:22:16 -0700 (PDT) X-Relaying-Domain: iol.unh.edu Date: Wed, 09 Jul 2025 05:22:16 -0700 (PDT) Message-ID: <686e5ef8.050a0220.3d7f8.8555SMTPIN_ADDED_MISSING@mx.google.com> Received: from [172.21.0.7] (unknown [172.18.0.240]) by postal.iol.unh.edu (Postfix) with ESMTP id 4380B604D420; Wed, 9 Jul 2025 08:22:16 -0400 (EDT) Subject: |SUCCESS| pw155087 [PATCH] maintainers: update for dlb2 From: dpdklab@iol.unh.edu To: Test Report Cc: dpdk-test-reports@iol.unh.edu In-Reply-To: <20250709050434.1296690-1-tirthendu.sarkar@intel.com> References: <20250709050434.1296690-1-tirthendu.sarkar@intel.com> Content-Type: text/plain X-BeenThere: test-report@dpdk.org X-Mailman-Version: 2.1.29 Precedence: list List-Id: automatic DPDK test reports List-Unsubscribe: , List-Archive: List-Post: List-Help: List-Subscribe: , Errors-To: test-report-bounces@dpdk.org Test-Label: iol-abi-testing Test-Status: SUCCESS http://dpdk.org/patch/155087 _Testing PASS_ Submitter: Tirthendu Sarkar Date: Wednesday, July 09 2025 05:04:34 DPDK git baseline: Repo:dpdk Branch: master CommitID:e90979eebbea093f6bab2d7c222fc5f5c9a85eff 155087 --> testing pass Upstream job id: Generic-DPDK-Compile-ABI#133756 Test environment and result as below: +-------------------------------+----------+ | Environment | abi_test | +===============================+==========+ | CentOS Stream 9 | PASS | +-------------------------------+----------+ | CentOS Stream 10 | PASS | +-------------------------------+----------+ | Debian GNU/Linux 12 | PASS | +-------------------------------+----------+ | Fedora Linux 40 | PASS | +-------------------------------+----------+ | Fedora Linux 41 | PASS | +-------------------------------+----------+ | openSUSE Leap 15.6 | PASS | +-------------------------------+----------+ | Red Hat Enterprise Linux 9.5 | PASS | +-------------------------------+----------+ | Red Hat Enterprise Linux 8.10 | PASS | +-------------------------------+----------+ | Ubuntu 22.04 | PASS | +-------------------------------+----------+ | Ubuntu 24.04 | PASS | +-------------------------------+----------+ CentOS Stream 9 Kernel: 5.15 Compiler: gcc gcc (GCC) 11.5.0 20240719 (Red Hat 11.5.0-7) CentOS Stream 10 Kernel: 5.15 Compiler: gcc gcc (GCC) 14.2.1 20250110 (Red Hat 14.2.1-8) Debian GNU/Linux 12 Kernel: 5.15 Compiler: gcc gcc (Debian 12.2.0-14+deb12u1) 12.2.0 Fedora Linux 40 Kernel: 5.15 Compiler: clang gcc (GCC) 14.2.1 20240912 (Red Hat 14.2.1-3) Fedora Linux 41 Kernel: 5.15 Compiler: gcc gcc (GCC) 14.3.1 20250523 (Red Hat 14.3.1-1) openSUSE Leap 15.6 Kernel: 5.15 Compiler: gcc gcc (SUSE Linux) 7.5.0 Red Hat Enterprise Linux 9.5 Kernel: 5.15 Compiler: gcc gcc (GCC) 11.5.0 20240719 (Red Hat 11.5.0-2) Red Hat Enterprise Linux 8.10 Kernel: 5.15 Compiler: gcc gcc (GCC) 8.5.0 20210514 (Red Hat 8.5.0-22) Ubuntu 22.04 Kernel: 5.15 Compiler: gcc gcc (Ubuntu 11.4.0-1ubuntu1~22.04) 11.4.0 Ubuntu 24.04 Kernel: 5.15 Compiler: gcc gcc (Ubuntu 13.3.0-6ubuntu2~24.04) 13.3.0 To view detailed results, visit: https://lab.dpdk.org/results/dashboard/patchsets/33620/ UNH-IOL DPDK Community Lab To manage your email subscriptions, visit: https://lab.dpdk.org/results/dashboard/preferences/subscriptions/