From mboxrd@z Thu Jan 1 00:00:00 1970 Return-Path: Received: from mails.dpdk.org (mails.dpdk.org [217.70.189.124]) by inbox.dpdk.org (Postfix) with ESMTP id E80D046B2F for ; Wed, 9 Jul 2025 14:23:03 +0200 (CEST) Received: from mails.dpdk.org (localhost [127.0.0.1]) by mails.dpdk.org (Postfix) with ESMTP id E360B4021E; Wed, 9 Jul 2025 14:23:03 +0200 (CEST) Received: from mail-pf1-f227.google.com (mail-pf1-f227.google.com [209.85.210.227]) by mails.dpdk.org (Postfix) with ESMTP id 960D74021E for ; Wed, 9 Jul 2025 14:23:02 +0200 (CEST) Received: by mail-pf1-f227.google.com with SMTP id d2e1a72fcca58-742c3d06de3so6439893b3a.0 for ; Wed, 09 Jul 2025 05:23:02 -0700 (PDT) DKIM-Signature: v=1; a=rsa-sha256; c=relaxed/relaxed; d=iol.unh.edu; s=unh-iol; t=1752063782; x=1752668582; darn=dpdk.org; h=references:in-reply-to:cc:to:from:subject:message-id:date:from:to :cc:subject:date:message-id:reply-to; bh=fg5Pg7XGa97k6zFu1xg4b0DFn6yUjXT/+Gpprlrz6NA=; b=a8Q0mfB/Og8BQrJ6xxJck5PHkXexf8ztywWGGVZCfaONW7XTNA6mI1imO3udSaJvnX ioyusFUY2TyHlql1OuZkWRv7PiBcRjrwsruMgzNWaZd/soV/nYo87BJ7ULagrbzab6fx dSJIMmSJ2Rg6gi+1BQSxwWUpR2lW0z/YPJbD4= X-Google-DKIM-Signature: v=1; a=rsa-sha256; c=relaxed/relaxed; d=1e100.net; s=20230601; t=1752063782; x=1752668582; h=references:in-reply-to:cc:to:from:subject:message-id:date :x-gm-message-state:from:to:cc:subject:date:message-id:reply-to; bh=fg5Pg7XGa97k6zFu1xg4b0DFn6yUjXT/+Gpprlrz6NA=; b=AY0r2ssRTdvCEQRMVV8dDCYpOAvRWOa269ue5SqE5ZWGl5rBbDJiYzk5FT0arPqjFW DYs9Z2sUHhn+RGDsGV/8Eq+mvcr5gmOdbY9Ze4ZJOlr9mc3Bw45qzuigBQm0oElZfPOU RW7fyCuhgs6jPGF79Yd6ni6xqwIwWUK8ibjGxUzzxslpkMLJmknX6Ow44Vuas1o7nLDZ hMqfYT5yl7eOTa0CYa2a0YiKV2Tr7YhpIZ2aUn3PMdCVzJnLX2SH4ZvKKiU7Jdbm0GoC iSezLUZdGqfSDFMDcA0J2sb7ipOsGrox52LPmQfJbjfjf8mZ567jQSnp6WpXBHpwNxk+ ZTCw== X-Gm-Message-State: AOJu0YxbClWx7vbhVQkrc/J6X3lU18JPCMH/EwDSr9gTOgW2PeombyjR 0Dgtj/FTk6aTus4qNczhnPAkigwa/9KDz69gjvJ8ZlM63XDfqvvZ+2ytLcf734+uLkNyoohm3Iq prQYAjZDzxWm82g2os9bmPu7hiHb6ursz2YHlM6bfv2WD X-Gm-Gg: ASbGnctq8v1O3dlsl2TtfhBZQqcb1sLdNbOSLkDwyi85RV8Yh8LchwzpB0HI8Vxa57G tXeoKyfGtj/OeGP2+5NDg8/QAZi5aR6eSYN/BPHF9dJYziD4Rmlwh6rdFjMXv0BigI3jucVT9wg eUZC9IGZ4C/nju2L0Ql0JtQE2qlv5rOf3nKn9KpYFj8m+xZGIryy69Bv4Tolm0O7os4vxPv+eAY ug4VFZBGx7+g3xmDq5BtGDUD8MpgeULFnd3j02Apy/iuQo0KPzWYaKgAD4wLEkvgAjdJIrGo/b+ oOKMWUiFqwpLz+t9PF9onqNr33+sqgXjnTIWIbwNWMNsnn1O3Y+/Rv+e2ECHxRQ1PlyNUA== X-Google-Smtp-Source: AGHT+IEActMVmh1oB6nF5DrETMLWCk9E/Dr9JRA63hrqb58LHKZ5ed/KTdHv5eRvdWMTs8TDqDNvuRarfAoK X-Received: by 2002:a05:6a20:7fa6:b0:220:9c00:6879 with SMTP id adf61e73a8af0-22cd846f51cmr3703984637.17.1752063781571; Wed, 09 Jul 2025 05:23:01 -0700 (PDT) Received: from postal.iol.unh.edu (postal.iol.unh.edu. [132.177.123.84]) by smtp-relay.gmail.com with ESMTPS id 41be03b00d2f7-b38ee4ec884sm685191a12.25.2025.07.09.05.23.01 (version=TLS1_2 cipher=ECDHE-ECDSA-AES128-GCM-SHA256 bits=128/128); Wed, 09 Jul 2025 05:23:01 -0700 (PDT) X-Relaying-Domain: iol.unh.edu Date: Wed, 09 Jul 2025 05:23:01 -0700 (PDT) Message-ID: <686e5f25.630a0220.15e1c0.3e6aSMTPIN_ADDED_MISSING@mx.google.com> Received: from [172.21.0.5] (unknown [172.18.0.240]) by postal.iol.unh.edu (Postfix) with ESMTP id 0D36A604D420; Wed, 9 Jul 2025 08:23:01 -0400 (EDT) Subject: |SUCCESS| pw155087 [PATCH] maintainers: update for dlb2 From: dpdklab@iol.unh.edu To: Test Report Cc: dpdk-test-reports@iol.unh.edu In-Reply-To: <20250709050434.1296690-1-tirthendu.sarkar@intel.com> References: <20250709050434.1296690-1-tirthendu.sarkar@intel.com> Content-Type: text/plain X-BeenThere: test-report@dpdk.org X-Mailman-Version: 2.1.29 Precedence: list List-Id: automatic DPDK test reports List-Unsubscribe: , List-Archive: List-Post: List-Help: List-Subscribe: , Errors-To: test-report-bounces@dpdk.org Test-Label: iol-abi-testing Test-Status: SUCCESS http://dpdk.org/patch/155087 _Testing PASS_ Submitter: Tirthendu Sarkar Date: Wednesday, July 09 2025 05:04:34 DPDK git baseline: Repo:dpdk Branch: master CommitID:e90979eebbea093f6bab2d7c222fc5f5c9a85eff 155087 --> testing pass Upstream job id: Generic-DPDK-Compile-ABI#133753 Test environment and result as below: +-------------------------------+----------+ | Environment | abi_test | +===============================+==========+ | CentOS Stream 9 | PASS | +-------------------------------+----------+ | CentOS Stream 10 | PASS | +-------------------------------+----------+ | Debian GNU/Linux 12 | PASS | +-------------------------------+----------+ | Fedora Linux 40 | PASS | +-------------------------------+----------+ | Fedora Linux 41 | PASS | +-------------------------------+----------+ | openSUSE Leap 15.6 | PASS | +-------------------------------+----------+ | Red Hat Enterprise Linux 9.5 | PASS | +-------------------------------+----------+ | Red Hat Enterprise Linux 8.10 | PASS | +-------------------------------+----------+ | Ubuntu 22.04 | PASS | +-------------------------------+----------+ | Ubuntu 24.04 | PASS | +-------------------------------+----------+ CentOS Stream 9 Kernel: 5.15 Compiler: gcc gcc (GCC) 11.5.0 20240719 (Red Hat 11.5.0-7) CentOS Stream 10 Kernel: 5.15 Compiler: gcc gcc (GCC) 14.2.1 20250110 (Red Hat 14.2.1-8) Debian GNU/Linux 12 Kernel: 5.15 Compiler: gcc gcc (Debian 12.2.0-14+deb12u1) 12.2.0 Fedora Linux 40 Kernel: 5.15 Compiler: clang gcc (GCC) 14.2.1 20240912 (Red Hat 14.2.1-3) Fedora Linux 41 Kernel: 5.15 Compiler: gcc gcc (GCC) 14.3.1 20250523 (Red Hat 14.3.1-1) openSUSE Leap 15.6 Kernel: 5.15 Compiler: gcc gcc (SUSE Linux) 7.5.0 Red Hat Enterprise Linux 9.5 Kernel: 5.15 Compiler: gcc gcc (GCC) 11.5.0 20240719 (Red Hat 11.5.0-2) Red Hat Enterprise Linux 8.10 Kernel: 5.15 Compiler: gcc gcc (GCC) 8.5.0 20210514 (Red Hat 8.5.0-22) Ubuntu 22.04 Kernel: 5.15 Compiler: gcc gcc (Ubuntu 11.4.0-1ubuntu1~22.04) 11.4.0 Ubuntu 24.04 Kernel: 5.15 Compiler: gcc gcc (Ubuntu 13.3.0-6ubuntu2~24.04) 13.3.0 To view detailed results, visit: https://lab.dpdk.org/results/dashboard/patchsets/33620/ UNH-IOL DPDK Community Lab To manage your email subscriptions, visit: https://lab.dpdk.org/results/dashboard/preferences/subscriptions/