From mboxrd@z Thu Jan 1 00:00:00 1970 Return-Path: Received: from mails.dpdk.org (mails.dpdk.org [217.70.189.124]) by inbox.dpdk.org (Postfix) with ESMTP id 0105B46B2F for ; Wed, 9 Jul 2025 14:23:18 +0200 (CEST) Received: from mails.dpdk.org (localhost [127.0.0.1]) by mails.dpdk.org (Postfix) with ESMTP id EFADA4021E; Wed, 9 Jul 2025 14:23:18 +0200 (CEST) Received: from mail-pl1-f226.google.com (mail-pl1-f226.google.com [209.85.214.226]) by mails.dpdk.org (Postfix) with ESMTP id 79D014021E for ; Wed, 9 Jul 2025 14:23:17 +0200 (CEST) Received: by mail-pl1-f226.google.com with SMTP id d9443c01a7336-23636167afeso54691735ad.3 for ; Wed, 09 Jul 2025 05:23:17 -0700 (PDT) DKIM-Signature: v=1; a=rsa-sha256; c=relaxed/relaxed; d=iol.unh.edu; s=unh-iol; t=1752063797; x=1752668597; darn=dpdk.org; h=references:in-reply-to:cc:to:from:subject:message-id:date:from:to :cc:subject:date:message-id:reply-to; bh=rfPcBzoicvNcop7QQMPTU76rBNwzMGJvmWFg8SmXFbo=; b=Q1Xr5Ndt89JstZahMM8jWV+t54exOzdbMGnmycrAZu5dth+krjEdysQA2MoPiBb/KN VzxmfH2jEWT0Tl3QD/c3HS342QydCBvW21Vm4Y3shD79s1T2+3BeMLSX+KmOU9/72S1v JuTtgFqDJcr2PcvtEOUv4raUMXQQM/cmrTh1E= X-Google-DKIM-Signature: v=1; a=rsa-sha256; c=relaxed/relaxed; d=1e100.net; s=20230601; t=1752063797; x=1752668597; h=references:in-reply-to:cc:to:from:subject:message-id:date :x-gm-message-state:from:to:cc:subject:date:message-id:reply-to; bh=rfPcBzoicvNcop7QQMPTU76rBNwzMGJvmWFg8SmXFbo=; b=TqT2MS7PEeFe9XNS3VCtmk08XrZ09BJy+5lvmhK3jnIvULKLdpUJzAKljk+diDOpmR sUokjqF7W4jXaJa9Gqy4fajG6qZGFiDc6IwgEN6Y2PJ9iAZgpgyGynqH6a3ApCIcJljK IQpxr4EFjnNRFuwhe3LcoY132kE/BFKff+gakzCSVf5hAV6PwcTdilmz6wZoZieNwUih qYw5zoNSVZ5K+UaKTsjoJ62+7Td4w7tQzaFvtlaov9vzo0Ci2z4/mOB+0gAeyLEP01C7 DY8qINT8wXmj3cpI1oss/qSBKTTjDxsDj0xrlyr4UCQdSyElbTrDe0l0SzXkSlJebCP2 Rg2A== X-Gm-Message-State: AOJu0YwIJ9dQQNzfX2fekbRHWlLVWR3M1w8xUW9PkUFBcLr5Uf8USOfi phn3epZyyTi01ImgFeax1FRKamTz3xP1+0ITosFGve9eXVf3RPHoPfyEKye0t8RgyJc+Q10eE3X /HqwPFP3gdYQNmBetVvTgKDx0fHlCLYUimRr0+jboQuEN/dFJzJH/YpduUtaX X-Gm-Gg: ASbGncsMnMoKxl5/gLF4IK8TKmUYbR0oShvKG4zJCHdW0KAdb7GkZ49nMCg9/DTtMBc Xpn+ah28DsmYpxe6JbTuLBSMZfN0hAt7Cx7PQSPEltlCsN4J4vL1742vKucMz/XWfFl2WLqzVI2 p6EowgsaV9IBJiVtlZsPXcBnGEdlkV1YsE1uImfOoU4eSFGu1brRzSsfT5zVEAGwao73Ei826QB vgd19bkbFiElLslZ5ERwbtO33zuup4cYlLd/pph8sR4iGCQlg8zzxl7KcpP8WXA2X8BdWtNkJGt n4cvnb/fIUVuk+2iTH+/2Lg5hKzEKj5oXcePJMtb3rbbhCg= X-Google-Smtp-Source: AGHT+IGxtJgkHByCKAb7iReEqYJ/ujlAvnz+jHQFYq2fdpowVTnBjssEcl8/b1FYCvNHKxdOONVWB1C++DlY X-Received: by 2002:a17:903:2444:b0:235:be0:db6b with SMTP id d9443c01a7336-23ddb31513bmr31793435ad.45.1752063796661; Wed, 09 Jul 2025 05:23:16 -0700 (PDT) Received: from postal.iol.unh.edu (postal.iol.unh.edu. [2606:4100:3880:1234::84]) by smtp-relay.gmail.com with ESMTPS id d9443c01a7336-23c8450764dsm6689495ad.84.2025.07.09.05.23.16 (version=TLS1_2 cipher=ECDHE-ECDSA-AES128-GCM-SHA256 bits=128/128); Wed, 09 Jul 2025 05:23:16 -0700 (PDT) X-Relaying-Domain: iol.unh.edu Date: Wed, 09 Jul 2025 05:23:16 -0700 (PDT) Message-ID: <686e5f34.170a0220.9166c.3d50SMTPIN_ADDED_MISSING@mx.google.com> Received: from [172.21.0.6] (unknown [172.18.0.240]) by postal.iol.unh.edu (Postfix) with ESMTP id DD275604D420; Wed, 9 Jul 2025 08:23:15 -0400 (EDT) Subject: |SUCCESS| pw155087 [PATCH] maintainers: update for dlb2 From: dpdklab@iol.unh.edu To: Test Report Cc: dpdk-test-reports@iol.unh.edu In-Reply-To: <20250709050434.1296690-1-tirthendu.sarkar@intel.com> References: <20250709050434.1296690-1-tirthendu.sarkar@intel.com> Content-Type: text/plain X-BeenThere: test-report@dpdk.org X-Mailman-Version: 2.1.29 Precedence: list List-Id: automatic DPDK test reports List-Unsubscribe: , List-Archive: List-Post: List-Help: List-Subscribe: , Errors-To: test-report-bounces@dpdk.org Test-Label: iol-abi-testing Test-Status: SUCCESS http://dpdk.org/patch/155087 _Testing PASS_ Submitter: Tirthendu Sarkar Date: Wednesday, July 09 2025 05:04:34 DPDK git baseline: Repo:dpdk Branch: master CommitID:e90979eebbea093f6bab2d7c222fc5f5c9a85eff 155087 --> testing pass Upstream job id: Generic-DPDK-Compile-ABI#133749 Test environment and result as below: +-------------------------------+----------+ | Environment | abi_test | +===============================+==========+ | CentOS Stream 9 | PASS | +-------------------------------+----------+ | CentOS Stream 10 | PASS | +-------------------------------+----------+ | Debian GNU/Linux 12 | PASS | +-------------------------------+----------+ | Fedora Linux 40 | PASS | +-------------------------------+----------+ | Fedora Linux 41 | PASS | +-------------------------------+----------+ | openSUSE Leap 15.6 | PASS | +-------------------------------+----------+ | Red Hat Enterprise Linux 9.5 | PASS | +-------------------------------+----------+ | Red Hat Enterprise Linux 8.10 | PASS | +-------------------------------+----------+ | Ubuntu 22.04 | PASS | +-------------------------------+----------+ | Ubuntu 24.04 | PASS | +-------------------------------+----------+ CentOS Stream 9 Kernel: 5.15 Compiler: gcc gcc (GCC) 11.5.0 20240719 (Red Hat 11.5.0-7) CentOS Stream 10 Kernel: 5.15 Compiler: gcc gcc (GCC) 14.2.1 20250110 (Red Hat 14.2.1-8) Debian GNU/Linux 12 Kernel: 5.15 Compiler: gcc gcc (Debian 12.2.0-14+deb12u1) 12.2.0 Fedora Linux 40 Kernel: 5.15 Compiler: clang gcc (GCC) 14.2.1 20240912 (Red Hat 14.2.1-3) Fedora Linux 41 Kernel: 5.15 Compiler: gcc gcc (GCC) 14.3.1 20250523 (Red Hat 14.3.1-1) openSUSE Leap 15.6 Kernel: 5.15 Compiler: gcc gcc (SUSE Linux) 7.5.0 Red Hat Enterprise Linux 9.5 Kernel: 5.15 Compiler: gcc gcc (GCC) 11.5.0 20240719 (Red Hat 11.5.0-2) Red Hat Enterprise Linux 8.10 Kernel: 5.15 Compiler: gcc gcc (GCC) 8.5.0 20210514 (Red Hat 8.5.0-22) Ubuntu 22.04 Kernel: 5.15 Compiler: gcc gcc (Ubuntu 11.4.0-1ubuntu1~22.04) 11.4.0 Ubuntu 24.04 Kernel: 5.15 Compiler: gcc gcc (Ubuntu 13.3.0-6ubuntu2~24.04) 13.3.0 To view detailed results, visit: https://lab.dpdk.org/results/dashboard/patchsets/33620/ UNH-IOL DPDK Community Lab To manage your email subscriptions, visit: https://lab.dpdk.org/results/dashboard/preferences/subscriptions/