From mboxrd@z Thu Jan 1 00:00:00 1970 Return-Path: Received: from mails.dpdk.org (mails.dpdk.org [217.70.189.124]) by inbox.dpdk.org (Postfix) with ESMTP id 1C1DC46B2F for ; Wed, 9 Jul 2025 14:24:17 +0200 (CEST) Received: from mails.dpdk.org (localhost [127.0.0.1]) by mails.dpdk.org (Postfix) with ESMTP id 17D5D4021E; Wed, 9 Jul 2025 14:24:17 +0200 (CEST) Received: from mail-qv1-f98.google.com (mail-qv1-f98.google.com [209.85.219.98]) by mails.dpdk.org (Postfix) with ESMTP id 9C6274021E for ; Wed, 9 Jul 2025 14:24:15 +0200 (CEST) Received: by mail-qv1-f98.google.com with SMTP id 6a1803df08f44-6fafd3cc8f9so93678276d6.3 for ; Wed, 09 Jul 2025 05:24:15 -0700 (PDT) DKIM-Signature: v=1; a=rsa-sha256; c=relaxed/relaxed; d=iol.unh.edu; s=unh-iol; t=1752063855; x=1752668655; darn=dpdk.org; h=references:in-reply-to:cc:to:from:subject:message-id:date:from:to :cc:subject:date:message-id:reply-to; bh=pTvqatcshncVQZ/Cbbxr6OEOqrTL3UwgNxxFJbQSozI=; b=RTQE34DEPsjAPgQIiKT1Be+tzCcxQJlXm1GHGiLIa92FTRc4b9mrI0W0a7dHsA+YFv 0tnU6jiPuCUF9LVyAMQSBKvqz2+7TpEAWVNWtrj1rLebvrNFsU9ihxGsQ8EIoEUOzwU4 g4dZe2CAOtKkmfxF0SWsGDs0JT1C/+p3c1+ns= X-Google-DKIM-Signature: v=1; a=rsa-sha256; c=relaxed/relaxed; d=1e100.net; s=20230601; t=1752063855; x=1752668655; h=references:in-reply-to:cc:to:from:subject:message-id:date :x-gm-message-state:from:to:cc:subject:date:message-id:reply-to; bh=pTvqatcshncVQZ/Cbbxr6OEOqrTL3UwgNxxFJbQSozI=; b=BuoNV3MmBStKOIOXSzXd7mm/KfcPxC/qizny9lrKOh4NUgzyuLBsblf6amrkIk8Tct xbjMWt3MWm7p398xrS2Rktj+65YrH78heESCsKPieRXwAxh/baVgtBhkztYloZeiUn0y 1C9YBMJQEH68k47evMpybMfXirmm8qOTJr5E66n/4wcLBh3R5ZqrFaNI6xAET6acuCoC b0AKmssO0Jo3GJGQYI+Onkl0sf23v6a8DdXFOK17fjAKs0EwlWL/r9E57+KfFVwc8g8L LAqQLkERmK0GP4bsYYjULXj6edhZ4EohJUNsIVytFHyULzolEa3Mm4Nhe3hUMdyQJxEw zdQw== X-Gm-Message-State: AOJu0Yz3CPPxIklNB8BeyHFoV8Ce8pKwSu9JJ/cZ1ZSa/7lhBIhDZvlT EYBffHkI4oq5pSEDMHZ7jAksX7eQckUUQVTORpOqFRsz4Hv/tgjmptgtUP5l2FljAvzbWdBgA9v b2K9l7HkYeoSrF6uFQegMO2MGBz9OHzTG6aCuRQJ2uHWp9o/ij9fAqRKBb004 X-Gm-Gg: ASbGnctTDqgSf+QztA4oV4RD8DVsI3fLroKvIyxHOMMLg8NQFhtqrjj1XQX7MyywIxr 79fP7Yyh1rSwj7mMSrHAneb4VullPhkxJ+YMmxDEcILn9HTvmmMQzAsSeR8OuRAa7di7UymXe4/ Uyv8/wzGHb2RW8BZkKeuiSw2pgaeNwGnLPeZ/RJvqzcxUKU/GEuqJ8LtlY0ub7PNmqs+KodJ2fd GR1y9k7hSf6H7aLyKfVlWewFyFfktX2ibBmE0lhiKGUUCDZLpBzawhL73fhkhCy1VP2YC1l2Rfv 0LFUMQMPHuwU1Yo0soLNLGED9JW8GfNQXGD3Dnk4lpSu79g= X-Google-Smtp-Source: AGHT+IFqFwcxhWFLhfx+K95F9lyRsj2VyhsS1aAXdgwfLRausEdgI1WUQDBDNrRP9n/U5WbjysVDTM6iDsMT X-Received: by 2002:a05:6214:2f85:b0:6fb:5ac8:2b79 with SMTP id 6a1803df08f44-7048b8e741bmr42287616d6.19.1752063854979; Wed, 09 Jul 2025 05:24:14 -0700 (PDT) Received: from postal.iol.unh.edu (postal.iol.unh.edu. [2606:4100:3880:1234::84]) by smtp-relay.gmail.com with ESMTPS id 6a1803df08f44-702c4d5b0dfsm6435126d6.61.2025.07.09.05.24.14 (version=TLS1_2 cipher=ECDHE-ECDSA-AES128-GCM-SHA256 bits=128/128); Wed, 09 Jul 2025 05:24:14 -0700 (PDT) X-Relaying-Domain: iol.unh.edu Date: Wed, 09 Jul 2025 05:24:14 -0700 (PDT) Message-ID: <686e5f6e.050a0220.2be331.15e8SMTPIN_ADDED_MISSING@mx.google.com> Received: from [172.21.0.6] (unknown [172.18.0.240]) by postal.iol.unh.edu (Postfix) with ESMTP id B43E9604D420; Wed, 9 Jul 2025 08:24:14 -0400 (EDT) Subject: |SUCCESS| pw155087 [PATCH] maintainers: update for dlb2 From: dpdklab@iol.unh.edu To: Test Report Cc: dpdk-test-reports@iol.unh.edu In-Reply-To: <20250709050434.1296690-1-tirthendu.sarkar@intel.com> References: <20250709050434.1296690-1-tirthendu.sarkar@intel.com> Content-Type: text/plain X-BeenThere: test-report@dpdk.org X-Mailman-Version: 2.1.29 Precedence: list List-Id: automatic DPDK test reports List-Unsubscribe: , List-Archive: List-Post: List-Help: List-Subscribe: , Errors-To: test-report-bounces@dpdk.org Test-Label: iol-abi-testing Test-Status: SUCCESS http://dpdk.org/patch/155087 _Testing PASS_ Submitter: Tirthendu Sarkar Date: Wednesday, July 09 2025 05:04:34 DPDK git baseline: Repo:dpdk Branch: master CommitID:e90979eebbea093f6bab2d7c222fc5f5c9a85eff 155087 --> testing pass Upstream job id: Generic-DPDK-Compile-ABI#133751 Test environment and result as below: +-------------------------------+----------+ | Environment | abi_test | +===============================+==========+ | CentOS Stream 9 | PASS | +-------------------------------+----------+ | CentOS Stream 10 | PASS | +-------------------------------+----------+ | Debian GNU/Linux 12 | PASS | +-------------------------------+----------+ | Fedora Linux 40 | PASS | +-------------------------------+----------+ | Fedora Linux 41 | PASS | +-------------------------------+----------+ | openSUSE Leap 15.6 | PASS | +-------------------------------+----------+ | Red Hat Enterprise Linux 9.5 | PASS | +-------------------------------+----------+ | Red Hat Enterprise Linux 8.10 | PASS | +-------------------------------+----------+ | Ubuntu 22.04 | PASS | +-------------------------------+----------+ | Ubuntu 24.04 | PASS | +-------------------------------+----------+ CentOS Stream 9 Kernel: 5.15 Compiler: gcc gcc (GCC) 11.5.0 20240719 (Red Hat 11.5.0-7) CentOS Stream 10 Kernel: 5.15 Compiler: gcc gcc (GCC) 14.2.1 20250110 (Red Hat 14.2.1-8) Debian GNU/Linux 12 Kernel: 5.15 Compiler: gcc gcc (Debian 12.2.0-14+deb12u1) 12.2.0 Fedora Linux 40 Kernel: 5.15 Compiler: clang gcc (GCC) 14.2.1 20240912 (Red Hat 14.2.1-3) Fedora Linux 41 Kernel: 5.15 Compiler: gcc gcc (GCC) 14.3.1 20250523 (Red Hat 14.3.1-1) openSUSE Leap 15.6 Kernel: 5.15 Compiler: gcc gcc (SUSE Linux) 7.5.0 Red Hat Enterprise Linux 9.5 Kernel: 5.15 Compiler: gcc gcc (GCC) 11.5.0 20240719 (Red Hat 11.5.0-2) Red Hat Enterprise Linux 8.10 Kernel: 5.15 Compiler: gcc gcc (GCC) 8.5.0 20210514 (Red Hat 8.5.0-22) Ubuntu 22.04 Kernel: 5.15 Compiler: gcc gcc (Ubuntu 11.4.0-1ubuntu1~22.04) 11.4.0 Ubuntu 24.04 Kernel: 5.15 Compiler: gcc gcc (Ubuntu 13.3.0-6ubuntu2~24.04) 13.3.0 To view detailed results, visit: https://lab.dpdk.org/results/dashboard/patchsets/33620/ UNH-IOL DPDK Community Lab To manage your email subscriptions, visit: https://lab.dpdk.org/results/dashboard/preferences/subscriptions/