From mboxrd@z Thu Jan 1 00:00:00 1970 Return-Path: Received: from mails.dpdk.org (mails.dpdk.org [217.70.189.124]) by inbox.dpdk.org (Postfix) with ESMTP id E07AA46A87 for ; Wed, 9 Jul 2025 14:33:56 +0200 (CEST) Received: from mails.dpdk.org (localhost [127.0.0.1]) by mails.dpdk.org (Postfix) with ESMTP id C673C4021E; Wed, 9 Jul 2025 14:33:56 +0200 (CEST) Received: from mail-io1-f99.google.com (mail-io1-f99.google.com [209.85.166.99]) by mails.dpdk.org (Postfix) with ESMTP id D235B4021E for ; Wed, 9 Jul 2025 14:33:54 +0200 (CEST) Received: by mail-io1-f99.google.com with SMTP id ca18e2360f4ac-86efcef9194so196492639f.0 for ; Wed, 09 Jul 2025 05:33:54 -0700 (PDT) DKIM-Signature: v=1; a=rsa-sha256; c=relaxed/relaxed; d=iol.unh.edu; s=unh-iol; t=1752064434; x=1752669234; darn=dpdk.org; h=references:in-reply-to:cc:to:from:subject:message-id:date:from:to :cc:subject:date:message-id:reply-to; bh=zc6QTVic5gD8cXIgHUoDGAkxU7rGVUTGHP1OX0yjdHI=; b=dGFaITYEGb8iedrtvi4rlYDyfu3giqAZnd88kGTjXVTu6Xk6SfD5B2/MjaadotPZFj 1W1dd+5wFaIuLTvOisG+xIMGaIHJp4h8WNe4FeXcIulfesJvuWYZl02PWsk5YxV84WnA cFjyENOQ4u9+sCBASRq6JxR+8TulkpuT/w/BI= X-Google-DKIM-Signature: v=1; a=rsa-sha256; c=relaxed/relaxed; d=1e100.net; s=20230601; t=1752064434; x=1752669234; h=references:in-reply-to:cc:to:from:subject:message-id:date :x-gm-message-state:from:to:cc:subject:date:message-id:reply-to; bh=zc6QTVic5gD8cXIgHUoDGAkxU7rGVUTGHP1OX0yjdHI=; b=r58z7lUu+ajLB4wkZ67qMb6deEogtG3m14SWnsGbG/OexmxKX4XUg05WkOASXzc1FZ 4JWtftlhnFsbpMDsjXfqZkU0MNYA9/o6LEQbAWDN4ansRn6VNuL9Z4Sf5cORKbjtk+Yf shI1qAzVCGjzuoQBVVrsvhb/DKfnw7KoDzH7igQZhlOZ9u+mBGDlRpmj0l9AN9C8TyUc qO5gKZtRP6hdymwdhgtIYMFb9R/d8tqdE31vpBJx653ATWr8C+a3V5/L6c88ccRcwV90 Sq74C7WHSCibeelkXYSD7yCj/dQQD2pMAL6Figc1EB00vC9MPZ8mUICMxlciu6QAlVvZ HF9g== X-Gm-Message-State: AOJu0Ywxqa2AnvDLSDx+Gu7DBAJVbstYX+lqz2AZlRak3waaupYkukE2 nXxxb2wrHvN9oar4qAI+tKElHKHxGpkDcpO70bqpWJCvoxczg0d4wogHYtYin8uU/FIf+BVdccD TV662Z0WyEppJ0LrvFk2nKUKqKi2XjnqLuogNZOCvK1MlQH3AZVZ1nsoUeT/V X-Gm-Gg: ASbGncuvX/nWM/RuuG25EBhLiXWOQv+V1wC1IsNKmCyHEP1XY0cgGlUyAUM1OAtMSX8 sgLrMe/f2rUMpHKZ4SQqM6g8gbiXl91ijro9WJkcz4xkU4OWjplNaCrMY6XBIvXTBFl+Qgcsyag rOlNPrBuopMpC6PpARdsH9Zh7KI6p4dFbPAENTtBtjefOMrof0V7ZIXXHOOYY8ISOQxTq8osyyg SIU3wDwYF0lB2B6HUGCbwrYxEtm4O597+FNjkSWFoh/yjqFmnl4+QmCZ9jM1p9pItXOthrlRIZs n52iYp8niHgBkw9qC1OmV04IvNJo4coG7CMG3rnVLaCWTkQ= X-Google-Smtp-Source: AGHT+IGmlWT9HfqvWmDadczTXR4DZPJp754OCFp+t3YpZHRUYCYJ1K6LSRS8OmkRM4F91F4WLLwzcFejJogi X-Received: by 2002:a05:6e02:349f:b0:3df:4048:4f43 with SMTP id e9e14a558f8ab-3e1670e1861mr25224265ab.11.1752064434162; Wed, 09 Jul 2025 05:33:54 -0700 (PDT) Received: from postal.iol.unh.edu (postal.iol.unh.edu. [2606:4100:3880:1234::84]) by smtp-relay.gmail.com with ESMTPS id 8926c6da1cb9f-503b5baf78asm456140173.55.2025.07.09.05.33.54 (version=TLS1_2 cipher=ECDHE-ECDSA-AES128-GCM-SHA256 bits=128/128); Wed, 09 Jul 2025 05:33:54 -0700 (PDT) X-Relaying-Domain: iol.unh.edu Date: Wed, 09 Jul 2025 05:33:54 -0700 (PDT) Message-ID: <686e61b2.050a0220.c4121.875fSMTPIN_ADDED_MISSING@mx.google.com> Received: from [172.21.0.5] (unknown [172.18.0.240]) by postal.iol.unh.edu (Postfix) with ESMTP id C49A7604D420; Wed, 9 Jul 2025 08:33:53 -0400 (EDT) Subject: |SUCCESS| pw155088-155089 [PATCH] [v5,2/2] crypto/uadk: use async mo From: dpdklab@iol.unh.edu To: Test Report Cc: dpdk-test-reports@iol.unh.edu In-Reply-To: <20250709064701.100676-3-zhangfei.gao@linaro.org> References: <20250709064701.100676-3-zhangfei.gao@linaro.org> Content-Type: text/plain X-BeenThere: test-report@dpdk.org X-Mailman-Version: 2.1.29 Precedence: list List-Id: automatic DPDK test reports List-Unsubscribe: , List-Archive: List-Post: List-Help: List-Subscribe: , Errors-To: test-report-bounces@dpdk.org Test-Label: iol-unit-amd64-testing Test-Status: SUCCESS http://dpdk.org/patch/155089 _Testing PASS_ Submitter: Zhangfei Gao Date: Wednesday, July 09 2025 06:47:01 DPDK git baseline: Repo:dpdk Branch: master CommitID:2f4f0dc5f678fcf62cf046fa69821c0b8786deb4 155088-155089 --> testing pass Upstream job id: Generic-Unit-Test-DPDK#354159 Test environment and result as below: +-------------------------------+----------------+ | Environment | dpdk_unit_test | +===============================+================+ | CentOS Stream 9 | PASS | +-------------------------------+----------------+ | CentOS Stream 10 | PASS | +-------------------------------+----------------+ | Debian GNU/Linux 12 | PASS | +-------------------------------+----------------+ | Fedora Linux 40 | PASS | +-------------------------------+----------------+ | Fedora Linux 41 | PASS | +-------------------------------+----------------+ | Red Hat Enterprise Linux 8.10 | PASS | +-------------------------------+----------------+ | Red Hat Enterprise Linux 9.5 | PASS | +-------------------------------+----------------+ | Ubuntu 20.04 | PASS | +-------------------------------+----------------+ | Ubuntu 22.04 | PASS | +-------------------------------+----------------+ | Ubuntu 24.04 | PASS | +-------------------------------+----------------+ CentOS Stream 9 Kernel: 5.15 Compiler: gcc gcc (GCC) 11.5.0 20240719 (Red Hat 11.5.0-7) CentOS Stream 10 Kernel: 5.15 Compiler: gcc gcc (GCC) 14.2.1 20250110 (Red Hat 14.2.1-8) Debian GNU/Linux 12 Kernel: 5.15 Compiler: gcc gcc (Debian 12.2.0-14+deb12u1) 12.2.0 Fedora Linux 40 Kernel: 5.15 Compiler: clang gcc (GCC) 14.2.1 20240912 (Red Hat 14.2.1-3) Fedora Linux 41 Kernel: 5.15 Compiler: gcc gcc (GCC) 14.3.1 20250523 (Red Hat 14.3.1-1) Red Hat Enterprise Linux 8.10 Kernel: 5.15 Compiler: gcc gcc (GCC) 8.5.0 20210514 (Red Hat 8.5.0-22) Red Hat Enterprise Linux 9.5 Kernel: 5.15 Compiler: gcc gcc (GCC) 11.5.0 20240719 (Red Hat 11.5.0-2) Ubuntu 20.04 Kernel: 5.15 Compiler: gcc gcc (Ubuntu 9.4.0-1ubuntu1~20.04.2) 9.4.0 Ubuntu 22.04 Kernel: 5.15 Compiler: gcc gcc (Ubuntu 11.4.0-1ubuntu1~22.04) 11.4.0 Ubuntu 24.04 Kernel: 5.15 Compiler: gcc gcc (Ubuntu 13.3.0-6ubuntu2~24.04) 13.3.0 To view detailed results, visit: https://lab.dpdk.org/results/dashboard/patchsets/33621/ UNH-IOL DPDK Community Lab To manage your email subscriptions, visit: https://lab.dpdk.org/results/dashboard/preferences/subscriptions/