From mboxrd@z Thu Jan 1 00:00:00 1970 Return-Path: Received: from mails.dpdk.org (mails.dpdk.org [217.70.189.124]) by inbox.dpdk.org (Postfix) with ESMTP id C9AC346B2F for ; Wed, 9 Jul 2025 14:49:28 +0200 (CEST) Received: from mails.dpdk.org (localhost [127.0.0.1]) by mails.dpdk.org (Postfix) with ESMTP id B911F402A9; Wed, 9 Jul 2025 14:49:28 +0200 (CEST) Received: from mail-il1-f227.google.com (mail-il1-f227.google.com [209.85.166.227]) by mails.dpdk.org (Postfix) with ESMTP id 7706D40662 for ; Wed, 9 Jul 2025 14:49:27 +0200 (CEST) Received: by mail-il1-f227.google.com with SMTP id e9e14a558f8ab-3e0570a9b83so18271575ab.1 for ; Wed, 09 Jul 2025 05:49:27 -0700 (PDT) DKIM-Signature: v=1; a=rsa-sha256; c=relaxed/relaxed; d=iol.unh.edu; s=unh-iol; t=1752065367; x=1752670167; darn=dpdk.org; h=references:in-reply-to:cc:to:from:subject:message-id:date:from:to :cc:subject:date:message-id:reply-to; bh=PShfqd0sACiIXPWYzlZNwPLGa0wU5p2a3i09g+IGXPo=; b=Cuwlz98lI5k1oFHGN3JDIm7PbJFPxEERl2LlWLqIrITJh5Nz2vkrMy1dy+dAr5mQ2a XGqdhPZACi/nx0uyMP48ac4on8ekU109v72p/jBiTLz1Z1RKOgLyc7nn+fX7HBLVh3Lw qgYoD8tSZf6oMP5PvayHN0Loq16MNYwKv14JQ= X-Google-DKIM-Signature: v=1; a=rsa-sha256; c=relaxed/relaxed; d=1e100.net; s=20230601; t=1752065367; x=1752670167; h=references:in-reply-to:cc:to:from:subject:message-id:date :x-gm-message-state:from:to:cc:subject:date:message-id:reply-to; bh=PShfqd0sACiIXPWYzlZNwPLGa0wU5p2a3i09g+IGXPo=; b=W1PZbZWQVNS2Cjb9Q0Rbs78iPItI0B7qEVW5FPi7TZoBqOk+zCWfcAdil52nBhz4PI pe28fnsi6WQacZbckvByxdCvKHoGvbD3E9cLtzDGKH+oUD3/nUB6WDobHjitBXjoA+Vj 2E5yLX9SzPb3M1vMLwJcznk/AHyjxYolW0As27/LY+UpdfKlS4zNRYY6T5nOzTI8YEU1 zCxFMKruV/7ncrT2W7+pJF4WjBorNYQS1SQy995UzKarTjSH4m7ADqPxTuHTzumhX4a4 B7p0Mg+w0SBZheHApNdYIKaxB01tDaltbuk/T+xzUL8tiiLJFrMDf9EGdtSApTBy/V2a tmWg== X-Gm-Message-State: AOJu0YxFiL7GTC0E2PTLIgf5fCfjW06Ovu1wfcomT09d2PwTEFdGSMiW dwRQTMpqMLxpeLRPEhkABlEi4IykjDm+ImRM/Bn16rXsmJFtW9rshvtsVYXp9+LgxUQ88EJmzkz lc5O4gUO7sPh0CwVKtcqNTHQlewPQxJkOFiFbzCwDf2DBmvurYHi4LarbpZej X-Gm-Gg: ASbGnctD8o9bO9hffmb07FiY52XD6ULvHAXXUJDpJcIN/OGjFS5vJPw4we+TXJ/9og7 H6gMqMDdPJg7aosjSK9GAStDjc/BSw58EVE9+ZC91o8mEK4AshS0Z0yL1C+U1h5yMmrfvvSZ29q VV3riGOR3gCb7qR/DUYsQ9liyWWMcdKXKi3ebW5e7hNLXE6+hKmeRNRQvLgIfz3elSAnIPu50xD REMLR6X2Gwb4eF8lYLpZp3kWsgBrN/vg00uWievxYnN056VGrI5Yole2oQhw/LGX3d9Yr2PeXMY fi1OCzVJsDJ5dvDbdr2bYmTuEKEry+8pZCbLj6Eh4mF2Hw0= X-Google-Smtp-Source: AGHT+IFT6H9BGYEZo0SHd2LQ1LMBMzsrbiV9AC19qXJAO68htAQJip/T7BOp815npYz8jbfp4nZXK1CYhNZL X-Received: by 2002:a05:6e02:188c:b0:3df:42f1:3434 with SMTP id e9e14a558f8ab-3e167045501mr21275755ab.9.1752065366753; Wed, 09 Jul 2025 05:49:26 -0700 (PDT) Received: from postal.iol.unh.edu (postal.iol.unh.edu. [2606:4100:3880:1234::84]) by smtp-relay.gmail.com with ESMTPS id 8926c6da1cb9f-503b59bdbd1sm425868173.1.2025.07.09.05.49.26 (version=TLS1_2 cipher=ECDHE-ECDSA-AES128-GCM-SHA256 bits=128/128); Wed, 09 Jul 2025 05:49:26 -0700 (PDT) X-Relaying-Domain: iol.unh.edu Date: Wed, 09 Jul 2025 05:49:26 -0700 (PDT) Message-ID: <686e6556.050a0220.162772.68e5SMTPIN_ADDED_MISSING@mx.google.com> Received: from [172.21.0.7] (unknown [172.18.0.240]) by postal.iol.unh.edu (Postfix) with ESMTP id 3F9A66051830; Wed, 9 Jul 2025 08:49:26 -0400 (EDT) Subject: |SUCCESS| pw155086 [PATCH] net/mlx5: fix the queue length checking From: dpdklab@iol.unh.edu To: Test Report Cc: dpdk-test-reports@iol.unh.edu In-Reply-To: <20250709040000.112338-1-bingz@nvidia.com> References: <20250709040000.112338-1-bingz@nvidia.com> Content-Type: text/plain X-BeenThere: test-report@dpdk.org X-Mailman-Version: 2.1.29 Precedence: list List-Id: automatic DPDK test reports List-Unsubscribe: , List-Archive: List-Post: List-Help: List-Subscribe: , Errors-To: test-report-bounces@dpdk.org Test-Label: iol-unit-arm64-testing Test-Status: SUCCESS http://dpdk.org/patch/155086 _Testing PASS_ Submitter: Bing Zhao Date: Wednesday, July 09 2025 04:00:00 DPDK git baseline: Repo:dpdk Branch: master CommitID:e2888614268cbf0abcc7cd72ad97ff4e4901d0a5 155086 --> testing pass Upstream job id: Generic-Unit-Test-DPDK#354104 Test environment and result as below: +------------------------------+---------------------------+----------------+--------------+------------------------------+ | Environment | cryptodev_sw_zuc_autotest | dpdk_unit_test | lpm_autotest | cryptodev_sw_snow3g_autotest | +==============================+===========================+================+==============+==============================+ | Debian 12 (arm) | PASS | SKIPPED | SKIPPED | PASS | +------------------------------+---------------------------+----------------+--------------+------------------------------+ | CentOS Stream 9 | SKIPPED | PASS | SKIPPED | SKIPPED | +------------------------------+---------------------------+----------------+--------------+------------------------------+ | Fedora Linux 40 | SKIPPED | PASS | SKIPPED | SKIPPED | +------------------------------+---------------------------+----------------+--------------+------------------------------+ | CentOS Stream 10 | SKIPPED | PASS | SKIPPED | SKIPPED | +------------------------------+---------------------------+----------------+--------------+------------------------------+ | Debian GNU/Linux 12 | SKIPPED | PASS | SKIPPED | SKIPPED | +------------------------------+---------------------------+----------------+--------------+------------------------------+ | Fedora Linux 41 | SKIPPED | PASS | SKIPPED | SKIPPED | +------------------------------+---------------------------+----------------+--------------+------------------------------+ | Ubuntu 22.04 | SKIPPED | PASS | SKIPPED | SKIPPED | +------------------------------+---------------------------+----------------+--------------+------------------------------+ | Red Hat Enterprise Linux 9.5 | SKIPPED | PASS | SKIPPED | SKIPPED | +------------------------------+---------------------------+----------------+--------------+------------------------------+ | Ubuntu 20.04 | SKIPPED | PASS | PASS | SKIPPED | +------------------------------+---------------------------+----------------+--------------+------------------------------+ | Ubuntu 24.04 | SKIPPED | PASS | SKIPPED | SKIPPED | +------------------------------+---------------------------+----------------+--------------+------------------------------+ Debian 12 (arm) Kernel: Depends on container host Compiler: gcc (Debian 12.2.0-14) 12.2.0 CentOS Stream 9 Kernel: 5.4 Compiler: gcc gcc (GCC) 11.5.0 20240719 (Red Hat 11.5.0-7) Fedora Linux 40 Kernel: 5.4 Compiler: gcc gcc (GCC) 14.2.1 20240912 (Red Hat 14.2.1-3) CentOS Stream 10 Kernel: 5.4 Compiler: gcc gcc (GCC) 14.2.1 20250110 (Red Hat 14.2.1-8) Debian GNU/Linux 12 Kernel: 5.4 Compiler: gcc gcc (Debian 12.2.0-14+deb12u1) 12.2.0 Fedora Linux 41 Kernel: 5.4 Compiler: clang gcc (GCC) 14.3.1 20250523 (Red Hat 14.3.1-1) Ubuntu 22.04 Kernel: 5.4 Compiler: gcc gcc (Ubuntu 11.4.0-1ubuntu1~22.04) 11.4.0 Red Hat Enterprise Linux 9.5 Kernel: 5.4 Compiler: gcc gcc (GCC) 11.5.0 20240719 (Red Hat 11.5.0-2) Ubuntu 20.04 Kernel: 5.4 Compiler: gcc gcc (Ubuntu 9.4.0-1ubuntu1~20.04.2) 9.4.0 Ubuntu 24.04 Kernel: 5.4 Compiler: gcc gcc (Ubuntu 13.3.0-6ubuntu2~24.04) 13.3.0 To view detailed results, visit: https://lab.dpdk.org/results/dashboard/patchsets/33619/ UNH-IOL DPDK Community Lab To manage your email subscriptions, visit: https://lab.dpdk.org/results/dashboard/preferences/subscriptions/