From mboxrd@z Thu Jan 1 00:00:00 1970 Return-Path: Received: from mails.dpdk.org (mails.dpdk.org [217.70.189.124]) by inbox.dpdk.org (Postfix) with ESMTP id 1E4F746B2F for ; Wed, 9 Jul 2025 14:50:17 +0200 (CEST) Received: from mails.dpdk.org (localhost [127.0.0.1]) by mails.dpdk.org (Postfix) with ESMTP id 1856E402DA; Wed, 9 Jul 2025 14:50:17 +0200 (CEST) Received: from mail-pl1-f227.google.com (mail-pl1-f227.google.com [209.85.214.227]) by mails.dpdk.org (Postfix) with ESMTP id A17EB402DA for ; Wed, 9 Jul 2025 14:50:15 +0200 (CEST) Received: by mail-pl1-f227.google.com with SMTP id d9443c01a7336-2363616a1a6so52180235ad.3 for ; Wed, 09 Jul 2025 05:50:15 -0700 (PDT) DKIM-Signature: v=1; a=rsa-sha256; c=relaxed/relaxed; d=iol.unh.edu; s=unh-iol; t=1752065415; x=1752670215; darn=dpdk.org; h=references:in-reply-to:cc:to:from:subject:message-id:date:from:to :cc:subject:date:message-id:reply-to; bh=VeuCtbjR2sUmXJTadajWS3akCyeCYmZkpt2MFTcMp6M=; b=EMCNFHlFhR5P/gZ34qgDyBBnpuoWgGSCx4zf8RO58fcK8KVsR++8+iKpXPdiEea6Dn ZTxobdsCBQQWIU3optFLK48N7dClSM4KrjV7fGys+qO/ylp9QXEKJzyGym1fa1xYjrm5 GshFBhck845+J6WGZ/KyRfoZVGdIoK83UtdfY= X-Google-DKIM-Signature: v=1; a=rsa-sha256; c=relaxed/relaxed; d=1e100.net; s=20230601; t=1752065415; x=1752670215; h=references:in-reply-to:cc:to:from:subject:message-id:date :x-gm-message-state:from:to:cc:subject:date:message-id:reply-to; bh=VeuCtbjR2sUmXJTadajWS3akCyeCYmZkpt2MFTcMp6M=; b=ZNmEI2+zYMJtkAPxkeZLkSG8+stT+NLk57BJzHxOa9AKIK49jUwN9b0Fer9SMzNlL2 OqkMVemAr9S4N60EE2J0rQPqYRvqcLBkVO4oneOxMOWO82OrIvyX6A1sNHuQqEJIsqU2 0wUbJC/0SMBSnYQEH06KResBrr1gBppspqhPxaGZgSk4joXT1hdSfO+BAaGGe2MSAyZR Rbi0fbhloewaNNwFn23DNy6N+nkdCogK3CBXUKuiwivdMgQ8ffIAXpdDyAcTkk+gA7RK 1ub7I58CMPBc2+HB3TFhQ8/psHk4BM0vh4c2sqQfuzprVa8BRn/+cQJFtoLiwwMOxE9y 2VBg== X-Gm-Message-State: AOJu0YzAeNTRe2nzsdtz5U7pHooT+VMyZGlauMEoR2t/Rgj3RzzmvO89 D3k45XOgCbYTNIYDnVJHOR4a/5s9yyrk7T2Y4DUzjWgUGRwTcLRVYuBo/uBuRKNvkbLQ/Ag5Kr6 UTX7moWgogWPMtR9Gp+L8qi7h/b1TK7icwhg4YNyG/Cn6XI0SjbtpZ/2grjJ8 X-Gm-Gg: ASbGncu5BfPaOdUhZQTXVLU6968fgkzRsCnOUZE8nU5fgdSYuY+x/dxWOPPVvMq3lFu 31khfWySDxZqz44VfXeE88yK2abtSd/3Ile5B2Nzgl1xJY0GTKe69O9sLT1ChRA6j8gxJ966Zrj WjFglLYoX/WVYPOgSTAw8GxrPOnzVus9kOzkciSGp4ovEW31E0Nu3cqnxKfyM3Mer2XDeD15pH4 wLkEcJsMwCmo1uIiw++DW4SVT3hVzAsx3qGRAGFZVbxl03ubvQlKxloqMIcVUnRrf7LxzoCUvmb 1Yzb+oOFXWw3k59CX2RNGh7pVLnrn1LOdXv5XUca9rx1kjY= X-Google-Smtp-Source: AGHT+IF8JhjdX0y4cdzfRPqlA44aMdMYEq5MtWMLqSGew4zasQpfpMCPsjo4LJFzzH7DPkCklFzoBDWP17fk X-Received: by 2002:a17:902:f64c:b0:234:d10d:9f9f with SMTP id d9443c01a7336-23ddb30e308mr41451565ad.40.1752065414797; Wed, 09 Jul 2025 05:50:14 -0700 (PDT) Received: from postal.iol.unh.edu (postal.iol.unh.edu. [2606:4100:3880:1234::84]) by smtp-relay.gmail.com with ESMTPS id d9443c01a7336-23c842b5494sm6534995ad.13.2025.07.09.05.50.14 (version=TLS1_2 cipher=ECDHE-ECDSA-AES128-GCM-SHA256 bits=128/128); Wed, 09 Jul 2025 05:50:14 -0700 (PDT) X-Relaying-Domain: iol.unh.edu Date: Wed, 09 Jul 2025 05:50:14 -0700 (PDT) Message-ID: <686e6586.170a0220.16fa49.362dSMTPIN_ADDED_MISSING@mx.google.com> Received: from [172.21.0.6] (unknown [172.18.0.240]) by postal.iol.unh.edu (Postfix) with ESMTP id 4BE346051830; Wed, 9 Jul 2025 08:50:14 -0400 (EDT) Subject: |WARNING| pw155086 [PATCH] net/mlx5: fix the queue length checking From: dpdklab@iol.unh.edu To: Test Report Cc: dpdk-test-reports@iol.unh.edu In-Reply-To: <20250709040000.112338-1-bingz@nvidia.com> References: <20250709040000.112338-1-bingz@nvidia.com> Content-Type: text/plain X-BeenThere: test-report@dpdk.org X-Mailman-Version: 2.1.29 Precedence: list List-Id: automatic DPDK test reports List-Unsubscribe: , List-Archive: List-Post: List-Help: List-Subscribe: , Errors-To: test-report-bounces@dpdk.org Test-Label: iol-compile-amd64-testing Test-Status: WARNING http://dpdk.org/patch/155086 _Testing issues_ Submitter: Bing Zhao Date: Wednesday, July 09 2025 04:00:00 DPDK git baseline: Repo:dpdk Branch: master CommitID:e2888614268cbf0abcc7cd72ad97ff4e4901d0a5 155086 --> testing issues Upstream job id: Generic-DPDK-Compile-Meson#407148 Test environment and result as below: +-------------------------------+--------------------+-------------------+-------------------+------------------+ | Environment | dpdk_meson_compile | dpdk_msvc_compile | dpdk_compile_spdk | dpdk_compile_ovs | +===============================+====================+===================+===================+==================+ | Ubuntu 20.04 | PASS | SKIPPED | SKIPPED | SKIPPED | +-------------------------------+--------------------+-------------------+-------------------+------------------+ | FreeBSD 14.2 | PASS | SKIPPED | SKIPPED | SKIPPED | +-------------------------------+--------------------+-------------------+-------------------+------------------+ | CentOS Stream 9 | PASS | SKIPPED | PASS | SKIPPED | +-------------------------------+--------------------+-------------------+-------------------+------------------+ | Debian GNU/Linux 12 | PASS | SKIPPED | PASS | SKIPPED | +-------------------------------+--------------------+-------------------+-------------------+------------------+ | Fedora Linux 40 | PASS | SKIPPED | PASS | SKIPPED | +-------------------------------+--------------------+-------------------+-------------------+------------------+ | Fedora Linux 41 | PASS | SKIPPED | PASS | PASS | +-------------------------------+--------------------+-------------------+-------------------+------------------+ | openSUSE Leap 15.6 | PASS | SKIPPED | SKIPPED | SKIPPED | +-------------------------------+--------------------+-------------------+-------------------+------------------+ | Red Hat Enterprise Linux 8.10 | PASS | SKIPPED | SKIPPED | SKIPPED | +-------------------------------+--------------------+-------------------+-------------------+------------------+ | Red Hat Enterprise Linux 9.5 | PASS | SKIPPED | SKIPPED | SKIPPED | +-------------------------------+--------------------+-------------------+-------------------+------------------+ | Ubuntu 22.04 | PASS | SKIPPED | PASS | SKIPPED | +-------------------------------+--------------------+-------------------+-------------------+------------------+ | Ubuntu 24.04 | PEND | SKIPPED | PEND | PEND | +-------------------------------+--------------------+-------------------+-------------------+------------------+ | Alpine Linux 3.22.0 | PASS | SKIPPED | SKIPPED | SKIPPED | +-------------------------------+--------------------+-------------------+-------------------+------------------+ | Windows Server 2022 | SKIPPED | PASS | SKIPPED | SKIPPED | +-------------------------------+--------------------+-------------------+-------------------+------------------+ Ubuntu 20.04 Kernel: 4.19 Compiler: gcc gcc (Ubuntu 9.4.0-1ubuntu1~20.04.2) 9.4.0 FreeBSD 14.2 Kernel: 14.2-RELEASE Compiler: clang 18.1.6 CentOS Stream 9 Kernel: 5.15 Compiler: gcc gcc (GCC) 11.5.0 20240719 (Red Hat 11.5.0-7) Debian GNU/Linux 12 Kernel: 5.15 Compiler: gcc gcc (Debian 12.2.0-14+deb12u1) 12.2.0 Fedora Linux 40 Kernel: 5.15 Compiler: gcc gcc (GCC) 14.2.1 20240912 (Red Hat 14.2.1-3) Fedora Linux 41 Kernel: 5.15 Compiler: clang gcc (GCC) 14.3.1 20250523 (Red Hat 14.3.1-1) openSUSE Leap 15.6 Kernel: 5.15 Compiler: gcc gcc (SUSE Linux) 7.5.0 Red Hat Enterprise Linux 8.10 Kernel: 5.15 Compiler: gcc gcc (GCC) 8.5.0 20210514 (Red Hat 8.5.0-22) Red Hat Enterprise Linux 9.5 Kernel: 5.15 Compiler: gcc gcc (GCC) 11.5.0 20240719 (Red Hat 11.5.0-2) Ubuntu 22.04 Kernel: 5.15 Compiler: gcc gcc (Ubuntu 11.4.0-1ubuntu1~22.04) 11.4.0 Ubuntu 24.04 Kernel: 5.15 Compiler: gcc gcc (Ubuntu 13.3.0-6ubuntu2~24.04) 13.3.0 Alpine Linux 3.22.0 Kernel: 5.15 Compiler: gcc gcc (Alpine 14.2.0) 14.2.0 Windows Server 2022 Kernel: 10.0.20348.2031 Compiler: clang 15.0.7, gcc 14.1.0 (MinGW), and MSVC VS 19.39.33521 To view detailed results, visit: https://lab.dpdk.org/results/dashboard/patchsets/33619/ UNH-IOL DPDK Community Lab To manage your email subscriptions, visit: https://lab.dpdk.org/results/dashboard/preferences/subscriptions/