From mboxrd@z Thu Jan 1 00:00:00 1970 Return-Path: Received: from mails.dpdk.org (mails.dpdk.org [217.70.189.124]) by inbox.dpdk.org (Postfix) with ESMTP id 32A2746B2F for ; Wed, 9 Jul 2025 14:50:51 +0200 (CEST) Received: from mails.dpdk.org (localhost [127.0.0.1]) by mails.dpdk.org (Postfix) with ESMTP id 2DBD5402A9; Wed, 9 Jul 2025 14:50:51 +0200 (CEST) Received: from mail-il1-f227.google.com (mail-il1-f227.google.com [209.85.166.227]) by mails.dpdk.org (Postfix) with ESMTP id AC31B402A9 for ; Wed, 9 Jul 2025 14:50:49 +0200 (CEST) Received: by mail-il1-f227.google.com with SMTP id e9e14a558f8ab-3d948ce7d9dso31410125ab.2 for ; Wed, 09 Jul 2025 05:50:49 -0700 (PDT) DKIM-Signature: v=1; a=rsa-sha256; c=relaxed/relaxed; d=iol.unh.edu; s=unh-iol; t=1752065449; x=1752670249; darn=dpdk.org; h=references:in-reply-to:cc:to:from:subject:message-id:date:from:to :cc:subject:date:message-id:reply-to; bh=kmocRaPfhqhXNFCkax6TAkTNWNMUelppQOfGaENUGwA=; b=iOC0EWbCG7N2rSXXkN9QCt1w/PyaLdRhChj+l5umNKIhRc4oSRAbGiVa5eNRPgK9M4 2Gl0TEaMBHOUS/bubA/kuRSNNh3/INtOh8O9AShX9u5Plu0oxR8kFc7O2t81oYFEPuHF m1KTjtRdXqH2p8tiN1SZj+v+BLkG97JRmZ33Y= X-Google-DKIM-Signature: v=1; a=rsa-sha256; c=relaxed/relaxed; d=1e100.net; s=20230601; t=1752065449; x=1752670249; h=references:in-reply-to:cc:to:from:subject:message-id:date :x-gm-message-state:from:to:cc:subject:date:message-id:reply-to; bh=kmocRaPfhqhXNFCkax6TAkTNWNMUelppQOfGaENUGwA=; b=UWoIfnuVE+2bQQW1s2wEn9fRSq0KbC4Zv2mqMkfjVRTry1SpFuBdq49wAABp9siIb/ rmyxErZEaS5fAHtP+lLFmzmlxAYE3uSZaiafjbnQj2XXkPfmVDq6j5fl+vmUmDxaJQdT bQG6TWI7iN21UL8W1UvvXJK4V9nFAip/cfgIMcRTsqHzC+KteyIzNuaWEbFDNP1+U1x0 zrcqhTjQAlfmzrn2yBDxA1jyqh4aGv5sURNMQlK733/xuQS/ljtUDt2m1u9/qm1GSTUZ /N885hkqZA3MjGVhdNCt83Lic5+EOHVEfcYJXUyaS43SFIjf8BmfX7y6sNPjALLs08oG 4JSA== X-Gm-Message-State: AOJu0Yx/eue/e3RA3WiUn08xTV1LQoeu2JzcN1KhY7aIdWcNltcKazm6 jFkySG2SnawLZtQc1XM+3vr0QyiedsKQ1KCR+m0Po7Znw4FEL5pGPAxTB2Ke+dbKdCtc8+bDUTK sJ5v8cU8szo8uPrHYNKBP0y8ieujsKe70s6Q12y9KKtkZxaZyNkmzs3bKD9ev X-Gm-Gg: ASbGncs+AOfjM2SMsLjtf96Kyo+h6zzEoTedKf4JigjeYLm02xsikFVPVLId8R3cr++ z+RaVrnFmtllXNcVNmkS3wyXFFyPRtO/mvm7BCwyIawE+OyoBdCGEwRlApnClo0mObpL1aDHZFr BgB4IULgzcrGgYvYGrTiGzx8MbdOK3CrLh7c70AEqxIyjbz8TrXBuja5sJEx/gi8GbQjy7mtPNf DWtQsgtYqJQZXVBpOo4InorR8MnADSWVGx39fPmPxL7PEOb+0dUZisBY1f3bp8KHroKUhmWIOiV MYZk1Z5Iuyi7n5TSZ2CO0o/SmSEuMgN0bjf/k5pZM/bsFW0= X-Google-Smtp-Source: AGHT+IHFMPBTbmsWMqjeXRRq2ssTYAiRa5n7IKreGfBBr99Oq+C2Qtq4478x9iD70BLS7GL/qgDk0mNxofiO X-Received: by 2002:a05:6602:486:b0:873:de29:612f with SMTP id ca18e2360f4ac-8795b08d7eamr259949239f.3.1752065448925; Wed, 09 Jul 2025 05:50:48 -0700 (PDT) Received: from postal.iol.unh.edu (postal.iol.unh.edu. [2606:4100:3880:1234::84]) by smtp-relay.gmail.com with ESMTPS id ca18e2360f4ac-876e086302esm49498939f.26.2025.07.09.05.50.48 (version=TLS1_2 cipher=ECDHE-ECDSA-AES128-GCM-SHA256 bits=128/128); Wed, 09 Jul 2025 05:50:48 -0700 (PDT) X-Relaying-Domain: iol.unh.edu Date: Wed, 09 Jul 2025 05:50:48 -0700 (PDT) Message-ID: <686e65a8.050a0220.3c7983.aa0fSMTPIN_ADDED_MISSING@mx.google.com> Received: from [172.21.0.5] (unknown [172.18.0.240]) by postal.iol.unh.edu (Postfix) with ESMTP id 5DE556051830; Wed, 9 Jul 2025 08:50:48 -0400 (EDT) Subject: |WARNING| pw155086 [PATCH] net/mlx5: fix the queue length checking From: dpdklab@iol.unh.edu To: Test Report Cc: dpdk-test-reports@iol.unh.edu In-Reply-To: <20250709040000.112338-1-bingz@nvidia.com> References: <20250709040000.112338-1-bingz@nvidia.com> Content-Type: text/plain X-BeenThere: test-report@dpdk.org X-Mailman-Version: 2.1.29 Precedence: list List-Id: automatic DPDK test reports List-Unsubscribe: , List-Archive: List-Post: List-Help: List-Subscribe: , Errors-To: test-report-bounces@dpdk.org Test-Label: iol-compile-amd64-testing Test-Status: WARNING http://dpdk.org/patch/155086 _Testing issues_ Submitter: Bing Zhao Date: Wednesday, July 09 2025 04:00:00 DPDK git baseline: Repo:dpdk Branch: master CommitID:e2888614268cbf0abcc7cd72ad97ff4e4901d0a5 155086 --> testing issues Upstream job id: Generic-DPDK-Compile-Meson#407149 Test environment and result as below: +-------------------------------+--------------------+-------------------+-------------------+------------------+ | Environment | dpdk_meson_compile | dpdk_msvc_compile | dpdk_compile_spdk | dpdk_compile_ovs | +===============================+====================+===================+===================+==================+ | Ubuntu 20.04 | PASS | SKIPPED | SKIPPED | SKIPPED | +-------------------------------+--------------------+-------------------+-------------------+------------------+ | FreeBSD 14.2 | PASS | SKIPPED | SKIPPED | SKIPPED | +-------------------------------+--------------------+-------------------+-------------------+------------------+ | CentOS Stream 9 | PASS | SKIPPED | PASS | SKIPPED | +-------------------------------+--------------------+-------------------+-------------------+------------------+ | Debian GNU/Linux 12 | PASS | SKIPPED | PASS | SKIPPED | +-------------------------------+--------------------+-------------------+-------------------+------------------+ | Fedora Linux 40 | PASS | SKIPPED | PASS | SKIPPED | +-------------------------------+--------------------+-------------------+-------------------+------------------+ | Fedora Linux 41 | PASS | SKIPPED | PASS | PASS | +-------------------------------+--------------------+-------------------+-------------------+------------------+ | openSUSE Leap 15.6 | PASS | SKIPPED | SKIPPED | SKIPPED | +-------------------------------+--------------------+-------------------+-------------------+------------------+ | Red Hat Enterprise Linux 8.10 | PASS | SKIPPED | SKIPPED | SKIPPED | +-------------------------------+--------------------+-------------------+-------------------+------------------+ | Red Hat Enterprise Linux 9.5 | PASS | SKIPPED | SKIPPED | SKIPPED | +-------------------------------+--------------------+-------------------+-------------------+------------------+ | Ubuntu 22.04 | PASS | SKIPPED | PASS | SKIPPED | +-------------------------------+--------------------+-------------------+-------------------+------------------+ | Ubuntu 24.04 | PEND | SKIPPED | PEND | PEND | +-------------------------------+--------------------+-------------------+-------------------+------------------+ | Alpine Linux 3.22.0 | PASS | SKIPPED | SKIPPED | SKIPPED | +-------------------------------+--------------------+-------------------+-------------------+------------------+ | Windows Server 2022 | SKIPPED | PASS | SKIPPED | SKIPPED | +-------------------------------+--------------------+-------------------+-------------------+------------------+ Ubuntu 20.04 Kernel: 4.19 Compiler: gcc gcc (Ubuntu 9.4.0-1ubuntu1~20.04.2) 9.4.0 FreeBSD 14.2 Kernel: 14.2-RELEASE Compiler: clang 18.1.6 CentOS Stream 9 Kernel: 5.15 Compiler: gcc gcc (GCC) 11.5.0 20240719 (Red Hat 11.5.0-7) Debian GNU/Linux 12 Kernel: 5.15 Compiler: gcc gcc (Debian 12.2.0-14+deb12u1) 12.2.0 Fedora Linux 40 Kernel: 5.15 Compiler: gcc gcc (GCC) 14.2.1 20240912 (Red Hat 14.2.1-3) Fedora Linux 41 Kernel: 5.15 Compiler: clang gcc (GCC) 14.3.1 20250523 (Red Hat 14.3.1-1) openSUSE Leap 15.6 Kernel: 5.15 Compiler: gcc gcc (SUSE Linux) 7.5.0 Red Hat Enterprise Linux 8.10 Kernel: 5.15 Compiler: gcc gcc (GCC) 8.5.0 20210514 (Red Hat 8.5.0-22) Red Hat Enterprise Linux 9.5 Kernel: 5.15 Compiler: gcc gcc (GCC) 11.5.0 20240719 (Red Hat 11.5.0-2) Ubuntu 22.04 Kernel: 5.15 Compiler: gcc gcc (Ubuntu 11.4.0-1ubuntu1~22.04) 11.4.0 Ubuntu 24.04 Kernel: 5.15 Compiler: gcc gcc (Ubuntu 13.3.0-6ubuntu2~24.04) 13.3.0 Alpine Linux 3.22.0 Kernel: 5.15 Compiler: gcc gcc (Alpine 14.2.0) 14.2.0 Windows Server 2022 Kernel: 10.0.20348.2031 Compiler: clang 15.0.7, gcc 14.1.0 (MinGW), and MSVC VS 19.39.33521 To view detailed results, visit: https://lab.dpdk.org/results/dashboard/patchsets/33619/ UNH-IOL DPDK Community Lab To manage your email subscriptions, visit: https://lab.dpdk.org/results/dashboard/preferences/subscriptions/