From mboxrd@z Thu Jan 1 00:00:00 1970 Return-Path: Received: from mails.dpdk.org (mails.dpdk.org [217.70.189.124]) by inbox.dpdk.org (Postfix) with ESMTP id 5F29446B2F for ; Wed, 9 Jul 2025 14:51:16 +0200 (CEST) Received: from mails.dpdk.org (localhost [127.0.0.1]) by mails.dpdk.org (Postfix) with ESMTP id 5B70D402A9; Wed, 9 Jul 2025 14:51:16 +0200 (CEST) Received: from mail-io1-f97.google.com (mail-io1-f97.google.com [209.85.166.97]) by mails.dpdk.org (Postfix) with ESMTP id 495AF402A9 for ; Wed, 9 Jul 2025 14:51:15 +0200 (CEST) Received: by mail-io1-f97.google.com with SMTP id ca18e2360f4ac-86d029e2bdeso33569239f.1 for ; Wed, 09 Jul 2025 05:51:15 -0700 (PDT) DKIM-Signature: v=1; a=rsa-sha256; c=relaxed/relaxed; d=iol.unh.edu; s=unh-iol; t=1752065474; x=1752670274; darn=dpdk.org; h=references:in-reply-to:cc:to:from:subject:message-id:date:from:to :cc:subject:date:message-id:reply-to; bh=S2UF2qL5IPC4KrPLUs7b5ealNo/EMWC6PJ694GVtsac=; b=FeAOzk+rvbyXpwYJFFWfr2sB5POGWqShs4mop7hW1Dp/6CfxAXvXXA01O4dMzJWf7j hjpBmZmJw8rtu6M50cr6F2BcEzyq8th2uURxj+KKA64J7o6vL7RDcrmftMSMdfFYs4IX c8zoP5N40NWiDX2gL2T4y9KtuJDBAMrpgNjTY= X-Google-DKIM-Signature: v=1; a=rsa-sha256; c=relaxed/relaxed; d=1e100.net; s=20230601; t=1752065474; x=1752670274; h=references:in-reply-to:cc:to:from:subject:message-id:date :x-gm-message-state:from:to:cc:subject:date:message-id:reply-to; bh=S2UF2qL5IPC4KrPLUs7b5ealNo/EMWC6PJ694GVtsac=; b=gWt4DQxg3inrBP8QsmaOp9U8pDO6fVmKtHv0rWCVE9HInP2F8qiYPoRHXbguRc2Kja ZpZdrFxJ1rSbtA2j7e5t7uLxkPRnO5kCRU6DdaChwF/GHMDp/1oGurQnwvPgCBIkssOW oDy044eRyxAZrXiJ36p7JKQPXFx+IZ1dM85+Hmhm6fibGBj88joE666DjhlKWEuZS5ZS 9DE/Wz69+UMKvfNIOKRYnLDUiu5lqIUQjRxf+6u3g8gT5GuKGzCaRUejQpCE+AhCNsLo jUwIY3wBEVAvgEbC2513DifBYJLjmUopD/S0ByyWRB+5oNDLQo/pmrCqRL2UoLSzHcWw vQEA== X-Gm-Message-State: AOJu0YwZToyE7H1/AdlUCrajfy10Ah4qIv8gkfcU4yqsKGdPb7JAuaNW XX5AwRhkpjcwrmuZyCOmrAlBamVLrcHgiD5rO9EX8gm/ZVwkirSFujdR0rfzNXv0qudzYl0X1Ad fgW2X4x5ow8BS6LOMf3PymRrZ09b6qmzq1R7JXG0/1+yc X-Gm-Gg: ASbGncsm3d7aOSKem+Aan3NSo87RSWOEVBslBfRwZiI50MHaydVDmXYG6zBpPTXzdFM hnhdhQZQjf1abbGmfdmnO/2uh/IPiaJS4Sf7h9KlsjkepeVR9Xlq1mgA9rTU7r7lrq8vy5vXg7M MVHDTnQMLA0TFOhQFmRR4pRaTD5A2dx11JiiQmjBVUF1QBKKbune0jr5xmDp2OqM0OzBkrRK7yY RLccvkTu5DVV8QF88nNPcjvhLIs0ZDmq9sU/NtNVIsS931e50957GEm64UvM6oZK+xdso+NtN1i Iww99EjW0/B0kM3XJ+8qI4DP3ih7m7zH6ZnAKLrBT4raJWVO+eRgPxnH6a6xlV92T2H0Eg== X-Google-Smtp-Source: AGHT+IGbVEw6eu4VtgHfBxLr0FAikjKqqAP1ZQr22BquMtQdf4iWVqXjT3hrkPToABT7qEWrPDD2wNV/lz4R X-Received: by 2002:a05:6e02:18c8:b0:3dc:7b3d:6a45 with SMTP id e9e14a558f8ab-3e167f197ebmr18088805ab.0.1752065474443; Wed, 09 Jul 2025 05:51:14 -0700 (PDT) Received: from postal.iol.unh.edu (postal.iol.unh.edu. [132.177.123.84]) by smtp-relay.gmail.com with ESMTPS id e9e14a558f8ab-3e1614e11dcsm1351435ab.35.2025.07.09.05.51.14 (version=TLS1_2 cipher=ECDHE-ECDSA-AES128-GCM-SHA256 bits=128/128); Wed, 09 Jul 2025 05:51:14 -0700 (PDT) X-Relaying-Domain: iol.unh.edu Date: Wed, 09 Jul 2025 05:51:14 -0700 (PDT) Message-ID: <686e65c2.050a0220.102bfb.7bf9SMTPIN_ADDED_MISSING@mx.google.com> Received: from [172.21.0.5] (unknown [172.18.0.240]) by postal.iol.unh.edu (Postfix) with ESMTP id E582F6051830; Wed, 9 Jul 2025 08:51:13 -0400 (EDT) Subject: |WARNING| pw155086 [PATCH] net/mlx5: fix the queue length checking From: dpdklab@iol.unh.edu To: Test Report Cc: dpdk-test-reports@iol.unh.edu In-Reply-To: <20250709040000.112338-1-bingz@nvidia.com> References: <20250709040000.112338-1-bingz@nvidia.com> Content-Type: text/plain X-BeenThere: test-report@dpdk.org X-Mailman-Version: 2.1.29 Precedence: list List-Id: automatic DPDK test reports List-Unsubscribe: , List-Archive: List-Post: List-Help: List-Subscribe: , Errors-To: test-report-bounces@dpdk.org Test-Label: iol-compile-amd64-testing Test-Status: WARNING http://dpdk.org/patch/155086 _Testing issues_ Submitter: Bing Zhao Date: Wednesday, July 09 2025 04:00:00 DPDK git baseline: Repo:dpdk Branch: master CommitID:e2888614268cbf0abcc7cd72ad97ff4e4901d0a5 155086 --> testing issues Upstream job id: Generic-DPDK-Compile-Meson#407144 Test environment and result as below: +-------------------------------+--------------------+-------------------+-------------------+------------------+ | Environment | dpdk_meson_compile | dpdk_msvc_compile | dpdk_compile_spdk | dpdk_compile_ovs | +===============================+====================+===================+===================+==================+ | Ubuntu 20.04 | PASS | SKIPPED | SKIPPED | SKIPPED | +-------------------------------+--------------------+-------------------+-------------------+------------------+ | FreeBSD 14.2 | PASS | SKIPPED | SKIPPED | SKIPPED | +-------------------------------+--------------------+-------------------+-------------------+------------------+ | CentOS Stream 9 | PASS | SKIPPED | PASS | SKIPPED | +-------------------------------+--------------------+-------------------+-------------------+------------------+ | Debian GNU/Linux 12 | PASS | SKIPPED | PASS | SKIPPED | +-------------------------------+--------------------+-------------------+-------------------+------------------+ | Fedora Linux 40 | PASS | SKIPPED | PASS | SKIPPED | +-------------------------------+--------------------+-------------------+-------------------+------------------+ | Fedora Linux 41 | PASS | SKIPPED | PASS | PASS | +-------------------------------+--------------------+-------------------+-------------------+------------------+ | openSUSE Leap 15.6 | PASS | SKIPPED | SKIPPED | SKIPPED | +-------------------------------+--------------------+-------------------+-------------------+------------------+ | Red Hat Enterprise Linux 8.10 | PASS | SKIPPED | SKIPPED | SKIPPED | +-------------------------------+--------------------+-------------------+-------------------+------------------+ | Red Hat Enterprise Linux 9.5 | PASS | SKIPPED | SKIPPED | SKIPPED | +-------------------------------+--------------------+-------------------+-------------------+------------------+ | Ubuntu 22.04 | PASS | SKIPPED | PASS | SKIPPED | +-------------------------------+--------------------+-------------------+-------------------+------------------+ | Ubuntu 24.04 | PEND | SKIPPED | PEND | PEND | +-------------------------------+--------------------+-------------------+-------------------+------------------+ | Alpine Linux 3.22.0 | PASS | SKIPPED | SKIPPED | SKIPPED | +-------------------------------+--------------------+-------------------+-------------------+------------------+ | Windows Server 2022 | SKIPPED | PASS | SKIPPED | SKIPPED | +-------------------------------+--------------------+-------------------+-------------------+------------------+ Ubuntu 20.04 Kernel: 4.19 Compiler: gcc gcc (Ubuntu 9.4.0-1ubuntu1~20.04.2) 9.4.0 FreeBSD 14.2 Kernel: 14.2-RELEASE Compiler: clang 18.1.6 CentOS Stream 9 Kernel: 5.15 Compiler: gcc gcc (GCC) 11.5.0 20240719 (Red Hat 11.5.0-7) Debian GNU/Linux 12 Kernel: 5.15 Compiler: gcc gcc (Debian 12.2.0-14+deb12u1) 12.2.0 Fedora Linux 40 Kernel: 5.15 Compiler: gcc gcc (GCC) 14.2.1 20240912 (Red Hat 14.2.1-3) Fedora Linux 41 Kernel: 5.15 Compiler: clang gcc (GCC) 14.3.1 20250523 (Red Hat 14.3.1-1) openSUSE Leap 15.6 Kernel: 5.15 Compiler: gcc gcc (SUSE Linux) 7.5.0 Red Hat Enterprise Linux 8.10 Kernel: 5.15 Compiler: gcc gcc (GCC) 8.5.0 20210514 (Red Hat 8.5.0-22) Red Hat Enterprise Linux 9.5 Kernel: 5.15 Compiler: gcc gcc (GCC) 11.5.0 20240719 (Red Hat 11.5.0-2) Ubuntu 22.04 Kernel: 5.15 Compiler: gcc gcc (Ubuntu 11.4.0-1ubuntu1~22.04) 11.4.0 Ubuntu 24.04 Kernel: 5.15 Compiler: gcc gcc (Ubuntu 13.3.0-6ubuntu2~24.04) 13.3.0 Alpine Linux 3.22.0 Kernel: 5.15 Compiler: gcc gcc (Alpine 14.2.0) 14.2.0 Windows Server 2022 Kernel: 10.0.20348.2031 Compiler: clang 15.0.7, gcc 14.1.0 (MinGW), and MSVC VS 19.39.33521 To view detailed results, visit: https://lab.dpdk.org/results/dashboard/patchsets/33619/ UNH-IOL DPDK Community Lab To manage your email subscriptions, visit: https://lab.dpdk.org/results/dashboard/preferences/subscriptions/