From mboxrd@z Thu Jan 1 00:00:00 1970 Return-Path: Received: from mails.dpdk.org (mails.dpdk.org [217.70.189.124]) by inbox.dpdk.org (Postfix) with ESMTP id 7C24E46B2F for ; Wed, 9 Jul 2025 14:52:01 +0200 (CEST) Received: from mails.dpdk.org (localhost [127.0.0.1]) by mails.dpdk.org (Postfix) with ESMTP id 76445402A9; Wed, 9 Jul 2025 14:52:01 +0200 (CEST) Received: from mail-qt1-f225.google.com (mail-qt1-f225.google.com [209.85.160.225]) by mails.dpdk.org (Postfix) with ESMTP id A48A8402A9 for ; Wed, 9 Jul 2025 14:51:59 +0200 (CEST) Received: by mail-qt1-f225.google.com with SMTP id d75a77b69052e-4a6f3f88613so50050071cf.1 for ; Wed, 09 Jul 2025 05:51:59 -0700 (PDT) DKIM-Signature: v=1; a=rsa-sha256; c=relaxed/relaxed; d=iol.unh.edu; s=unh-iol; t=1752065519; x=1752670319; darn=dpdk.org; h=references:in-reply-to:cc:to:from:subject:message-id:date:from:to :cc:subject:date:message-id:reply-to; bh=n5BSgGmYVqUGSRPJsrqnSeUwprkJ7E3KfyaguivFCnw=; b=QtpeAVWoQke89zc/uPh/IiPH1TJWMrrcRm30RSvQ3fVf6ZQBbj/WZrROIWMyIIeCjM 9rJD6ngtkPhW+ynrBKotATnIU7lbhSL0AHNDIkvVDACaVa19KI++vXJTNGZoB/FnjWfg krVt5GBWOcmEVGIOzaSQsPFBzQxzMCyxrEuOc= X-Google-DKIM-Signature: v=1; a=rsa-sha256; c=relaxed/relaxed; d=1e100.net; s=20230601; t=1752065519; x=1752670319; h=references:in-reply-to:cc:to:from:subject:message-id:date :x-gm-message-state:from:to:cc:subject:date:message-id:reply-to; bh=n5BSgGmYVqUGSRPJsrqnSeUwprkJ7E3KfyaguivFCnw=; b=fdE2Wk7WVs7uODoZxsGt2ECJrqilYjvxdwtPmihMpXd0Ds/zuLtv5i9Q7K+5wnxhyt cNfa3LRHmK1RrC7Z2reyWFqIhoE4doXCSMzJl0nK6fjbV4Sy/Gnzh8Z9RzqyVnAGWcJ6 VwfaGcl7rNFZDAnJn5N9Wel2WfNicCJn2xV0M/IOzhUFBHfPw/l/1TDaaPhjSmAuYHvb H09TR2QUXaECLEw0ruWnZy1jOjEA70In+XmKPcRv7i4NChcMI9rT8/4eNKIQ1k/w9CXp S4TKzTmNZN3Rp5CrRuWZGn+sUtwLSryN4n6JvHc0Y3RIHHY6dPIhlBNpA6c4N6qxcbdo lQBw== X-Gm-Message-State: AOJu0YzO6f8cSPawlxpE0H/FpSmABMU1E3kptcsDPXCPpO/Ipne+/QXD bwK9apOayi1ikW26S1K8RK5f8/joqyoo+Viwr1q1BELpg1Zw0ucBwLirTvXM0HWgfn3/pQitZ+x vd+SNP1XnapZPgHn/vDI4I7mi0V+NY5romfJFccYo7pIA X-Gm-Gg: ASbGnctHG38o2M1wx6JpWaoE+NVimCcrGPl/QYZY/5Xs+Ha3v8u31QiP8nIB8jzazKK NDL118hqlMr7mEjgBL+l5CBQFIrM2Gh2ea0KXbgL1rffB8WXFIghMYBiG8FB4qb9tvJluI6e7r9 ELdpDv/HnYQqJAwyC8ThTEvqCMpaYlFDrApjBxyuOWxKzHH+lTdIm7dBrKhbrL8HBkIEs/EDGxM nsxIrC2QXYP7NmfCsxEmoSZqXYRT/51dGvrs5AN7ipg/20Yq2Ad3+JYHmSCN5lbmVw5mBQHv9cw wafHWbCX2Pt55a7GoPrwIGgb4e6sCG9RpBPuL0S43vdVlOAcW3HZRgIfcM7htAS8pFKiPw== X-Google-Smtp-Source: AGHT+IHG+U69HOnNMGwzrQXPF0EN6D7QNGtKSYiZgi0BF5/EN53/eVwC+r5DomriJBSsqVI9v48bwZ/FBz6u X-Received: by 2002:a05:622a:d2:b0:4a4:3be3:6d5e with SMTP id d75a77b69052e-4a9ded3df8amr30041921cf.41.1752065518882; Wed, 09 Jul 2025 05:51:58 -0700 (PDT) Received: from postal.iol.unh.edu (postal.iol.unh.edu. [132.177.123.84]) by smtp-relay.gmail.com with ESMTPS id d75a77b69052e-4a994a9ac79sm5447111cf.23.2025.07.09.05.51.58 (version=TLS1_2 cipher=ECDHE-ECDSA-AES128-GCM-SHA256 bits=128/128); Wed, 09 Jul 2025 05:51:58 -0700 (PDT) X-Relaying-Domain: iol.unh.edu Date: Wed, 09 Jul 2025 05:51:58 -0700 (PDT) Message-ID: <686e65ee.c80a0220.7c081.d703SMTPIN_ADDED_MISSING@mx.google.com> Received: from [172.21.0.7] (unknown [172.18.0.240]) by postal.iol.unh.edu (Postfix) with ESMTP id 71D876051830; Wed, 9 Jul 2025 08:51:58 -0400 (EDT) Subject: |WARNING| pw155086 [PATCH] net/mlx5: fix the queue length checking From: dpdklab@iol.unh.edu To: Test Report Cc: dpdk-test-reports@iol.unh.edu In-Reply-To: <20250709040000.112338-1-bingz@nvidia.com> References: <20250709040000.112338-1-bingz@nvidia.com> Content-Type: text/plain X-BeenThere: test-report@dpdk.org X-Mailman-Version: 2.1.29 Precedence: list List-Id: automatic DPDK test reports List-Unsubscribe: , List-Archive: List-Post: List-Help: List-Subscribe: , Errors-To: test-report-bounces@dpdk.org Test-Label: iol-compile-amd64-testing Test-Status: WARNING http://dpdk.org/patch/155086 _Testing issues_ Submitter: Bing Zhao Date: Wednesday, July 09 2025 04:00:00 DPDK git baseline: Repo:dpdk Branch: master CommitID:e2888614268cbf0abcc7cd72ad97ff4e4901d0a5 155086 --> testing issues Upstream job id: Generic-DPDK-Compile-Meson#407151 Test environment and result as below: +-------------------------------+--------------------+-------------------+-------------------+------------------+ | Environment | dpdk_meson_compile | dpdk_msvc_compile | dpdk_compile_spdk | dpdk_compile_ovs | +===============================+====================+===================+===================+==================+ | Ubuntu 20.04 | PASS | SKIPPED | SKIPPED | SKIPPED | +-------------------------------+--------------------+-------------------+-------------------+------------------+ | FreeBSD 14.2 | PASS | SKIPPED | SKIPPED | SKIPPED | +-------------------------------+--------------------+-------------------+-------------------+------------------+ | CentOS Stream 9 | PASS | SKIPPED | PASS | SKIPPED | +-------------------------------+--------------------+-------------------+-------------------+------------------+ | Debian GNU/Linux 12 | PASS | SKIPPED | PASS | SKIPPED | +-------------------------------+--------------------+-------------------+-------------------+------------------+ | Fedora Linux 40 | PASS | SKIPPED | PASS | SKIPPED | +-------------------------------+--------------------+-------------------+-------------------+------------------+ | Fedora Linux 41 | PASS | SKIPPED | PASS | PASS | +-------------------------------+--------------------+-------------------+-------------------+------------------+ | openSUSE Leap 15.6 | PASS | SKIPPED | SKIPPED | SKIPPED | +-------------------------------+--------------------+-------------------+-------------------+------------------+ | Red Hat Enterprise Linux 8.10 | PASS | SKIPPED | SKIPPED | SKIPPED | +-------------------------------+--------------------+-------------------+-------------------+------------------+ | Red Hat Enterprise Linux 9.5 | PASS | SKIPPED | SKIPPED | SKIPPED | +-------------------------------+--------------------+-------------------+-------------------+------------------+ | Ubuntu 22.04 | PASS | SKIPPED | PASS | SKIPPED | +-------------------------------+--------------------+-------------------+-------------------+------------------+ | Ubuntu 24.04 | PEND | SKIPPED | PEND | PEND | +-------------------------------+--------------------+-------------------+-------------------+------------------+ | Alpine Linux 3.22.0 | PASS | SKIPPED | SKIPPED | SKIPPED | +-------------------------------+--------------------+-------------------+-------------------+------------------+ | Windows Server 2022 | SKIPPED | PASS | SKIPPED | SKIPPED | +-------------------------------+--------------------+-------------------+-------------------+------------------+ Ubuntu 20.04 Kernel: 4.19 Compiler: gcc gcc (Ubuntu 9.4.0-1ubuntu1~20.04.2) 9.4.0 FreeBSD 14.2 Kernel: 14.2-RELEASE Compiler: clang 18.1.6 CentOS Stream 9 Kernel: 5.15 Compiler: gcc gcc (GCC) 11.5.0 20240719 (Red Hat 11.5.0-7) Debian GNU/Linux 12 Kernel: 5.15 Compiler: gcc gcc (Debian 12.2.0-14+deb12u1) 12.2.0 Fedora Linux 40 Kernel: 5.15 Compiler: gcc gcc (GCC) 14.2.1 20240912 (Red Hat 14.2.1-3) Fedora Linux 41 Kernel: 5.15 Compiler: clang gcc (GCC) 14.3.1 20250523 (Red Hat 14.3.1-1) openSUSE Leap 15.6 Kernel: 5.15 Compiler: gcc gcc (SUSE Linux) 7.5.0 Red Hat Enterprise Linux 8.10 Kernel: 5.15 Compiler: gcc gcc (GCC) 8.5.0 20210514 (Red Hat 8.5.0-22) Red Hat Enterprise Linux 9.5 Kernel: 5.15 Compiler: gcc gcc (GCC) 11.5.0 20240719 (Red Hat 11.5.0-2) Ubuntu 22.04 Kernel: 5.15 Compiler: gcc gcc (Ubuntu 11.4.0-1ubuntu1~22.04) 11.4.0 Ubuntu 24.04 Kernel: 5.15 Compiler: gcc gcc (Ubuntu 13.3.0-6ubuntu2~24.04) 13.3.0 Alpine Linux 3.22.0 Kernel: 5.15 Compiler: gcc gcc (Alpine 14.2.0) 14.2.0 Windows Server 2022 Kernel: 10.0.20348.2031 Compiler: clang 15.0.7, gcc 14.1.0 (MinGW), and MSVC VS 19.39.33521 To view detailed results, visit: https://lab.dpdk.org/results/dashboard/patchsets/33619/ UNH-IOL DPDK Community Lab To manage your email subscriptions, visit: https://lab.dpdk.org/results/dashboard/preferences/subscriptions/