From mboxrd@z Thu Jan 1 00:00:00 1970 Return-Path: Received: from mails.dpdk.org (mails.dpdk.org [217.70.189.124]) by inbox.dpdk.org (Postfix) with ESMTP id 9258846B2F for ; Wed, 9 Jul 2025 14:52:23 +0200 (CEST) Received: from mails.dpdk.org (localhost [127.0.0.1]) by mails.dpdk.org (Postfix) with ESMTP id 8BF58402A9; Wed, 9 Jul 2025 14:52:23 +0200 (CEST) Received: from mail-pf1-f227.google.com (mail-pf1-f227.google.com [209.85.210.227]) by mails.dpdk.org (Postfix) with ESMTP id C8D95402A9 for ; Wed, 9 Jul 2025 14:52:21 +0200 (CEST) Received: by mail-pf1-f227.google.com with SMTP id d2e1a72fcca58-74b54cead6cso3607984b3a.1 for ; Wed, 09 Jul 2025 05:52:21 -0700 (PDT) DKIM-Signature: v=1; a=rsa-sha256; c=relaxed/relaxed; d=iol.unh.edu; s=unh-iol; t=1752065541; x=1752670341; darn=dpdk.org; h=references:in-reply-to:cc:to:from:subject:message-id:date:from:to :cc:subject:date:message-id:reply-to; bh=xTjZfjewEXDIj8gd1hO3ZzazH7ktItAX2yHhaKi3XcA=; b=DG90I2748Ez873zxaNqWdD73cBSAIbLoxUgcYxBU9Gat7cijLWhf4jly6sLuMuNpHr dPeAyRx2gSluH+5OXxGMCc+EdZqNUper5+s8n50Y5sh4zLX53y10Ommw5TiAAAjJWiFx FI+EKj9aldKszJ6N3j82xhS2nFxgY4M42tnJ0= X-Google-DKIM-Signature: v=1; a=rsa-sha256; c=relaxed/relaxed; d=1e100.net; s=20230601; t=1752065541; x=1752670341; h=references:in-reply-to:cc:to:from:subject:message-id:date :x-gm-message-state:from:to:cc:subject:date:message-id:reply-to; bh=xTjZfjewEXDIj8gd1hO3ZzazH7ktItAX2yHhaKi3XcA=; b=Nck9x6iRMfDvz3Bx2iEtdynS3YGJl56mz5/S5Zw4X1i1UEHsCiHZh9AXRRagRelM7U 8e5u+8eyd0Nkz5HGFpzkbXCKybwAHPAjnqZp7sVD2vVUHe4dU9BW1LUxedzaUNRRHBvM w3xVQv4ALmQnPwXPn5oqUuvsVa8UVlYiesnVGwZqxnVjdQXVzi7kOeTRPriGjIbqZ51I 92veRIoVM3BHukESWPcPHgV8VLT1M4aUyfqYH1v6MT5/i8yBpm1BmT0N/fhzLhqmwMvi 2H0VQKW+ruVWDMRAiqkgDe4VGZ0B6n+9WA1Mv1unIdMCY603faTJBW0XMyrZiedgWGvP elsw== X-Gm-Message-State: AOJu0YyKltK2sIonB0w6YpLaeTg4UvBKjTWeoRdxTOY7/UOoMmjOKux0 HfFqc4/VbSPJVB377M9OAx9SnQT2qc45roxdxCpHrqAk+5dQrLcrRKbSGqT0h+gZIzNCX20sXdL O9ShPxMUkQkDdSg9OBf1yMrlQzjaOkL14n1FbEx9glVYp X-Gm-Gg: ASbGncuCjdl7otM4GYrw+fYEisFEJYbNff0//6MNzOZP/NoFX285hlZG4JHwO7svvR6 Jtt4dgdLbIMXfTW5e7/pmaE2EWsLe2cdk1XYPZ3trcpgNR11bSn1MVWqfm6scztepW2hUmbyvdt QZByDncZ3PiPxc1rVpU7EcLjfWU3cnedD+lPLJOf82cOIwSgBLKIC1jT0YM+pE8G9dD5dtXQfAY Nq9RHzJxkLkJBM/XEezL0Tf1MefEK9+S/223zXlAbMuucObncMRb4YX7HJJ+MPqH8SIgbylocux OiZgBpjd+8/ABjBYBiA0Ofst2J0q2sm7Y4EfPPrmLKkAFDKZLvyjB0N/qI04ai8p1YZtTg== X-Google-Smtp-Source: AGHT+IGzy5VKdMP6V+Js2asH8zuhoW28le1exGLpdZtKgiRJlVbyVRYAslsGTl8BYZbyYsXUOWsc3rWOwXKw X-Received: by 2002:a05:6a00:2d11:b0:748:e0ee:dcff with SMTP id d2e1a72fcca58-74ea662a974mr3789715b3a.11.1752065540935; Wed, 09 Jul 2025 05:52:20 -0700 (PDT) Received: from postal.iol.unh.edu (postal.iol.unh.edu. [132.177.123.84]) by smtp-relay.gmail.com with ESMTPS id 41be03b00d2f7-b38ee4e7059sm386765a12.20.2025.07.09.05.52.20 (version=TLS1_2 cipher=ECDHE-ECDSA-AES128-GCM-SHA256 bits=128/128); Wed, 09 Jul 2025 05:52:20 -0700 (PDT) X-Relaying-Domain: iol.unh.edu Date: Wed, 09 Jul 2025 05:52:20 -0700 (PDT) Message-ID: <686e6604.050a0220.35dbaf.3e4eSMTPIN_ADDED_MISSING@mx.google.com> Received: from [172.21.0.5] (unknown [172.18.0.240]) by postal.iol.unh.edu (Postfix) with ESMTP id 64E086051830; Wed, 9 Jul 2025 08:52:20 -0400 (EDT) Subject: |WARNING| pw155086 [PATCH] net/mlx5: fix the queue length checking From: dpdklab@iol.unh.edu To: Test Report Cc: dpdk-test-reports@iol.unh.edu In-Reply-To: <20250709040000.112338-1-bingz@nvidia.com> References: <20250709040000.112338-1-bingz@nvidia.com> Content-Type: text/plain X-BeenThere: test-report@dpdk.org X-Mailman-Version: 2.1.29 Precedence: list List-Id: automatic DPDK test reports List-Unsubscribe: , List-Archive: List-Post: List-Help: List-Subscribe: , Errors-To: test-report-bounces@dpdk.org Test-Label: iol-compile-amd64-testing Test-Status: WARNING http://dpdk.org/patch/155086 _Testing issues_ Submitter: Bing Zhao Date: Wednesday, July 09 2025 04:00:00 DPDK git baseline: Repo:dpdk Branch: master CommitID:e2888614268cbf0abcc7cd72ad97ff4e4901d0a5 155086 --> testing issues Upstream job id: Generic-DPDK-Compile-Meson#407143 Test environment and result as below: +-------------------------------+--------------------+-------------------+-------------------+------------------+ | Environment | dpdk_meson_compile | dpdk_msvc_compile | dpdk_compile_spdk | dpdk_compile_ovs | +===============================+====================+===================+===================+==================+ | Ubuntu 20.04 | PASS | SKIPPED | SKIPPED | SKIPPED | +-------------------------------+--------------------+-------------------+-------------------+------------------+ | FreeBSD 14.2 | PASS | SKIPPED | SKIPPED | SKIPPED | +-------------------------------+--------------------+-------------------+-------------------+------------------+ | CentOS Stream 9 | PASS | SKIPPED | PASS | SKIPPED | +-------------------------------+--------------------+-------------------+-------------------+------------------+ | Debian GNU/Linux 12 | PASS | SKIPPED | PASS | SKIPPED | +-------------------------------+--------------------+-------------------+-------------------+------------------+ | Fedora Linux 40 | PASS | SKIPPED | PASS | SKIPPED | +-------------------------------+--------------------+-------------------+-------------------+------------------+ | Fedora Linux 41 | PASS | SKIPPED | PASS | PASS | +-------------------------------+--------------------+-------------------+-------------------+------------------+ | openSUSE Leap 15.6 | PASS | SKIPPED | SKIPPED | SKIPPED | +-------------------------------+--------------------+-------------------+-------------------+------------------+ | Red Hat Enterprise Linux 8.10 | PASS | SKIPPED | SKIPPED | SKIPPED | +-------------------------------+--------------------+-------------------+-------------------+------------------+ | Red Hat Enterprise Linux 9.5 | PASS | SKIPPED | SKIPPED | SKIPPED | +-------------------------------+--------------------+-------------------+-------------------+------------------+ | Ubuntu 22.04 | PASS | SKIPPED | PASS | SKIPPED | +-------------------------------+--------------------+-------------------+-------------------+------------------+ | Ubuntu 24.04 | PEND | SKIPPED | PEND | PEND | +-------------------------------+--------------------+-------------------+-------------------+------------------+ | Alpine Linux 3.22.0 | PASS | SKIPPED | SKIPPED | SKIPPED | +-------------------------------+--------------------+-------------------+-------------------+------------------+ | Windows Server 2022 | SKIPPED | PASS | SKIPPED | SKIPPED | +-------------------------------+--------------------+-------------------+-------------------+------------------+ Ubuntu 20.04 Kernel: 4.19 Compiler: gcc gcc (Ubuntu 9.4.0-1ubuntu1~20.04.2) 9.4.0 FreeBSD 14.2 Kernel: 14.2-RELEASE Compiler: clang 18.1.6 CentOS Stream 9 Kernel: 5.15 Compiler: gcc gcc (GCC) 11.5.0 20240719 (Red Hat 11.5.0-7) Debian GNU/Linux 12 Kernel: 5.15 Compiler: gcc gcc (Debian 12.2.0-14+deb12u1) 12.2.0 Fedora Linux 40 Kernel: 5.15 Compiler: gcc gcc (GCC) 14.2.1 20240912 (Red Hat 14.2.1-3) Fedora Linux 41 Kernel: 5.15 Compiler: clang gcc (GCC) 14.3.1 20250523 (Red Hat 14.3.1-1) openSUSE Leap 15.6 Kernel: 5.15 Compiler: gcc gcc (SUSE Linux) 7.5.0 Red Hat Enterprise Linux 8.10 Kernel: 5.15 Compiler: gcc gcc (GCC) 8.5.0 20210514 (Red Hat 8.5.0-22) Red Hat Enterprise Linux 9.5 Kernel: 5.15 Compiler: gcc gcc (GCC) 11.5.0 20240719 (Red Hat 11.5.0-2) Ubuntu 22.04 Kernel: 5.15 Compiler: gcc gcc (Ubuntu 11.4.0-1ubuntu1~22.04) 11.4.0 Ubuntu 24.04 Kernel: 5.15 Compiler: gcc gcc (Ubuntu 13.3.0-6ubuntu2~24.04) 13.3.0 Alpine Linux 3.22.0 Kernel: 5.15 Compiler: gcc gcc (Alpine 14.2.0) 14.2.0 Windows Server 2022 Kernel: 10.0.20348.2031 Compiler: clang 15.0.7, gcc 14.1.0 (MinGW), and MSVC VS 19.39.33521 To view detailed results, visit: https://lab.dpdk.org/results/dashboard/patchsets/33619/ UNH-IOL DPDK Community Lab To manage your email subscriptions, visit: https://lab.dpdk.org/results/dashboard/preferences/subscriptions/