From mboxrd@z Thu Jan 1 00:00:00 1970 Return-Path: Received: from mails.dpdk.org (mails.dpdk.org [217.70.189.124]) by inbox.dpdk.org (Postfix) with ESMTP id 3111546B2F for ; Wed, 9 Jul 2025 15:04:16 +0200 (CEST) Received: from mails.dpdk.org (localhost [127.0.0.1]) by mails.dpdk.org (Postfix) with ESMTP id 28648402A9; Wed, 9 Jul 2025 15:04:16 +0200 (CEST) Received: from mail-yb1-f225.google.com (mail-yb1-f225.google.com [209.85.219.225]) by mails.dpdk.org (Postfix) with ESMTP id 15881402A9 for ; Wed, 9 Jul 2025 15:04:15 +0200 (CEST) Received: by mail-yb1-f225.google.com with SMTP id 3f1490d57ef6-e8986a25cbfso4236876276.0 for ; Wed, 09 Jul 2025 06:04:15 -0700 (PDT) DKIM-Signature: v=1; a=rsa-sha256; c=relaxed/relaxed; d=iol.unh.edu; s=unh-iol; t=1752066254; x=1752671054; darn=dpdk.org; h=references:in-reply-to:cc:to:from:subject:message-id:date:from:to :cc:subject:date:message-id:reply-to; bh=Y18RHwrNiYxhMRNtpZN0Of7N/i3pKo9O415ZK3MeV2U=; b=MDTJq2NRIo6/N9spBDFjCQopwn2kPa70vW838WZzUlUcOzyGG/63nbO0UVQVRB/kl3 7V7PPS0OM6qdH7PZrNqMICGSTSIUixgjCHbvhkp0iXi4j2WJrr+MBNtov28tW9u0RXbf TUqPGIKZ2zRf4cB6mKRq0Ce0YntA005xsmDSk= X-Google-DKIM-Signature: v=1; a=rsa-sha256; c=relaxed/relaxed; d=1e100.net; s=20230601; t=1752066254; x=1752671054; h=references:in-reply-to:cc:to:from:subject:message-id:date :x-gm-message-state:from:to:cc:subject:date:message-id:reply-to; bh=Y18RHwrNiYxhMRNtpZN0Of7N/i3pKo9O415ZK3MeV2U=; b=CLdTrqWkPaKWioZkGIzZfInyq39+kKKVpwfiwh72O7vhK7y3Y/OGY28aUaNxjOoRbC WFyTssuKvsRGXeagmcAXRJyJ7TOoWFKLi/Nb5s1RsGuZVodMyBip22fxqYpDf9gagsB7 0Lj+H6Kw9DJqoQ7Oyx+7gjE7UJQD4oPzzee30XTT7z9jUxCBOSrfTp48AXc0QPQl4QNi E4GEqorirhvYsQRWfdHqX2l3xHvNMUjROhBOFiuxzUKkwwpm8srwGzZ215GGxB494BGE Zq4kyiAe1/99NSUqlP68VSbWKTkNZAa/BYsPieU2ANk9I5giK3FZpCJQi9ji/VAVHxNQ TUzQ== X-Gm-Message-State: AOJu0YzxiX5sx4n3H60TmMjye4uq/QX36ImWYEfjBnsWlgH6ccOiarBN mRjSHXOR8UaQmM9fHp+J0ePyX8xMFcdXFZ8dmgqiR0EJVOSzXX1r+7QE8nl/6oBTDU0Z9jH2Zxn 1d4swyQgLWlxz5JSU7Zdnczi1RfuCkqMQIr7Rht9TEKS0 X-Gm-Gg: ASbGncvThqMxtzRFJtZt0k9kPvPbvf0HViUzWoCxkadKLj/IW6LaGdo3MpytSKclMgU 8XsXGcLVnLwBhpY/8KZ0Ww1HDCB04HrRQOjvYcxNq+xCO1QFv8Le+/qDlGzBEojUdSQxKZDaoj8 qiT0HZ+JItbisXJ9ibnhOncFdPsuDz0LqnF4ep9xVtuP2wCgwepAVhjqs4Bx9GoiGcV7RHH+trm zwZj4PkSoRrF57Ns6fzmJ+SDkX6NoYcUfJ8VnMy4JR4P6g2dTlXgtl2k86p5PXTZ1UyA+2kBacq jqsMQhxHsuDsc9SoWvzaahpcSse9/ZiGRJl1N/M+irkO8jJ57K1Jzb0qua6AMseD26+9ow== X-Google-Smtp-Source: AGHT+IG88duc3wT3km7M9DZmZLYI75CIcQ0plhKF5yK7GRw3X6i70ucoluYAwTel6QYSw7HD+dAEkptcbcq+ X-Received: by 2002:a05:6902:1108:b0:e84:38b2:f605 with SMTP id 3f1490d57ef6-e8b6e0bb39bmr3466374276.10.1752066254215; Wed, 09 Jul 2025 06:04:14 -0700 (PDT) Received: from postal.iol.unh.edu (postal.iol.unh.edu. [132.177.123.84]) by smtp-relay.gmail.com with ESMTPS id 3f1490d57ef6-e899c4676aesm626189276.26.2025.07.09.06.04.14 (version=TLS1_2 cipher=ECDHE-ECDSA-AES128-GCM-SHA256 bits=128/128); Wed, 09 Jul 2025 06:04:14 -0700 (PDT) X-Relaying-Domain: iol.unh.edu Date: Wed, 09 Jul 2025 06:04:14 -0700 (PDT) Message-ID: <686e68ce.250a0220.346ff8.0c00SMTPIN_ADDED_MISSING@mx.google.com> Received: from [172.21.0.6] (unknown [172.18.0.240]) by postal.iol.unh.edu (Postfix) with ESMTP id D72D9604D420; Wed, 9 Jul 2025 09:04:13 -0400 (EDT) Subject: |WARNING| pw155084 [PATCH] [RFC] add hints to CLAUDE From: dpdklab@iol.unh.edu To: Test Report Cc: dpdk-test-reports@iol.unh.edu In-Reply-To: <20250708190957.10108-1-stephen@networkplumber.org> References: <20250708190957.10108-1-stephen@networkplumber.org> Content-Type: text/plain X-BeenThere: test-report@dpdk.org X-Mailman-Version: 2.1.29 Precedence: list List-Id: automatic DPDK test reports List-Unsubscribe: , List-Archive: List-Post: List-Help: List-Subscribe: , Errors-To: test-report-bounces@dpdk.org Test-Label: iol-compile-amd64-testing Test-Status: WARNING http://dpdk.org/patch/155084 _Testing issues_ Submitter: Stephen Hemminger Date: Tuesday, July 08 2025 19:09:41 DPDK git baseline: Repo:dpdk Branch: master CommitID:e90979eebbea093f6bab2d7c222fc5f5c9a85eff 155084 --> testing issues Upstream job id: Windows-Compile-DPDK-Native#29672 Test environment and result as below: +-------------------------------+--------------------+-------------------+------------------+-------------------+-------------------------+ | Environment | dpdk_meson_compile | dpdk_compile_spdk | dpdk_compile_ovs | dpdk_msvc_compile | dpdk_llvm_clang_compile | +===============================+====================+===================+==================+===================+=========================+ | Ubuntu 20.04 | PASS | SKIPPED | SKIPPED | SKIPPED | SKIPPED | +-------------------------------+--------------------+-------------------+------------------+-------------------+-------------------------+ | FreeBSD 14.2 | PASS | SKIPPED | SKIPPED | SKIPPED | SKIPPED | +-------------------------------+--------------------+-------------------+------------------+-------------------+-------------------------+ | CentOS Stream 9 | PASS | PASS | SKIPPED | SKIPPED | SKIPPED | +-------------------------------+--------------------+-------------------+------------------+-------------------+-------------------------+ | CentOS Stream 10 | PASS | SKIPPED | SKIPPED | SKIPPED | SKIPPED | +-------------------------------+--------------------+-------------------+------------------+-------------------+-------------------------+ | Debian GNU/Linux 12 | PASS | PASS | SKIPPED | SKIPPED | SKIPPED | +-------------------------------+--------------------+-------------------+------------------+-------------------+-------------------------+ | Fedora Linux 40 | PASS | PASS | SKIPPED | SKIPPED | SKIPPED | +-------------------------------+--------------------+-------------------+------------------+-------------------+-------------------------+ | Fedora Linux 41 | PASS | PASS | PASS | SKIPPED | SKIPPED | +-------------------------------+--------------------+-------------------+------------------+-------------------+-------------------------+ | Red Hat Enterprise Linux 8.10 | PASS | SKIPPED | SKIPPED | SKIPPED | SKIPPED | +-------------------------------+--------------------+-------------------+------------------+-------------------+-------------------------+ | Red Hat Enterprise Linux 9.5 | PASS | SKIPPED | SKIPPED | SKIPPED | SKIPPED | +-------------------------------+--------------------+-------------------+------------------+-------------------+-------------------------+ | Ubuntu 24.04 | PASS | PASS | PASS | SKIPPED | SKIPPED | +-------------------------------+--------------------+-------------------+------------------+-------------------+-------------------------+ | Alpine Linux 3.22.0 | PASS | SKIPPED | SKIPPED | SKIPPED | SKIPPED | +-------------------------------+--------------------+-------------------+------------------+-------------------+-------------------------+ | Ubuntu 22.04 | PASS | PASS | SKIPPED | SKIPPED | SKIPPED | +-------------------------------+--------------------+-------------------+------------------+-------------------+-------------------------+ | openSUSE Leap 15.6 | PASS | SKIPPED | SKIPPED | SKIPPED | SKIPPED | +-------------------------------+--------------------+-------------------+------------------+-------------------+-------------------------+ | Windows Server 2022 | SKIPPED | SKIPPED | SKIPPED | PASS | PASS | +-------------------------------+--------------------+-------------------+------------------+-------------------+-------------------------+ Ubuntu 20.04 Kernel: 4.19 Compiler: gcc gcc (Ubuntu 9.4.0-1ubuntu1~20.04.2) 9.4.0 FreeBSD 14.2 Kernel: 14.2-RELEASE Compiler: clang 18.1.6 CentOS Stream 9 Kernel: 5.15 Compiler: gcc gcc (GCC) 11.5.0 20240719 (Red Hat 11.5.0-7) CentOS Stream 10 Kernel: 5.15 Compiler: gcc gcc (GCC) 14.2.1 20250110 (Red Hat 14.2.1-8) Debian GNU/Linux 12 Kernel: 5.15 Compiler: gcc gcc (Debian 12.2.0-14+deb12u1) 12.2.0 Fedora Linux 40 Kernel: 5.15 Compiler: clang gcc (GCC) 14.2.1 20240912 (Red Hat 14.2.1-3) Fedora Linux 41 Kernel: 5.15 Compiler: clang gcc (GCC) 14.3.1 20250523 (Red Hat 14.3.1-1) Red Hat Enterprise Linux 8.10 Kernel: 5.15 Compiler: gcc gcc (GCC) 8.5.0 20210514 (Red Hat 8.5.0-22) Red Hat Enterprise Linux 9.5 Kernel: 5.15 Compiler: gcc gcc (GCC) 11.5.0 20240719 (Red Hat 11.5.0-2) Ubuntu 24.04 Kernel: 5.15 Compiler: gcc gcc (Ubuntu 13.3.0-6ubuntu2~24.04) 13.3.0 Alpine Linux 3.22.0 Kernel: 5.15 Compiler: gcc gcc (Alpine 14.2.0) 14.2.0 Ubuntu 22.04 Kernel: 5.15 Compiler: gcc gcc (Ubuntu 11.4.0-1ubuntu1~22.04) 11.4.0 openSUSE Leap 15.6 Kernel: 5.15 Compiler: gcc gcc (SUSE Linux) 7.5.0 Windows Server 2022 Kernel: 10.0.20348.2031 Compiler: clang 15.0.7, gcc 14.1.0 (MinGW), and MSVC VS 19.39.33521 To view detailed results, visit: https://lab.dpdk.org/results/dashboard/patchsets/33617/ UNH-IOL DPDK Community Lab To manage your email subscriptions, visit: https://lab.dpdk.org/results/dashboard/preferences/subscriptions/